BEGIN:VCALENDAR
VERSION:2.0
PRODID:-//Ayuntamiento de Mieres - ECPv5.16.1.1//NONSGML v1.0//EN
CALSCALE:GREGORIAN
METHOD:PUBLISH
X-WR-CALNAME:Ayuntamiento de Mieres
X-ORIGINAL-URL:https://www.mieres.es
X-WR-CALDESC:Eventos para Ayuntamiento de Mieres
BEGIN:VTIMEZONE
TZID:Europe/Madrid
BEGIN:DAYLIGHT
TZOFFSETFROM:+0100
TZOFFSETTO:+0200
TZNAME:CEST
DTSTART:20250330T010000
END:DAYLIGHT
BEGIN:STANDARD
TZOFFSETFROM:+0200
TZOFFSETTO:+0100
TZNAME:CET
DTSTART:20251026T010000
END:STANDARD
END:VTIMEZONE
BEGIN:VEVENT
DTSTART;TZID=Europe/Madrid:20251004T080000
DTEND;TZID=Europe/Madrid:20251004T210000
DTSTAMP:20260421T090405
CREATED:20250916T115910Z
LAST-MODIFIED:20250916T115910Z
UID:75611-1759564800-1759611600@www.mieres.es
SUMMARY:XX Rallye Montaña Central
DESCRIPTION:  \nLa Escudería Turón Arrass alcanza la vigésima edición de este Rallye Montaña Central\, que vuelve a ser referencia del mundo del motor asturiano\, con tramos en El Padrún\, Espinos\, Muñón y La Collada. \n Reglamento Particular\n Programa\n Itinerario – Horario\n Roadbook\n  \nTRAMOS\nTC 1 / TC 3     PADRÚN      7\,81 Km\nCierre de Carretera > 7:33 h\n Mapa\n On Board\nTC 2 / TC 4    ESPINOS     10\,29 Km\nCierre de Carretera > 8:16 h\n Mapa\n On Board\nTC 5 / TC 7    MUÑÓN    11\,92 Km\nCierre de Carretera > 14:30 h\n Mapa\n On Board\nTC 6 / TC 8   LA COLLADA      15\,37 KM\nCierre de Carretera > 15:03 h\n Mapa\n On Board\n\n\n Mapa General\nItinerario\n  \nPueden consultar los horarios previstos para cada uno de los tramos cronometrados\, completar información y realizar un seguimiento en directo\, on line\, de los tiempos y clasificaciones del Rallye a través de la web de Turón Arras (www.rallyemc.com). \n\nHORARIOS\n\n 
URL:https://www.mieres.es/evento/xx-rallye-montana-central/
LOCATION:Carreteras del concejo
CATEGORIES:Deportes
ATTACH;FMTTYPE=image/jpeg:https://www.mieres.es/wp-content/uploads/2025/09/CARTEL-RALLY-MONTANA-CENTRAL.jpg
ORGANIZER;CN="Escuder%C3%ADa%20Tur%C3%B3n%20Arrass":MAILTO:rallyemcentral@gmail.com
END:VEVENT
END:VCALENDAR