BEGIN:VCALENDAR
VERSION:2.0
PRODID:-//Ayuntamiento de Mieres - ECPv5.16.1.1//NONSGML v1.0//EN
CALSCALE:GREGORIAN
METHOD:PUBLISH
X-WR-CALNAME:Ayuntamiento de Mieres
X-ORIGINAL-URL:https://www.mieres.es
X-WR-CALDESC:Eventos para Ayuntamiento de Mieres
BEGIN:VTIMEZONE
TZID:Europe/Madrid
BEGIN:DAYLIGHT
TZOFFSETFROM:+0100
TZOFFSETTO:+0200
TZNAME:CEST
DTSTART:20250330T010000
END:DAYLIGHT
BEGIN:STANDARD
TZOFFSETFROM:+0200
TZOFFSETTO:+0100
TZNAME:CET
DTSTART:20251026T010000
END:STANDARD
END:VTIMEZONE
BEGIN:VEVENT
DTSTART;VALUE=DATE:20251102
DTEND;VALUE=DATE:20251103
DTSTAMP:20260421T072546
CREATED:20251029T124305Z
LAST-MODIFIED:20251029T124305Z
UID:76360-1762041600-1762127999@www.mieres.es
SUMMARY:Agenda deportiva fin de semana (30OCT/2NOV2025)
DESCRIPTION:  \n \n\n\n\n01/11/2025\n20:00h.\nPABELLON VISIOLA ROLLAN\nLIGA BRONCE\nC.P.MIERES – CDM HP\n\n\n\n \n\n\n\n01/11/2025\n10:00h.\nELISEO GUTIERREZ ESPINA\n2º CADETE LIGA\nCAUDAL DEPORTIVO A – U.D. GIJON INDUSTRIAL B\n\n\n01/11/2025\n12:30h.\nELISEO GUTIERREZ ESPINA\n2º INFANTIL\nCAUDAL DEPORTIVO B – ASUNCION C.F. A \n\n\n01/11/2025\n15:00h.\nELISEO GUTIERREZ ESPINA\n3º JUVENIL\nCAUDAL DEPORTIVO B – A.C.D ALCAVA B\n\n\n02/11/2025\n17:00h.\nHERMANOS ANTUÑA\nTERCERA FEDERACIÓN\nCAUDAL DEPORTIVO  – AVILÉS STADIUM C.F. A\n\n\n\n \n\n\n\n30/10/2025\n19:15h.\nPOLIDEPORTIVO UJO\n2º PREBENJAMIN\nCAUDAL DEPORTIVO A – RACING DE MIERES A\n\n\n\n \n  \n 
URL:https://www.mieres.es/evento/agenda-deportiva-fin-de-semana-30oct-2nov2025-2/
LOCATION:Varias ubicaciones
CATEGORIES:Agenda Deportiva,Deportes
ATTACH;FMTTYPE=image/jpeg:https://www.mieres.es/wp-content/uploads/2025/03/agenda-deportiva-web.jpg
END:VEVENT
BEGIN:VEVENT
DTSTART;TZID=Europe/Madrid:20251102T160000
DTEND;TZID=Europe/Madrid:20251102T160000
DTSTAMP:20260421T072546
CREATED:20251015T090619Z
LAST-MODIFIED:20251015T090619Z
UID:76064-1762099200-1762099200@www.mieres.es
SUMMARY:I Torneo de Ajedrez FreeStyle Mieres
DESCRIPTION:Ajedrez \nI Torneo de Ajedrez FreeStyle Mieres\nMieres Centru Cultural \n2 de noviembre de 2025\, a partir de las 16:00h. \n\n  \nINSCRIPCIÓN 5€ (hasta el 31 de octubre). \nInformación y seguimiento del torneo: I Torneo de Ajedrez FreeStyle Mieres – info64.org \n 
URL:https://www.mieres.es/evento/i-torneo-de-ajedrez-freestyle-mieres/
LOCATION:Mieres Centru Cultural\, Calle Jerónimo Ibrán\, 10\, Mieres\, Asturias\, 33600
CATEGORIES:Deportes
ATTACH;FMTTYPE=image/jpeg:https://www.mieres.es/wp-content/uploads/2025/10/Cartel-ajedrez-freestyle.jpg
END:VEVENT
END:VCALENDAR