BEGIN:VCALENDAR
VERSION:2.0
PRODID:-//Ayuntamiento de Mieres - ECPv5.16.1.1//NONSGML v1.0//EN
CALSCALE:GREGORIAN
METHOD:PUBLISH
X-WR-CALNAME:Ayuntamiento de Mieres
X-ORIGINAL-URL:https://www.mieres.es
X-WR-CALDESC:Eventos para Ayuntamiento de Mieres
BEGIN:VTIMEZONE
TZID:Europe/Madrid
BEGIN:DAYLIGHT
TZOFFSETFROM:+0100
TZOFFSETTO:+0200
TZNAME:CEST
DTSTART:20250330T010000
END:DAYLIGHT
BEGIN:STANDARD
TZOFFSETFROM:+0200
TZOFFSETTO:+0100
TZNAME:CET
DTSTART:20251026T010000
END:STANDARD
END:VTIMEZONE
BEGIN:VEVENT
DTSTART;TZID=Europe/Madrid:20251227T160000
DTEND;TZID=Europe/Madrid:20251227T160000
DTSTAMP:20260421T061946
CREATED:20251226T101702Z
LAST-MODIFIED:20251226T101702Z
UID:77119-1766851200-1766851200@www.mieres.es
SUMMARY:Fútbol-sala: Torneo de navidad triangular solidario PBT
DESCRIPTION:Fútbol sala \nTorneo de Navidad\nTriangular solidario PBT\nPolideportivo de Turón\nSábado\, 27 de diciembre de 2025\, de 16 a 21h. \n\n 
URL:https://www.mieres.es/evento/futbol-sala-torneo-de-navidad-triangular-solidario-pbt/
LOCATION:Polideportivo de Turón\, Plaza El Parque\, La Veguina\, Turón\, Asturias\, 33610
CATEGORIES:Deportes
ATTACH;FMTTYPE=image/jpeg:https://www.mieres.es/wp-content/uploads/2025/12/torneo-futbol-sala-navidad-turon-2025.jpg
END:VEVENT
BEGIN:VEVENT
DTSTART;TZID=Europe/Madrid:20251227T170000
DTEND;TZID=Europe/Madrid:20251227T170000
DTSTAMP:20260421T061946
CREATED:20251027T122307Z
LAST-MODIFIED:20251027T122307Z
UID:76277-1766854800-1766854800@www.mieres.es
SUMMARY:XXXI San Silvestre Villa de Mieres 2025
DESCRIPTION:Inscripciones\nA través de la plataforma www.321go.es \nPrecio 5€ \n  \nHorario y lugar de la prueba \nC/ Ramón y Cajal\, frente al Ayuntamiento de Mieres.\nInicio: 17:00 horas para las pruebas menores. A continuación prueba adultos. Cierre meta: 20:30 horas \n  \nRecogida de dorsal \n\n\n\n\nDía 26/12/2025 en LAS OFICINAS DEL CLUB ATLETISMO MIERES (Estadio Municipal Hermanos Antuña de Mieres) de 17:00 a 20:00 horas.\nDía 27/12/2025 en LÍNEA DE SALIDA (PLAZA DE LA CONSTITUCIÓN) hasta 1 hora antes del comienzo de la prueba\n\nCategorías  \n▪ Chupetines m/f 2021-22-23-24-25\n▪ Mini-benjamín m/f 2018-2019-2020\n▪ Benjamines m/f 2016-2017\n▪ Alevines m/f 2014-2015\n▪ Infantiles m/f 2012-2013\n▪ Cadetes m/f 2010-2011\n▪ juveniles m/f 2008-2009\n▪ Senior m/f de 18 hasta 34 años\n▪ Veteranos/as A 35 a 39 años\n▪ Veteranos/as B 40 a 44 años\n▪ Veteranos/as C 45 a 49 años\n▪ Veteranos/as D 50 a 54 años\n▪ Veteranos/as E 55 a 59 años\n▪ Veteranos/as F 60 a 64 años\n▪ Veteranos/as G más de 65 años \n  \nRecorridos \n\nCategoría Chupetín: recta de 50 m en Calle Ramón y Cajal. \nCategoría Mini-benjamín: recta de 150 m en Calle Ramón y Cajal. \nCategoría Benjamín: 1 vuelta al recorrido 500 m en Calle Ramón y Cajal. \nCategoría alevín: 1 vuelta al recorrido 500 m en Calle Ramón y Cajal. \nCategoría Infantil: 1 vuelta al recorrido 900 m en Calle Ramón y Cajal. \nCategoría Cadete:1 vuelta al circuito de 2500 m. \nResto de categorías:  2.500 METROS (2 vueltas\, total 5.000 mts) \nSALIDA EN C/RAMON Y CAJAL FRENTE AYUNTAMIENTO (Plaza de la Constitución\, dirección Bario Bazuelo) – BARRIO BAZUELO – GIRO A LA DERECHA POR BARRIO BAZUELO PARA CONTINUAR DETRÁS DEL EDIFICIO DE LA UNIVERSIDAD HASTA CALLE RECTOR JULIO RODRÍGUEZ – GIRO IZQUIERDA EN CALLE RECTOR JULIO RODRÍGUEZ – GIRO A LA DERECHA EN CALLE GONZALO GUTIERREZ QUIRÓS – EN ROTONDA DE FRENTE POR CALLE VALERIANO MIRANDA – GIRO A LA DERECHA PARA TOMAR CALLE LEOPOLDO ALAS CLARIN-GIRO A LA DERECHA EN C/RAMON Y CAJAL LINEA DE META FRENTE A LA PLAZA DE LA CONSTITUCIÓN \nServicios sanitarios \n-La prueba dispondrá de servicio médico y ambulancias\, para cubrir el desarrollo de la carrera y la llegada. \nControl de bebidas \n-En la línea de meta\, los atletas dispondrán de bebidas para una buena recuperación de las reservas energéticas perdidas durante la carrera. \nCarteles indicadores \n-Cada Kilómetro estará jalonado con un cartel que indicará a los participantes la distancia recorrida. \n\n  \n\n\nDescargar Reglamento de la Carrera (PDF)
URL:https://www.mieres.es/evento/xxxi-san-silvestre-villa-de-mieres-2025/
LOCATION:Plaza del Ayuntamiento\, Plaza de la Constitución s/n\, Mieres\, 33600
CATEGORIES:Deportes
ATTACH;FMTTYPE=image/jpeg:https://www.mieres.es/wp-content/uploads/2025/10/san-silvestre-mieres-2025.jpg
ORGANIZER;CN="Club%20Atletismo%20Mieres":MAILTO:atletismomieres@hotmail.com
GEO:43.2489616;-5.7726903
X-APPLE-STRUCTURED-LOCATION;VALUE=URI;X-ADDRESS=Plaza del Ayuntamiento Plaza de la Constitución s/n Mieres 33600;X-APPLE-RADIUS=500;X-TITLE=Plaza de la Constitución s/n:geo:-5.7726903,43.2489616
END:VEVENT
END:VCALENDAR