BEGIN:VCALENDAR
VERSION:2.0
PRODID:-//Ayuntamiento de Mieres - ECPv5.16.1.1//NONSGML v1.0//EN
CALSCALE:GREGORIAN
METHOD:PUBLISH
X-WR-CALNAME:Ayuntamiento de Mieres
X-ORIGINAL-URL:https://www.mieres.es
X-WR-CALDESC:Eventos para Ayuntamiento de Mieres
BEGIN:VTIMEZONE
TZID:Europe/Madrid
BEGIN:DAYLIGHT
TZOFFSETFROM:+0100
TZOFFSETTO:+0200
TZNAME:CEST
DTSTART:20250330T010000
END:DAYLIGHT
BEGIN:STANDARD
TZOFFSETFROM:+0200
TZOFFSETTO:+0100
TZNAME:CET
DTSTART:20251026T010000
END:STANDARD
END:VTIMEZONE
BEGIN:VEVENT
DTSTART;TZID=Europe/Madrid:20251228T093000
DTEND;TZID=Europe/Madrid:20251228T093000
DTSTAMP:20260421T060412
CREATED:20251204T114345Z
LAST-MODIFIED:20251204T115124Z
UID:76800-1766914200-1766914200@www.mieres.es
SUMMARY:San Silvestre BTT. Mieres 2025
DESCRIPTION:V Ruta BTT\nSan Silvestre\nMieres 2025\n28 de diciembre de 2025 • 09:30h.\nSalida y llegada en la Plaza del Ayuntamiento de Mieres\n \nEl recorrido transcurre por la zona del monte Llosorio y el valle de Cuna \n  \nDistancia: 25km. • Desnivel: 900m. • Dificultad: Media\nLa prueba tendrá avituallamientos en dos zonas • Prueba no competitiva \nInscripciones gratuitas online a través de la plataforma  https://inscripciones.empa-t.com/ \n(Plazo de inscripción Del 30 nov. 2025 a las 10:00 al 22 dic. 2025 a las 23:59) \n  \n\n  \n\n\n\n 
URL:https://www.mieres.es/evento/san-silvestre-btt-mieres-2025/
LOCATION:Plaza del Ayuntamiento\, Plaza de la Constitución s/n\, Mieres\, 33600
CATEGORIES:Deportes
ATTACH;FMTTYPE=image/jpeg:https://www.mieres.es/wp-content/uploads/2025/12/cartel-san-silvestre-btt-2025-mieres.jpg
GEO:43.2489616;-5.7726903
X-APPLE-STRUCTURED-LOCATION;VALUE=URI;X-ADDRESS=Plaza del Ayuntamiento Plaza de la Constitución s/n Mieres 33600;X-APPLE-RADIUS=500;X-TITLE=Plaza de la Constitución s/n:geo:-5.7726903,43.2489616
END:VEVENT
END:VCALENDAR