BEGIN:VCALENDAR
VERSION:2.0
PRODID:-//Ayuntamiento de Mieres - ECPv5.16.1.1//NONSGML v1.0//EN
CALSCALE:GREGORIAN
METHOD:PUBLISH
X-WR-CALNAME:Ayuntamiento de Mieres
X-ORIGINAL-URL:https://www.mieres.es
X-WR-CALDESC:Eventos para Ayuntamiento de Mieres
BEGIN:VTIMEZONE
TZID:Europe/Madrid
BEGIN:DAYLIGHT
TZOFFSETFROM:+0100
TZOFFSETTO:+0200
TZNAME:CEST
DTSTART:20220327T010000
END:DAYLIGHT
BEGIN:STANDARD
TZOFFSETFROM:+0200
TZOFFSETTO:+0100
TZNAME:CET
DTSTART:20221030T010000
END:STANDARD
END:VTIMEZONE
BEGIN:VEVENT
DTSTART;TZID=Europe/Madrid:20220402T100000
DTEND;TZID=Europe/Madrid:20220402T190000
DTSTAMP:20260423T072253
CREATED:20220330T085212Z
LAST-MODIFIED:20220330T093729Z
UID:52897-1648893600-1648926000@www.mieres.es
SUMMARY:XV Concurso Anual de Ganado
DESCRIPTION:XV Concurso Anual de Ganado\nAsturiana de los Valles. Asturiana de la Montaña. \n  \n10:00.- Fase de calificación\n18:00.- Entrega de Premios \n  \nRecinto Ferial de Santuyano \nMás información en los tfnos. 985466111(ext. 622) o 985468431\,  o a través del correo electrónico mediorural@ayto-mieres.es \n\n  \nLos próximos 1 y 2 de abril se celebrará el XV CONCURSO ANUAL DE GANADO\, concurso en el que se reúnen los mejores ejemplares bovinos  de la raza Asturiana de los Valles y Asturiana de la Montaña del Concejo. \nLa entrada de los animales comenzará el viernes a partir de las 16:00h y hasta las 20:00h\, periodo durante el cual los interesados podrán acercarse al recinto a disfrutar de la exposición. Posteriormente\, el sábado a las 10:00h se iniciará la fase de calificación\, en la que se contará con jueces expertos en la morfología de las razas para determinar a los mejores ejemplares de cada una de las distintas secciones (becerros\, becerras\, novillos\, novillas\, toros y vacas jóvenes\, intermedias y adultas). Posteriormente\, y hasta las 18.00h se podrá disfrutar nuevamente de  la exposición de los animales\, esta vez\, con el conocimiento ya de los fallos del jurado. \n  \nBases disponibles en: \nhttps://www.mieres.es/areas-municipales/medio-rural/concurso-anual-de-ganado-bases-reguladoras/ \n  \n\n 
URL:https://www.mieres.es/evento/xv-concurso-anual-de-ganado-2/
LOCATION:Recinto Ferial de Santuyano
CATEGORIES:Feria
ATTACH;FMTTYPE=image/jpeg:https://www.mieres.es/wp-content/uploads/2022/02/CARTEL-XV-concurso-anual-de-ganado.jpg
END:VEVENT
END:VCALENDAR