BEGIN:VCALENDAR
VERSION:2.0
PRODID:-//Ayuntamiento de Mieres - ECPv5.16.1.1//NONSGML v1.0//EN
CALSCALE:GREGORIAN
METHOD:PUBLISH
X-WR-CALNAME:Ayuntamiento de Mieres
X-ORIGINAL-URL:https://www.mieres.es
X-WR-CALDESC:Eventos para Ayuntamiento de Mieres
BEGIN:VTIMEZONE
TZID:Europe/Madrid
BEGIN:DAYLIGHT
TZOFFSETFROM:+0100
TZOFFSETTO:+0200
TZNAME:CEST
DTSTART:20220327T010000
END:DAYLIGHT
BEGIN:STANDARD
TZOFFSETFROM:+0200
TZOFFSETTO:+0100
TZNAME:CET
DTSTART:20221030T010000
END:STANDARD
END:VTIMEZONE
BEGIN:VEVENT
DTSTART;TZID=Europe/Madrid:20220612T110000
DTEND;TZID=Europe/Madrid:20220612T200000
DTSTAMP:20260423T031500
CREATED:20220602T104453Z
LAST-MODIFIED:20220602T104453Z
UID:53962-1655031600-1655064000@www.mieres.es
SUMMARY:Festimarket Mieres 2022
DESCRIPTION: FESTIMARKET 2022\nV Feria de Cine\, Música y Coleccionismo \nV Jornadas de Cine \nEspecial X Aniversario FICAST \nIII Market Retro y Artesano \nXona de Juego \nEncuentro Literario \n\n\n\n\n\n\n\n\n\nRecinto Ferial de Santuyano \nHorarios:\nViernes 10 de junio de 16.00 a 21.00 h\nSábado 11 de junio de 11.00 a 21.00 h\nDomingo 12 de junio de 11.00 a 20.00 h \nEntrada: 2 € (Válida para todo el din de semana) \n\nTras el parón forzoso a causa de la pandemia\, Festimarket regresa a Mieres con una nueva edición que recupera las Jornadas de cine\, así como las ferias y mercadillos retro\, cine\, música… \nEl evento tendrá lugar los días 10\, 11 y 12 de junio en el Recinto Ferial de Mieres\, y se enmarca dentro de la propuesta de actividades de San Xuan 22. El viernes 10 de junio\, a las 16.00 h se abrirán las puertas en el Recinto Ferial de Mieres para disfrutar de todas las actividades y propuestas que llegan en este certamen. \nEn el apartado ferial\, se reunirán medio centenar de expositores de diferentes temáticas que van desde el coleccionismo y las antigüedades\, pasando por la artesanía y el arte\, así como también gastronomía. Además\, como en ediciones anteriores\, se ofrecerá un espacio de trueque e intercambio para toda aquella persona que le apetezca o quiera intercambiar sus colecciones o sencillamente hacer una quedada y enseñarlas. \nExposiciones precisamente tampoco faltarán en esta edición\, los visitantes podrán disfrutar de una exposición sobre el videojuego Street Fighter\, con un gran número de figuras de los personajes; también habrá una exposición dedicada a los coches de la saga de cine Fast And Furious y una colección de juguetes antiguos. \nEl artista Aitor Ruiz ofrecerá además una exposición de cuadros\, “Los nuevos mitos”\, en donde se repasa la evolución y el cambio social y cultural teniendo un papel fundamental en el mismo las nuevas tecnologías. Una exposición donde se unen personajes de animación como Goku o Naruto; iconos del cine como Bruce Lee o personajes de cómic como Batman. \nTambién se realizará una exposición homenaje a los 10 años de Feria Internacional de Coleccionismo de Asturias (FICAST) a cargo del coleccionista mierense Francisco Jurado\, una gran muestra donde se recordarán todas las exposiciones temáticas que han estado presentes en la misma: Historia del cine\, de la música\, de la escuela en España\, la Censura\, Carteles y programas de mano… \nEn el evento también estarán presentes los miembros de la asociación ORDEN 66 de Star Wars\, que ofrecerán no solo exposiciones sobre la saga sino también actividades de animación\, y también habrá espacio para la literatura\, diferentes autores de novela indie y autopublicada dispondrán de ejemplares y firmarán sus obras. \nAdemás\, habrá un espacio dedicado a los videojuegos con una oferta de videoconsolas y tecnología sin olvidar la nueva edición de las Jornadas de cine ya que durante el fin de semana se programarán las cintas: La Presa\, de Walter Hill; ( )\, Ópera prima de Thomas Carter; ( ̈) de Bernhard Wicki y ( )\, dirigida por Dino Risi. \nFestimarket regresa organizado de nuevo por la Asociación Cultural OCEN y la Concejalía de Festejos de Mieres. \n  \nHorarios de las Jornadas de cine: \n\nViernes 10 a las 18.00 h – La Presa\nSábado 11 a las 17.00 h – Rebeldes del Swing\nSábado 11 a las 19.30 h – El Puente\nDomingo 12 a las 18.00 h – La Escapada\n\n  \n 
URL:https://www.mieres.es/evento/festimarket-mieres-2022-3/
LOCATION:Recinto Ferial de Santuyano
CATEGORIES:Cine,Exposiciones,Feria
ATTACH;FMTTYPE=image/jpeg:https://www.mieres.es/wp-content/uploads/2022/06/FESTIMARKET-2022-cartel.jpg
ORGANIZER;CN="OCEN":MAILTO:asociacionocen@gmail.com
END:VEVENT
END:VCALENDAR