BEGIN:VCALENDAR
VERSION:2.0
PRODID:-//Ayuntamiento de Mieres - ECPv5.16.1.1//NONSGML v1.0//EN
CALSCALE:GREGORIAN
METHOD:PUBLISH
X-WR-CALNAME:Ayuntamiento de Mieres
X-ORIGINAL-URL:https://www.mieres.es
X-WR-CALDESC:Eventos para Ayuntamiento de Mieres
BEGIN:VTIMEZONE
TZID:Europe/Madrid
BEGIN:DAYLIGHT
TZOFFSETFROM:+0100
TZOFFSETTO:+0200
TZNAME:CEST
DTSTART:20220327T010000
END:DAYLIGHT
BEGIN:STANDARD
TZOFFSETFROM:+0200
TZOFFSETTO:+0100
TZNAME:CET
DTSTART:20221030T010000
END:STANDARD
END:VTIMEZONE
BEGIN:VEVENT
DTSTART;TZID=Europe/Madrid:20221029T090000
DTEND;TZID=Europe/Madrid:20221029T140000
DTSTAMP:20260422T210203
CREATED:20221010T112857Z
LAST-MODIFIED:20221010T113044Z
UID:59303-1667034000-1667052000@www.mieres.es
SUMMARY:XXIX Muestra Nacional de animales de libro genealógico. Subasta Nac. de Asturiana de los Valles
DESCRIPTION:XXIX Muestra Nacional de animales de libro genealógico\nSubasta Nacional de Asturiana de los Valles\n  \nSubasta el sábado 29 a las 11.00h. \n  \nRecinto Ferial de Santuyano \nMás información en www.aseava.com y en los tfnos. 985466111(ext. 622) o 985468431\,  o a través del correo electrónico mediorural@ayto-mieres.es \n\n 
URL:https://www.mieres.es/evento/xxix-muestra-nacional-de-animales-de-libro-genealogico-subasta-nac-de-asturiana-de-los-valles/
LOCATION:Recinto Ferial de Santuyano
CATEGORIES:Feria
ATTACH;FMTTYPE=image/jpeg:https://www.mieres.es/wp-content/uploads/2022/10/CartelSubastaNacMieres22-1200.jpg
END:VEVENT
END:VCALENDAR