BEGIN:VCALENDAR
VERSION:2.0
PRODID:-//Ayuntamiento de Mieres - ECPv5.16.1.1//NONSGML v1.0//EN
CALSCALE:GREGORIAN
METHOD:PUBLISH
X-WR-CALNAME:Ayuntamiento de Mieres
X-ORIGINAL-URL:https://www.mieres.es
X-WR-CALDESC:Eventos para Ayuntamiento de Mieres
BEGIN:VTIMEZONE
TZID:Europe/Madrid
BEGIN:DAYLIGHT
TZOFFSETFROM:+0100
TZOFFSETTO:+0200
TZNAME:CEST
DTSTART:20230326T010000
END:DAYLIGHT
BEGIN:STANDARD
TZOFFSETFROM:+0200
TZOFFSETTO:+0100
TZNAME:CET
DTSTART:20231029T010000
END:STANDARD
END:VTIMEZONE
BEGIN:VEVENT
DTSTART;VALUE=DATE:20230311
DTEND;VALUE=DATE:20230312
DTSTAMP:20260422T133720
CREATED:20230221T132032Z
LAST-MODIFIED:20230221T132032Z
UID:61445-1678492800-1678579199@www.mieres.es
SUMMARY:XXXIX Feria de Stock en Mieres (1/11 MAR)
DESCRIPTION:XXXIX Feria de Stock en Mieres\nUnión de Comerciantes del Caudal\n• Del 1 al 11 de marzo en tu tienda\, en tu calle \n  \n\nXXXIX Feria de Stock en Mieres \nLa Unión de Comerciantes del Caudal organiza la trigésimonovena edición de la Feria del Stock\, que tendrá lugar en el concejo del día 1 al 11 de marzo y en la que los comerciantes\, tanto con stand fuera como en su propia tienda ofrecerán sus mercancías al mejor precio. \nLocales participantes: \n\nAndares\nCalzados Rosa García\nComercial Tuñón\nCopistería Pepelinos\nDisco 55\nDkopa Moda\nEn tonos pastel\nFerretería Cristaloza\nFitness Mieres\nFlorentina Martínez\nJaleo\nKiss moda\nLa vieja Nana\nLibrería La Pilarica\nLibrería La Pilarica II\nLibrería La Torre\nMarta O. García\nMercería Esther\nMiansi Moda\nMiansi Complementos\nModas Tatian\nNovias Arantxa\nTatta 8
URL:https://www.mieres.es/evento/xxxix-feria-de-stock-en-mieres-1-11-mar/
LOCATION:Establecimientos comerciales y hosteleros del concejo
CATEGORIES:Comercio y Hostelería,Feria
ATTACH;FMTTYPE=image/jpeg:https://www.mieres.es/wp-content/uploads/2023/02/FERIA-STOCK-MIERES-2023_1.jpg
END:VEVENT
BEGIN:VEVENT
DTSTART;VALUE=DATE:20230311
DTEND;VALUE=DATE:20230312
DTSTAMP:20260422T133720
CREATED:20230307T115043Z
LAST-MODIFIED:20230307T115119Z
UID:61715-1678492800-1678579199@www.mieres.es
SUMMARY:XIX Feria Astur-Galaica
DESCRIPTION:XIX Feria Astur-Galaica\n10\, 11 y 12 de marzo\nParque Xovellanos \n  \nExpositores de productos típicos de las dos regiones en la Calle Aller.\nPulpo a feira durante todo el día. \n  \nPrograma\, sábado 11 \n\n12:30h. Pasacalles\, con la famosa fanfarria de Candás\, “Los Chelos“\nDe 18:30 a 20:30h. Pasacalles\, con la famosa fanfarria de Candás\, “Los Chelos”. Animación infantil con “La Patrulla Canina”\n23.00h. Gran verbena\, amenizada por DJ Masid\n00:00h. Gran Quimada\, con su “conxuro”.\n\n  \nOrganiza: ArchiEventos \n\n 
URL:https://www.mieres.es/evento/xix-feria-astur-galaica-2/
LOCATION:Parque Xovellanos\, Parque Xovellanos\, Mieres\, Asturias\, 33600 
CATEGORIES:Feria,Festejos
ATTACH;FMTTYPE=image/png:https://www.mieres.es/wp-content/uploads/2023/03/Cartel-feria-asturgalaica-2023.png
GEO:43.2517322;-5.7764018
X-APPLE-STRUCTURED-LOCATION;VALUE=URI;X-ADDRESS=Parque Xovellanos Parque Xovellanos Mieres Asturias 33600;X-APPLE-RADIUS=500;X-TITLE=Parque Xovellanos:geo:-5.7764018,43.2517322
END:VEVENT
END:VCALENDAR