BEGIN:VCALENDAR
VERSION:2.0
PRODID:-//Ayuntamiento de Mieres - ECPv5.16.1.1//NONSGML v1.0//EN
CALSCALE:GREGORIAN
METHOD:PUBLISH
X-WR-CALNAME:Ayuntamiento de Mieres
X-ORIGINAL-URL:https://www.mieres.es
X-WR-CALDESC:Eventos para Ayuntamiento de Mieres
BEGIN:VTIMEZONE
TZID:Europe/Madrid
BEGIN:DAYLIGHT
TZOFFSETFROM:+0100
TZOFFSETTO:+0200
TZNAME:CEST
DTSTART:20240331T010000
END:DAYLIGHT
BEGIN:STANDARD
TZOFFSETFROM:+0200
TZOFFSETTO:+0100
TZNAME:CET
DTSTART:20241027T010000
END:STANDARD
END:VTIMEZONE
BEGIN:VEVENT
DTSTART;VALUE=DATE:20240917
DTEND;VALUE=DATE:20240918
DTSTAMP:20260419T155423
CREATED:20240905T114916Z
LAST-MODIFIED:20240905T114916Z
UID:70258-1726531200-1726617599@www.mieres.es
SUMMARY:XXXXII Feria de Stock en Mieres (10/21 SET)
DESCRIPTION:XXXXII Feria de Stock en Mieres\nUnión de Comerciantes del Caudal\n• Del 10 al 21 de septiembre en tu tienda\, en tu calle \n  \n\nXXXXII Feria de Stock en Mieres \nLa Unión de Comerciantes del Caudal organiza la 42 edición de la Feria del Stock\, que tendrá lugar en el concejo del 10 al 21 de septiembre de 2024 y en la que los comerciantes\, tanto con stand fuera como en su propia tienda ofrecerán sus mercancías al mejor precio. \nLocales participantes: \n\nAndares\nComercial Tuñón\nCopistería Pepelinos\nDisco 55\nDkopa Moda\nEsmira Moda Shop\nFerretería Cristaloza\nFlorentina Martínez\nFreestyle\nJaleo\nKiss moda\nLa vieja Nana\nLibrería La Pilarica\nLibrería La Pilarica II\nMiansi Moda\nMiansi Complementos\nModas Tatian\nTatta 8\nVallejo Interiorismo\nZapatería Lady E\n\n\n \n 
URL:https://www.mieres.es/evento/xxxxii-feria-de-stock-en-mieres-10-21-set/2024-09-17/
LOCATION:Establecimientos comerciales y hosteleros del concejo
CATEGORIES:Comercio y Hostelería,Feria
ATTACH;FMTTYPE=image/jpeg:https://www.mieres.es/wp-content/uploads/2024/09/42-feria-stock-mieres.jpg
END:VEVENT
BEGIN:VEVENT
DTSTART;VALUE=DATE:20240917
DTEND;VALUE=DATE:20240918
DTSTAMP:20260419T155423
CREATED:20240911T111856Z
LAST-MODIFIED:20241128T154142Z
UID:70381-1726531200-1726617599@www.mieres.es
SUMMARY:Feria del Stock 2024 Asociación Ye Mieres  (7/22SET)
DESCRIPTION:Feria del Stock 2024\nAsociación Ye Mieres\n• Del 7 al 22 de septiembre en tu tienda\, en tu calle \n  \n\n  \nLocales participantes: \n\nActual Moda mujer y hombre\nCalzados Alejandra\nCalzados Ardura\nCalzados Camval\nChicas\nDisco 55\nDulces Sueños moda infantil\nEl armario de Celia\nEl Rincón de mi Casa\nL’Atelier de Helen\nMadrigal Textil\nMercería Fini\nModa Kiss\nSueños Moda y Complementos\n\n\n  \n 
URL:https://www.mieres.es/evento/feria-del-stock-2024-asociacion-ye-mieres-7-22set/2024-09-17/
LOCATION:Establecimientos comerciales y hosteleros del concejo
CATEGORIES:Comercio y Hostelería,Feria
ATTACH;FMTTYPE=image/jpeg:https://www.mieres.es/wp-content/uploads/2024/09/feria-stock-ye-mieres-2004.jpeg
END:VEVENT
END:VCALENDAR