BEGIN:VCALENDAR
VERSION:2.0
PRODID:-//Ayuntamiento de Mieres - ECPv5.16.1.1//NONSGML v1.0//EN
CALSCALE:GREGORIAN
METHOD:PUBLISH
X-WR-CALNAME:Ayuntamiento de Mieres
X-ORIGINAL-URL:https://www.mieres.es
X-WR-CALDESC:Eventos para Ayuntamiento de Mieres
BEGIN:VTIMEZONE
TZID:Europe/Madrid
BEGIN:DAYLIGHT
TZOFFSETFROM:+0100
TZOFFSETTO:+0200
TZNAME:CEST
DTSTART:20210328T010000
END:DAYLIGHT
BEGIN:STANDARD
TZOFFSETFROM:+0200
TZOFFSETTO:+0100
TZNAME:CET
DTSTART:20211031T010000
END:STANDARD
END:VTIMEZONE
BEGIN:VEVENT
DTSTART;TZID=Europe/Madrid:20211014T193000
DTEND;TZID=Europe/Madrid:20211014T193000
DTSTAMP:20260422T013328
CREATED:20211011T081345Z
LAST-MODIFIED:20211011T081345Z
UID:49786-1634239800-1634239800@www.mieres.es
SUMMARY:FIASCO 2021: "Eros\, urdidor de mitos: una conversación sobre el deseo y los poetas líricos griegos"\, con Dalia Alonso y Javier Almuzara
DESCRIPTION:FIASCO2021 EROS Y TÁNATOS\nFestival Independiente Asturianu sobre Comunidá Cultural \n\nEros\, urdidor de mitos: una conversación sobre el deseo y los poetas líricos griegos\,\ncon Dalia Alonso y Javier Almuzara.\n  \nMCC\nEntrada libre \n\n  \nDalia Alonso (Gijón\, 1996) es filóloga clásica y poeta. En solitario ha publicado la plaquette Safo y Alfonsina en el acantilado (Heracles y nosotros\, 2017)\, y algunos de sus poemas figuran en la antología Los últimos del XX (Luna de Abajo\, 2021). Ha ganado el VII Premio de Poesía Jovellanos. Participa con frecuencia en publicaciones periódicas como Anáfora\, Maremágnum\, Estación Poesía y Clarín. Recientemente ha publicado un libro de traducciones de los poetas líricos griegos\, Las rosas de Pieria: antología de la poesía lírica griega (Impronta\, 2021). También se interesa por el mundo del canto. \nJavier Almuzara (Oviedo\, 1969) ha publicado los libros de poemas El sueño de una sombra (Óliver\, 1990)\, Por la secreta escala (Renacimiento\, 1994)\, Constantes vitales (Visor\, 2004\, Premio Emilio Alarcos)\, Caravana y desierto (Renacimiento\, 2014\, serie de recreaciones líricas a partir de las rubayatas de Omar Jayyam)\, Quede claro: Antología poética 1989-2013 (Renacimiento\, 2014\, con prólogo de Miguel d’Ors\, donde se incluye el poemario inédito Siempre y cuando)\, A la de tres (Renacimiento\, 2017\, colección de haikus) y Todos los besos son de despedida (Renacimiento\, 2021). Es también autor del dietario Letra y música (Llibros del Pexe\, 2001)\, de la prosa miscelánea Títere con cabeza (AMG\, 2005\, Premio Café Bretón)\, y del libro de ensayos Catálogo de asombros (Impronta\, 2012). Su obra ha sido puesta en música\, entre otros compositores\, por Ángel Casado\, Rui Paulo Teixeira\, Toli Morilla\, Pablo Moras\, Rubén Díez y Joaquín Pixán. Fue guionista de Manos a la ópera\, programa divulgativo de la Televisión del Principado de Asturias\, y libretista de la ópera Fuenteovejuna (Ediciones Espuela de Plata\, 2018) que\, con música de Jorge Muñiz\, inauguró en el Teatro Campoamor la temporada de la Ópera de Oviedo 2018-2019. \n  \n  \n\nLa quinta edición de FIASCO pivota sobre un doble eje: “EROS y TANATOS”. Una dupla de poder hipnótico que atañe a toda la especie\, podríamos decir que el eje más democrático y universal.  \nFIASCO ha venido conversando con la ciudadanía de Mieres y de Asturias durante estos años\, sin duda fructíferos. La apuesta no era simple\, la oferta no era fácil\, la premisa supuraba intencionalidad. Aún así\, hemos ido logrando la comunión e incluso hemos conseguido hacer del eslogan “Mieres\, lugar de peregrinación cultural”\, algo tangible. \nEste año venimos fuerte: estiramos los límites de la cultura hasta que se nos agrieten las costuras mentales. Y queremos seguir induciendo hacia la celebración de la duda y hacia la provocación del equívoco: hasta la ruptura de lo que nos parecía infranqueable.  \nVenimos fuerte\, venimos X. Venimos con la ética en la mano y con la controversia en la otra. Venimos a jugar y a juglar; juglares y jugones\, artistas de la mirada y del disparo: cineastas\, músicos\, fotógrafos\, pensadoras\, poetas\, ensayistas\, dibujantes\, cómicos…  \nNos gusta todo tiempo lo mismo que toda época y que toda voluntad emancipadora.  \nEn sus respectivas mesas\, en sus estrados bajos\, en los vis a vis\, poniendo en perspectiva al amor\, la muerte\, el deseo\, el suicidio\, el sexo\, la norma y la genitalidad desde diferentes prismas. \nInvitadas\, ponentes\, distinguido público: os convocamos a FIASCO 2021 para disfrutar de un programa que esperamos a la altura del nuestro primer lustro.  \nUn festival ambicioso\, obsceno\, proactivo\, hedonista\, respetuoso y radical. \nBienvenidas todas y todos a “EROS y TANATOS”. \n \n\n 
URL:https://www.mieres.es/evento/fiasco-2021-eros-urdidor-de-mitos-una-conversacion-sobre-el-deseo-y-los-poetas-liricos-griegos-con-dalia-alonso-y-javier-almuzara/
LOCATION:Mieres Centru Cultural\, Calle Jerónimo Ibrán\, 10\, Mieres\, Asturias\, 33600
CATEGORIES:Charlas-coloquio,Conferencia,Festival
ATTACH;FMTTYPE=image/jpeg:https://www.mieres.es/wp-content/uploads/2021/10/FIASCO2021_dalia_alonsoy-Javier-Almuzara.jpg
END:VEVENT
BEGIN:VEVENT
DTSTART;TZID=Europe/Madrid:20211014T203000
DTEND;TZID=Europe/Madrid:20211014T203000
DTSTAMP:20260422T013328
CREATED:20211011T081730Z
LAST-MODIFIED:20211011T081730Z
UID:49789-1634243400-1634243400@www.mieres.es
SUMMARY:FIASCO 2021: Pilar Sánchez Vicente presenta “La muerte es mía” en conversación con Jennifer Berrocal
DESCRIPTION:FIASCO2021 EROS Y TÁNATOS\nFestival Independiente Asturianu sobre Comunidá Cultural \nPilar Sánchez Vicente presenta “La muerte es mía”\nen conversación con Jennifer Berrocal\nPosterior debate sobre muerte digna\, suicidio\, entre otros. \nMCC\nEntrada libre \n\n  \nPilar Sánchez Vicente es historiadora\, documentalista y escritora. Ha sido guionista y presentadora en TVE. Desde 1986 trabaja como en el Gobierno del Principado de Asturias\, donde le ha sido concedido el premio Adolfo Posada a las iniciativas innovadoras.  Actualmente desempeña sus funciones como archivera en el Tribunal Superior de Justicia de Asturias. Ha obtenido los premios Timón y 8 de Marzo y ha sido merecedora de la Comadre de Oro en consideración a su trayectoria personal y literaria. Entre su extensa obra destacan Comadres\, Gontrodo la hija de la luna\, La Diosa contra Roma\, Operación Dracul\, Luciérnagas en la memoria\, Mujeres errantes\, La muerte es mía\, Sangre en la Cuenca y\, próximamente\, La hija de las mareas. El Telecable Hockey Club concede anualmente un premio que lleva su nombre. \n  \n  \n\nLa quinta edición de FIASCO pivota sobre un doble eje: “EROS y TANATOS”. Una dupla de poder hipnótico que atañe a toda la especie\, podríamos decir que el eje más democrático y universal.  \nFIASCO ha venido conversando con la ciudadanía de Mieres y de Asturias durante estos años\, sin duda fructíferos. La apuesta no era simple\, la oferta no era fácil\, la premisa supuraba intencionalidad. Aún así\, hemos ido logrando la comunión e incluso hemos conseguido hacer del eslogan “Mieres\, lugar de peregrinación cultural”\, algo tangible. \nEste año venimos fuerte: estiramos los límites de la cultura hasta que se nos agrieten las costuras mentales. Y queremos seguir induciendo hacia la celebración de la duda y hacia la provocación del equívoco: hasta la ruptura de lo que nos parecía infranqueable.  \nVenimos fuerte\, venimos X. Venimos con la ética en la mano y con la controversia en la otra. Venimos a jugar y a juglar; juglares y jugones\, artistas de la mirada y del disparo: cineastas\, músicos\, fotógrafos\, pensadoras\, poetas\, ensayistas\, dibujantes\, cómicos…  \nNos gusta todo tiempo lo mismo que toda época y que toda voluntad emancipadora.  \nEn sus respectivas mesas\, en sus estrados bajos\, en los vis a vis\, poniendo en perspectiva al amor\, la muerte\, el deseo\, el suicidio\, el sexo\, la norma y la genitalidad desde diferentes prismas. \nInvitadas\, ponentes\, distinguido público: os convocamos a FIASCO 2021 para disfrutar de un programa que esperamos a la altura del nuestro primer lustro.  \nUn festival ambicioso\, obsceno\, proactivo\, hedonista\, respetuoso y radical. \nBienvenidas todas y todos a “EROS y TANATOS”. \n \n\n 
URL:https://www.mieres.es/evento/fiasco-2021-pilar-sanchez-vicente-presenta-la-muerte-es-mia-en-conversacion-con-jennifer-berrocal/
LOCATION:Mieres Centru Cultural\, Calle Jerónimo Ibrán\, 10\, Mieres\, Asturias\, 33600
CATEGORIES:Charlas-coloquio,Conferencia,Festival,Letras
ATTACH;FMTTYPE=image/jpeg:https://www.mieres.es/wp-content/uploads/2021/10/FIASCO2021_pilar_s_vicente_y-_jBerrocal.jpg
END:VEVENT
BEGIN:VEVENT
DTSTART;TZID=Europe/Madrid:20211014T230000
DTEND;TZID=Europe/Madrid:20211014T230000
DTSTAMP:20260422T013328
CREATED:20211011T083038Z
LAST-MODIFIED:20211011T083533Z
UID:49792-1634252400-1634252400@www.mieres.es
SUMMARY:FIASCO 2021: Pinchada por Herminio Afonso
DESCRIPTION:FIASCO2021 EROS Y TÁNATOS\nFestival Independiente Asturianu sobre Comunidá Cultural \nPinchada\npor Herminio Afonso\nMCC\nEntrada libre \n\n  \nHerminio Afonso lleva más de 30 años descubriendo tesoros musicales. Su pasión por la buena música le ha llevado a editar fanzines cuando el papel era imprescindible\, a hacer programas de radio en las ya casi extintas emisoras libres o en la SER\, a vender discos como el adicto que vende droga o a hacer fiestas para pinchar y pasárselo bien. Con una sólida formación en los sonidos de raíz negra afroamericana\, nadie sabe a día de hoy qué discos puede meter en su maleta cuando quiere hacer bailar al personal. Miembro del colectivo con base en Londres. “Reference point”\, ha sido premiado con un AMAS como mejor DJ de Asturias. Es un habitual en muchos clubs y eventos especializados de España y UK desde hace 25 años. Prepárense. \n  \n  \n\nLa quinta edición de FIASCO pivota sobre un doble eje: “EROS y TANATOS”. Una dupla de poder hipnótico que atañe a toda la especie\, podríamos decir que el eje más democrático y universal.  \nFIASCO ha venido conversando con la ciudadanía de Mieres y de Asturias durante estos años\, sin duda fructíferos. La apuesta no era simple\, la oferta no era fácil\, la premisa supuraba intencionalidad. Aún así\, hemos ido logrando la comunión e incluso hemos conseguido hacer del eslogan “Mieres\, lugar de peregrinación cultural”\, algo tangible. \nEste año venimos fuerte: estiramos los límites de la cultura hasta que se nos agrieten las costuras mentales. Y queremos seguir induciendo hacia la celebración de la duda y hacia la provocación del equívoco: hasta la ruptura de lo que nos parecía infranqueable.  \nVenimos fuerte\, venimos X. Venimos con la ética en la mano y con la controversia en la otra. Venimos a jugar y a juglar; juglares y jugones\, artistas de la mirada y del disparo: cineastas\, músicos\, fotógrafos\, pensadoras\, poetas\, ensayistas\, dibujantes\, cómicos…  \nNos gusta todo tiempo lo mismo que toda época y que toda voluntad emancipadora.  \nEn sus respectivas mesas\, en sus estrados bajos\, en los vis a vis\, poniendo en perspectiva al amor\, la muerte\, el deseo\, el suicidio\, el sexo\, la norma y la genitalidad desde diferentes prismas. \nInvitadas\, ponentes\, distinguido público: os convocamos a FIASCO 2021 para disfrutar de un programa que esperamos a la altura del nuestro primer lustro.  \nUn festival ambicioso\, obsceno\, proactivo\, hedonista\, respetuoso y radical. \nBienvenidas todas y todos a “EROS y TANATOS”. \n \n\n 
URL:https://www.mieres.es/evento/fiasco-2021-pinchada-por-herminio-afonso/
LOCATION:Bar Rodapié\, Plaza de la Constitución \, Mieres\, Asturias\, 33600 
CATEGORIES:Festival,Música
ATTACH;FMTTYPE=image/jpeg:https://www.mieres.es/wp-content/uploads/2021/10/FIASCO2021_herminio_afonso.jpg
GEO:43.2489616;-5.7726903
X-APPLE-STRUCTURED-LOCATION;VALUE=URI;X-ADDRESS=Bar Rodapié Plaza de la Constitución  Mieres Asturias 33600;X-APPLE-RADIUS=500;X-TITLE=Plaza de la Constitución:geo:-5.7726903,43.2489616
END:VEVENT
END:VCALENDAR