BEGIN:VCALENDAR
VERSION:2.0
PRODID:-//Ayuntamiento de Mieres - ECPv5.16.1.1//NONSGML v1.0//EN
CALSCALE:GREGORIAN
METHOD:PUBLISH
X-WR-CALNAME:Ayuntamiento de Mieres
X-ORIGINAL-URL:https://www.mieres.es
X-WR-CALDESC:Eventos para Ayuntamiento de Mieres
BEGIN:VTIMEZONE
TZID:Europe/Madrid
BEGIN:DAYLIGHT
TZOFFSETFROM:+0100
TZOFFSETTO:+0200
TZNAME:CEST
DTSTART:20220327T010000
END:DAYLIGHT
BEGIN:STANDARD
TZOFFSETFROM:+0200
TZOFFSETTO:+0100
TZNAME:CET
DTSTART:20221030T010000
END:STANDARD
END:VTIMEZONE
BEGIN:VEVENT
DTSTART;TZID=Europe/Madrid:20220605T110000
DTEND;TZID=Europe/Madrid:20220605T200000
DTSTAMP:20260421T142648
CREATED:20220601T100218Z
LAST-MODIFIED:20220601T100332Z
UID:53945-1654426800-1654459200@www.mieres.es
SUMMARY:II Mercado Artesano y Ecológico de Mieres
DESCRIPTION:II Mercado Artesano y Ecológico de Mieres\nen el Parque Xovellanos\n  \nHorario: 11:00 a 15:00 h y de 17:00 a 21:00 h (domingo hasta las 20:00 h) \n  \n\n  \nEl Mercado Artesano y Ecológico vuelve a Mieres los días sábado 4 y domingo 5 de junio. Un evento que permite a mierenses y visitantes acercarse al Parque de Xovellanos para disfrutar de una muestra de artesanía y gastronomía\, conocer oficios artesanos y divertirse con las actividades programadas. \nTras el éxito de la primera edición\, este fin de semana pequeños ganaderos\, agricultores y productores se darán cita en Mieres para deleitar a vecinos y visitantes con sus piezas y productos. Una oportunidad excepcional para conocer la riqueza de nuestra artesanía y gastronomía en un único espacio\, el Parque Jovellanos. \nEl mercado permanecerá abierto en horario de 11:00 a 15:00 h y de 17:00 a 21:00 h (domingo hasta las 20:00 h) y además de ofrecer una muestra artesana y gastronómica se complementa con música y actividades para disfrutar en familia y con amigos. \n  \nActividades Gratuitas:\n  \n1.- “I Certamen de Alimentos del Paraíso Natural en el Mercado Artesano y Ecológico de Mieres” | Sábado 4 y domingo 5 \n\n\n¿Cómo reconocer la gastronomía de calidad del Principado de Asturias?. Bajo el sello de garantía “Alimentos del Paraíso Natural”  se amparan una gran variedad de productos elaborados y/o producidos en nuestra región. A través de esta actividad\, desarrollada con la colaboración de la Consejería de Medio Rural y Conexión Territorial\,  invitamos a los visitantes a conocer la marca y saborear sus productos: \n\n\n\n\nJuego QR: \nUn entretenido juego familiar en el que conocerás la marca de calidad (no es necesario inscripción) \nExposición: \nDisfrutar de la mayor exposición de productos pertenecientes a la marca desarrollada hasta la actualidad. \nPunto de información: \nUn stand en el que informarse y resolver sus dudas. \nCon tu participación en nuestro juego entrarás en el sorteo de lotes de productos de Alimentos del Paraíso Natural. \n\n\n  \n\n\n\n\n\n\n\n\n\n\n\n\n\n\n2.- “Taller de macramé” | Sábado 4 \nArtesana: Belén Vega \nDuración: 40 min aprox. \nPlazas disponibles: 10 simultáneos. \nLa adjudicación de plazas se hará por orden de llegada y es necesario estar presente. \nParticipantes: taller infantil \nDescripción del taller: \nDescubrir y aprender sencillas técnicas que permitan la realización de una pulsera. Cada participante se llevará a casa la pieza realizada. \n\n\n\n\n\n\n\n\n\n\n\n\n\n\n\n\n\n\n\n\n\n\n\n\n\n\n\n3.- “Taller de cestería” | Domingo 5 \nArtesano: José Ramón Vázquez \nDuración: 3 horas aprox. \nPlazas disponibles: 10 en horario de 12:00 a 15:00 | 10 en horario de 17:00 a 20:00 h \nLa adjudicación de plazas se hará por orden de llegada \nParticipantes: A partir de 12 años \nDescripción del taller: \nDescubrir y aprender técnicas que permitan la realización de una pieza de cestería. Para ello se utilizará mimbre\, tira y médula como materiales de construcción . Cada participante se llevará a casa la pieza realizada. \n\n\n\n\n\n\n\n\n\n\n\n\n\n\n\n\n\n\n\n\n\n\n\n\n\n\n4.- “Caravana del reciclaje” | Domingo 5 \nLa caravana además de ser un punto informativo sobre las Tres Erres\, lleva incorporados monitores de televisión con juegos muy diferentes\, para público de todas las edades. \n\n\n\n\n\nJuego clásico de preguntas y respuestas\, sobre economía circular y las tres Erres.\nJuego interactivo virtual “Super reciclator”\, en el que cada persona participante tiene que ir atrapando virtualmente distintos residuos y depositarlo en el contenedor adecuado\, en función de la puntuación obtenida conseguirán ser mini-reciclator\, reciclator o super reciclator\, y podrán obtener diferentes regalos promocionales\n\nUna actividad desarrollada con la colaboración de COGERSA. \n\n\n\n\n\n\n\n  \n\n 
URL:https://www.mieres.es/evento/ii-mercado-artesano-y-ecologico-de-mieres-2/
LOCATION:Parque Xovellanos\, Parque Xovellanos\, Mieres\, Asturias\, 33600 
CATEGORIES:Festival,Gastronomía,Turismo
ATTACH;FMTTYPE=image/png:https://www.mieres.es/wp-content/uploads/2022/06/cartel-mercado-mieres-2022-artesano-ecologico.png
GEO:43.2517322;-5.7764018
X-APPLE-STRUCTURED-LOCATION;VALUE=URI;X-ADDRESS=Parque Xovellanos Parque Xovellanos Mieres Asturias 33600;X-APPLE-RADIUS=500;X-TITLE=Parque Xovellanos:geo:-5.7764018,43.2517322
END:VEVENT
BEGIN:VEVENT
DTSTART;TZID=Europe/Madrid:20220605T120000
DTEND;TZID=Europe/Madrid:20220605T213000
DTSTAMP:20260421T142648
CREATED:20220526T121229Z
LAST-MODIFIED:20220526T121229Z
UID:53863-1654430400-1654464600@www.mieres.es
SUMMARY:Mieres Under-60' Film Festival 2022 (Entrega de premios y Palmarés)
DESCRIPTION: MIERES UNDER-60′ FILM FESTIVAL 2022\nProgramación domingo\, 5: \n12:00h.- Entrega de Premios \n\n\n\n\n19:15h.- Palmarés\n\n\n\n\n\n\n\n\n20:30h.- Palmarés\n\n\n\n\n\n\n\n\n\n\n\n\n\n\n\n(haciendo clic pueden acceder al detalle de los títulos que se proyectarán en cada una de las sesiones)\n\n\n  \nMieres Centru Cultural \nSesión individual: 2 € /// Bono 10 sesiones: 15€ /// Abono Festival: 25 € \nPunto de venta de abonos y entradas: Casa de Cultura Teodoro Cuesta de Mieres. Reserva de entradas y abonos : 985 45 19 53 \nLas abonos para el festival podrán adquirirse a partir del 20 de mayo. Las entradas individuales se pondrán a la venta 2 horas antes del inicio de cada sesión. Los abonados podrán canjear las entradas de sus abonos el mismo día de la proyección hasta 15 minutos antes de la misma. Después de ese momento no se garantiza la reserva de entradas para abonados. \n  \n\nEl MUFF 22 reúne 28 trabajos en su Competición Internacional y 19 obras dentro de Tierra\, la competición de cortos asturianos \nEl próximo día 31 de Mayo\, y hasta el 5 de Junio\, el cortometraje regresa a Mieres con el MUFF 22\, un festival que retoma el testigo de Cortomieres\, diez años después\, dando un importante salto hacia la internacionalización\, para situarse como una de las citas imprescindibles y de referencia para el cine en formato corto en Asturias. \nA lo largo de 6 días\, se proyectarán en Mieres más casi 150 cortometrajes\, que muestran un panorama amplio\, diverso y representativo de la actualidad del corto a nivel mundial. La Competición Internacional del Festival (Cosmos)\, reúne un total de 28 obras\, de las cuales\, 8 son producciones españolas y en la que destaca la presencia de películas dirigidas por mujeres (13) y de obras de cineastas emergentes. \nCosmos (Internacional) es una competición que apuesta por un cine fresco\, contemporáneo y de calidad\, que fija su atención en cineastas con una mirada personal y propia\, a través de historias originales\, novedosas y con narrativas imaginativas y temáticas contemporáneas. En esta selección podremos encontrar algunos de los trabajos recientes más sobresalientes\, seleccionados y premiados en festivales internacionales de gran prestigio\, como Cannes\, Berlinale\, Sundance\, Locarno\, Clermont-Ferrand… \nPor su parte\, la sección Tierra (Asturias) está dedicada a la producción asturiana\, con un total de 4 sesiones que se concentrarán el próximo martes 31 de Mayo\, un día especialmente dedicado al cine asturiano. 19 obras competirán por los premios de esta sección. \n 
URL:https://www.mieres.es/evento/mieres-under-60-film-festival-2022-entrega-de-premios-y-palmares/
LOCATION:Mieres Centru Cultural\, Calle Jerónimo Ibrán\, 10\, Mieres\, Asturias\, 33600
CATEGORIES:Cine,Festival
ATTACH;FMTTYPE=image/jpeg:https://www.mieres.es/wp-content/uploads/2022/05/Mieres-Under-60-Film-Festival-2022-cartel.jpg
END:VEVENT
END:VCALENDAR