BEGIN:VCALENDAR
VERSION:2.0
PRODID:-//Ayuntamiento de Mieres - ECPv5.16.1.1//NONSGML v1.0//EN
CALSCALE:GREGORIAN
METHOD:PUBLISH
X-WR-CALNAME:Ayuntamiento de Mieres
X-ORIGINAL-URL:https://www.mieres.es
X-WR-CALDESC:Eventos para Ayuntamiento de Mieres
BEGIN:VTIMEZONE
TZID:Europe/Madrid
BEGIN:DAYLIGHT
TZOFFSETFROM:+0100
TZOFFSETTO:+0200
TZNAME:CEST
DTSTART:20220327T010000
END:DAYLIGHT
BEGIN:STANDARD
TZOFFSETFROM:+0200
TZOFFSETTO:+0100
TZNAME:CET
DTSTART:20221030T010000
END:STANDARD
END:VTIMEZONE
BEGIN:VEVENT
DTSTART;TZID=Europe/Madrid:20220917T120000
DTEND;TZID=Europe/Madrid:20220917T210000
DTSTAMP:20260421T105109
CREATED:20220909T090222Z
LAST-MODIFIED:20220909T090222Z
UID:58779-1663416000-1663448400@www.mieres.es
SUMMARY:Restalla la sidra 2022
DESCRIPTION:Festival \nRestalla la sidra 2022\nParque Xovellanos \n17 de septiembre\,  de 12.00 a 15.00h y de 19.00 a 21.00h \n\n  \nDe 12.00 a 15.00 h \n\nIV CONCURSO DE SIDRA ARTESANA COMARCA DEL CAUDAL\nEspicha para todos los socios y llagareros participantes.\nMuestra de canción asturiana. Intérpretes: Liliana Castañón\, María López Toraño y Paula Prieto Castañón. Presenta: Alberto Cienfuegos\nDEGUSTACIÓN DE SIDRA DE LLAGARES DE TIÑANA: Quelo-Muñiz-Viuda de Palacio-Fonciello-Juanín-Fanjul\n\n  \nDe 19.00 a 21.00 h \n\nActuación de Vicente Díaz\nVenta de bollo + botella de sidra en los locales de la zona\n\n  \nAmenizan los actos el grupo folclórico Prau Llerón + tambor y gaita \nOrganiza: ALLAC – Asociación de Llagareros Artesanos del Caudal \n 
URL:https://www.mieres.es/evento/restalla-la-sidra-2022/
LOCATION:Parque Xovellanos\, Parque Xovellanos\, Mieres\, Asturias\, 33600 
CATEGORIES:Festival,Gastronomía
ATTACH;FMTTYPE=image/jpeg:https://www.mieres.es/wp-content/uploads/2022/09/restalla-la-sidra-2022.jpeg
ORGANIZER;CN="Llagareros%20artesanos%20del%20Caudal":MAILTO:llagarerosartesanosdelcaudal@gmail.com
GEO:43.2517322;-5.7764018
X-APPLE-STRUCTURED-LOCATION;VALUE=URI;X-ADDRESS=Parque Xovellanos Parque Xovellanos Mieres Asturias 33600;X-APPLE-RADIUS=500;X-TITLE=Parque Xovellanos:geo:-5.7764018,43.2517322
END:VEVENT
END:VCALENDAR