BEGIN:VCALENDAR
VERSION:2.0
PRODID:-//Ayuntamiento de Mieres - ECPv5.16.1.1//NONSGML v1.0//EN
CALSCALE:GREGORIAN
METHOD:PUBLISH
X-WR-CALNAME:Ayuntamiento de Mieres
X-ORIGINAL-URL:https://www.mieres.es
X-WR-CALDESC:Eventos para Ayuntamiento de Mieres
BEGIN:VTIMEZONE
TZID:Europe/Madrid
BEGIN:DAYLIGHT
TZOFFSETFROM:+0100
TZOFFSETTO:+0200
TZNAME:CEST
DTSTART:20220327T010000
END:DAYLIGHT
BEGIN:STANDARD
TZOFFSETFROM:+0200
TZOFFSETTO:+0100
TZNAME:CET
DTSTART:20221030T010000
END:STANDARD
END:VTIMEZONE
BEGIN:VEVENT
DTSTART;TZID=Europe/Madrid:20220325T190000
DTEND;TZID=Europe/Madrid:20220325T190000
DTSTAMP:20260425T011500
CREATED:20220302T132246Z
LAST-MODIFIED:20220302T132246Z
UID:52451-1648234800-1648234800@www.mieres.es
SUMMARY:Jornadas 8M: Homenaje a la abuela del Valle. Concierto de Silvidos y Gemidos
DESCRIPTION:JORNADAS 8M 2022\nHomenaje a la abuela del Valle: Dª Concha Longo Tuñón\nConcierto de Silvidos y Gemidos\n  \nAtenéu de Turón\nViernes\, 25 de marzo\, 19:00 h. \n\n  \nA las 19.00 horas en el Ateneo de Turón desde la Concejalía de Igualdad y Feminismo\, como ya es tradición\, se hará un homenaje a una de nuestras abuelas del Valle de Turón. Mujeres que cargadas siempre de una fuente inagotable de valores\, vivían para trabajar cuidar de los hijos\, nietos\, tíos y padres. Son nuestros referentes\, nuestra cultura\, nuestra historia. El cariño\, el afecto y una parte mínima de nuestro tiempo es el mejor homenaje que podemos hacerles\, y este año nuestro homenaje será para Concha Longo Tuñón\, y contaremos también para ello con la actuación del “Silvidos y Gemidos”. \n  \n\nActividad financiada con cargo a los créditos del Pacto de Estado contra la violencia de género\, recibidos del Ministerio de la Presidencia\, Relaciones con las Cortes e Igualdad\, a través de la Secretaría de Estado de Igualdad.
URL:https://www.mieres.es/evento/jornadas-8m-homenaje-a-la-abuela-del-valle-concierto-de-silvidos-y-gemidos/
LOCATION:Atenéu de Turón\, Calle Centro\, 9\, 33610 Mieres\, Asturias\, Turón\, Asturias\, 33610 \, España
CATEGORIES:Homenaje,Igualdad
ATTACH;FMTTYPE=image/jpeg:https://www.mieres.es/wp-content/uploads/2022/03/25-CARTEL-ABUELA-DEL-VALLE-1200.jpg
GEO:43.2091303;-5.7416142
X-APPLE-STRUCTURED-LOCATION;VALUE=URI;X-ADDRESS=Atenéu de Turón Calle Centro 9 33610 Mieres Asturias Turón Asturias 33610  España;X-APPLE-RADIUS=500;X-TITLE=Calle Centro\, 9\, 33610 Mieres\, Asturias:geo:-5.7416142,43.2091303
END:VEVENT
END:VCALENDAR