BEGIN:VCALENDAR
VERSION:2.0
PRODID:-//Ayuntamiento de Mieres - ECPv5.16.1.1//NONSGML v1.0//EN
CALSCALE:GREGORIAN
METHOD:PUBLISH
X-WR-CALNAME:Ayuntamiento de Mieres
X-ORIGINAL-URL:https://www.mieres.es
X-WR-CALDESC:Eventos para Ayuntamiento de Mieres
BEGIN:VTIMEZONE
TZID:Europe/Madrid
BEGIN:DAYLIGHT
TZOFFSETFROM:+0100
TZOFFSETTO:+0200
TZNAME:CEST
DTSTART:20220327T010000
END:DAYLIGHT
BEGIN:STANDARD
TZOFFSETFROM:+0200
TZOFFSETTO:+0100
TZNAME:CET
DTSTART:20221030T010000
END:STANDARD
END:VTIMEZONE
BEGIN:VEVENT
DTSTART;TZID=Europe/Madrid:20221028T180000
DTEND;TZID=Europe/Madrid:20221028T180000
DTSTAMP:20260424T150810
CREATED:20221021T083329Z
LAST-MODIFIED:20221021T083329Z
UID:59442-1666980000-1666980000@www.mieres.es
SUMMARY:Homenaje a Tono Ambrosio. Albergue de animales de Mieres
DESCRIPTION:  \nHomenaje a Tono Ambrosio\n\n  \nViernes\, 28 de octubre de 2022\, 18:00h.\nAlbergue Municipal de Animales de Mieres “Tono Ambrosio” \n  \n\n 
URL:https://www.mieres.es/evento/homenaje-a-tono-ambrosio-albergue-de-animales-de-mieres/
LOCATION:Albergue Municipal de Animales\, tra. Mieres\, 12\, 33617 Mieres\, Asturias\, Mieres\, Asturias\, 33600\, España
CATEGORIES:Homenaje
ATTACH;FMTTYPE=image/jpeg:https://www.mieres.es/wp-content/uploads/2022/10/CARTEL-homenaje-tono-ambrosio-2022-1200.jpg
END:VEVENT
END:VCALENDAR