BEGIN:VCALENDAR
VERSION:2.0
PRODID:-//Ayuntamiento de Mieres - ECPv5.16.1.1//NONSGML v1.0//EN
CALSCALE:GREGORIAN
METHOD:PUBLISH
X-WR-CALNAME:Ayuntamiento de Mieres
X-ORIGINAL-URL:https://www.mieres.es
X-WR-CALDESC:Eventos para Ayuntamiento de Mieres
BEGIN:VTIMEZONE
TZID:Europe/Madrid
BEGIN:DAYLIGHT
TZOFFSETFROM:+0100
TZOFFSETTO:+0200
TZNAME:CEST
DTSTART:20230326T010000
END:DAYLIGHT
BEGIN:STANDARD
TZOFFSETFROM:+0200
TZOFFSETTO:+0100
TZNAME:CET
DTSTART:20231029T010000
END:STANDARD
END:VTIMEZONE
BEGIN:VEVENT
DTSTART;TZID=Europe/Madrid:20230127T120000
DTEND;TZID=Europe/Madrid:20230127T120000
DTSTAMP:20260424T104642
CREATED:20230123T104827Z
LAST-MODIFIED:20230124T091018Z
UID:60982-1674820800-1674820800@www.mieres.es
SUMMARY:Día Internacional de Conmemoración en memoria de las víctimas del Holocausto. Homenaje a las personas mierenses deportadas a los campos de concentración nazis
DESCRIPTION:  \n Día Internacional de Conmemoración en memoria de las víctimas del Holocausto \nHomenaje a las personas mierenses deportadas a los campos de concentración nazis\n\nLectura de un manifiesto en recuerdo de las víctimas y los vecinos que fueron deportados de Mieres a los campos de exterminio y concentración nazis. \nViernes\, 27 de enero de 2023. 12:00h \nPlaza del Ayuntamiento de Mieres \n\n  \nMuchos tuvieron que exiliarse a Francia y allí\, tras la ocupación alemana\, fueron detenidos y campos de concentración nazis. Asturianos y asturianas deportados a campos de concentración como Mauthausen\, Gusen\, Dachau o Buchenwald. Fueron pocos los que lograron salir con vida. \nCon la colaboración del Grupo de Deportados Asturias se han recopilado los datos de estas personas y elaborado pequeñas biografías que permiten conocer la vida de estas personas que\, en la mayoría de sus casos\, fallecieron víctimas del odio. A continuación se ofrecen los datos de los y las mierenses que aparecen en los listados que se ofrecen en la web https://memoriademocratica.asturias.es/personas-deportadas (haciendo clic en el nombre de cada uno de ellos/as pueden acceder a los datos y biografías ofrecidos en la web de Memoria Democrática en Asturias): \n  \n\n\n\nNombre y apellidos\nConcejo\nSituación\nFecha estado\n\n\n\n\n\n\nIgnacio Iglesias Suárez\nMIERES\nLIBERADO/A\n30-04-1945\n\n\nAvelino Álvarez Gutiérrez\nMIERES\nLIBERADO/A\n11-04-1945\n\n\nRafael Álvarez López\nMIERES\nLIBERADO/A\n05-05-1945\n\n\nLuis Braña Álvarez\nMIERES\nFALLECIDO/A\n15-01-1942\n\n\nManuel Avelino Canga Fernández\nMIERES\nLIBERADO/A\n05-05-1945\n\n\nRamiro Fernández León\nMIERES\nFALLECIDO/A\n27-09-1941\n\n\nAlberto Magdalena Forcelledo\nMIERES\nFALLECIDO/A\n01-03-1945\n\n\nJosé Martínez González\nMIERES\nFALLECIDO/A\n16-09-1941\n\n\nBenigno Martínez Magdalena\nMIERES\nFALLECIDO/A\n04-01-1945\n\n\nDavid Moyano Tejerina\nMIERES\nLIBERADO/A\n11-10-1944\n\n\n\n\n\n\nMaría Leonor Rubiano Fernández\nMIERES\nFALLECIDO/A\n09-02-1945\n\n\nJosé Sánchez Llaneza\nMIERES\nFALLECIDO/A\n12-12-1941\n\n\nManuel Fernández Fernández\nMIERES\nFALLECIDO/A\n17-03-1942\n\n\nJuan Mateo Iglesias\nMIERES\nLIBERADO/A\n\n\n\nNicolás Álvarez Morán\nMIERES\nLIBERADO/A\n11-04-1945\n\n\n\n\n 
URL:https://www.mieres.es/evento/dia-internacional-de-conmemoracion-en-memoria-de-las-victimas-del-holocausto-homenaje-a-las-personas-mierenses-deportadas-a-los-campos-de-concentracion-nazis/
LOCATION:Plaza del Ayuntamiento\, Plaza de la Constitución s/n\, Mieres\, 33600
CATEGORIES:Homenaje
ATTACH;FMTTYPE=image/jpeg:https://www.mieres.es/wp-content/uploads/2023/01/campos-concentracion.jpg
GEO:43.2489616;-5.7726903
X-APPLE-STRUCTURED-LOCATION;VALUE=URI;X-ADDRESS=Plaza del Ayuntamiento Plaza de la Constitución s/n Mieres 33600;X-APPLE-RADIUS=500;X-TITLE=Plaza de la Constitución s/n:geo:-5.7726903,43.2489616
END:VEVENT
END:VCALENDAR