BEGIN:VCALENDAR
VERSION:2.0
PRODID:-//Ayuntamiento de Mieres - ECPv5.16.1.1//NONSGML v1.0//EN
CALSCALE:GREGORIAN
METHOD:PUBLISH
X-WR-CALNAME:Ayuntamiento de Mieres
X-ORIGINAL-URL:https://www.mieres.es
X-WR-CALDESC:Eventos para Ayuntamiento de Mieres
BEGIN:VTIMEZONE
TZID:Europe/Madrid
BEGIN:DAYLIGHT
TZOFFSETFROM:+0100
TZOFFSETTO:+0200
TZNAME:CEST
DTSTART:20240331T010000
END:DAYLIGHT
BEGIN:STANDARD
TZOFFSETFROM:+0200
TZOFFSETTO:+0100
TZNAME:CET
DTSTART:20241027T010000
END:STANDARD
END:VTIMEZONE
BEGIN:VEVENT
DTSTART;TZID=Europe/Madrid:20240118T180000
DTEND;TZID=Europe/Madrid:20240118T180000
DTSTAMP:20260423T162116
CREATED:20240111T130027Z
LAST-MODIFIED:20240111T130027Z
UID:66698-1705600800-1705600800@www.mieres.es
SUMMARY:Acto de solidaridad con el pueblo palestino
DESCRIPTION:  \n\nActo de solidaridad con el pueblo palestino\nPlantación de un olivo en los Jardines del Ayuntamiento \n\n  \nJueves\, 18 de enero\, 18:00h. \n\nJardines del Ayuntamiento \n\n\n\n\n 
URL:https://www.mieres.es/evento/acto-de-solidaridad-con-el-pueblo-palestino/
LOCATION:Jardines del Ayuntamiento / Calle La Vega\, Calle Jardines del Ayuntamiento\, Mieres\, Asturias\, 33600
CATEGORIES:Homenaje
ATTACH;FMTTYPE=image/jpeg:https://www.mieres.es/wp-content/uploads/2024/01/Cartel-acto-solidaridad-palestina-olivo-mieres.jpg
END:VEVENT
END:VCALENDAR