BEGIN:VCALENDAR
VERSION:2.0
PRODID:-//Ayuntamiento de Mieres - ECPv5.16.1.1//NONSGML v1.0//EN
CALSCALE:GREGORIAN
METHOD:PUBLISH
X-WR-CALNAME:Ayuntamiento de Mieres
X-ORIGINAL-URL:https://www.mieres.es
X-WR-CALDESC:Eventos para Ayuntamiento de Mieres
BEGIN:VTIMEZONE
TZID:Europe/Madrid
BEGIN:DAYLIGHT
TZOFFSETFROM:+0100
TZOFFSETTO:+0200
TZNAME:CEST
DTSTART:20240331T010000
END:DAYLIGHT
BEGIN:STANDARD
TZOFFSETFROM:+0200
TZOFFSETTO:+0100
TZNAME:CET
DTSTART:20241027T010000
END:STANDARD
END:VTIMEZONE
BEGIN:VEVENT
DTSTART;TZID=Europe/Madrid:20240628T120000
DTEND;TZID=Europe/Madrid:20240628T120000
DTSTAMP:20260423T091211
CREATED:20240621T102256Z
LAST-MODIFIED:20240621T102338Z
UID:69682-1719576000-1719576000@www.mieres.es
SUMMARY:Acto de nombramiento del Parque ANÍBAL VÁZQUEZ
DESCRIPTION:Acto de nombramiento del \nParque ANÍBAL VÁZQUEZ\n  \nViernes\, 28 de junio de 2024\n12:00h \nZona Calle Hermanos González Peña \n\n 
URL:https://www.mieres.es/evento/nombramiento-parque-anibal-vazquez/
LOCATION:Parque Aníbal Vázquez\, Calle Hermanos González Peña s/n\, Mieres\, Asturias\, 33600\, España
CATEGORIES:Homenaje
ATTACH;FMTTYPE=image/jpeg:https://www.mieres.es/wp-content/uploads/2024/06/CARTEL-PARQUE-ANIBAL-VAZQUEZ-scaled.jpg
END:VEVENT
END:VCALENDAR