BEGIN:VCALENDAR
VERSION:2.0
PRODID:-//Ayuntamiento de Mieres - ECPv5.16.1.1//NONSGML v1.0//EN
CALSCALE:GREGORIAN
METHOD:PUBLISH
X-WR-CALNAME:Ayuntamiento de Mieres
X-ORIGINAL-URL:https://www.mieres.es
X-WR-CALDESC:Eventos para Ayuntamiento de Mieres
BEGIN:VTIMEZONE
TZID:Europe/Madrid
BEGIN:DAYLIGHT
TZOFFSETFROM:+0100
TZOFFSETTO:+0200
TZNAME:CEST
DTSTART:20240331T010000
END:DAYLIGHT
BEGIN:STANDARD
TZOFFSETFROM:+0200
TZOFFSETTO:+0100
TZNAME:CET
DTSTART:20241027T010000
END:STANDARD
END:VTIMEZONE
BEGIN:VEVENT
DTSTART;TZID=Europe/Madrid:20241011T190000
DTEND;TZID=Europe/Madrid:20241011T190000
DTSTAMP:20260423T033931
CREATED:20240926T102454Z
LAST-MODIFIED:20240926T102605Z
UID:70632-1728673200-1728673200@www.mieres.es
SUMMARY:Gala 50 Aniversario del GREIM y otros actos conmemorativos
DESCRIPTION:Gala \n50 Aniversario del GREIM\nGrupo Rural Especialista e Intervención en Montaña de Mieres\nde la Guardia Civil\nCon las actuaciones de: \n\nCoro Minero de Turón\nOrfeón de Mieres\n\nViernes 11 de octubre\, 19:00 h\nAuditoriu Teodoro Cuesta \nEntrada libre hasta completar aforo \n\n  \nEl Grupo de Esquiadores-Escaladores de la Guardia Civil de Mieres\, celebra su 50 Aniversario el próximo 11 de octubre de 2024\, un hito significativo que refleja décadas de dedicación y compromiso en el rescate de personas en situaciones de riesgo en la montaña. Desde su fundación en 1974\, este grupo ha demostrado ser un pilar esencial en la seguridad de los montañeros y excursionistas\, brindando apoyo y auxilio en los momentos más críticos. \nEste aniversario no solo es una celebración de su historia\, sino también una oportunidad para recordar la importancia de la seguridad en la montaña y el respeto por el entorno natural. \n  \nPrograma 50 ANIVERSARIO \ndel 8 al 11 de octubre \nMartes\, miércoles\, jueves y viernes\, 8\, 9\, 10 Y 11 de octubre \n12:00 a 14:00 y de 17:00 a 21:00 h Exposición Casa de la Cultura Teodoro Cuesta \nViernes\, 11 \n09:00 h – Concentración de participantes en el Parque “Aníbal Vázquez” y salida al Campus Universitario\, donde se hará una ofrenda floral al monumento minero. \n11: 30h – El Alcalde de Mieres revalidará la inauguración del nombramiento del mirador GREIM de Mieres y acto seguido se oficiará una Misa de campaña por todos los montañeros y personas fallecidas en la montaña. \n15:00 h – Comida en Sidrería “Santa Bárbara” y “Casa Óscar” de Mieres. Precio menú 15 €. \n17:30 h – Visita a la Exposición de fotografías en la Casa de la Cultura Teodoro Cuesta de Mieres. \n19:00 h – Concierto de música coral por el Coro Minero de Turón. Y el Orfeón de Mieres\, en la casa de la cultura. \nLa FEMPA pondrá un BUS a disposición de las personas federadas que lo deseen. Se informará de horarios y puntos de salida dependiendo de la demanda. \nTanto para la comida\, como para el Bus es necesario inscribirse mediante formulario: \nhttps://forms.office.com/e/eMiwCai6uB \n 
URL:https://www.mieres.es/evento/gala-50-aniversario-del-greim-y-otros-actos-conmemorativos/
LOCATION:Casa de Cultura Teodoro Cuesta\, Calle Manuel Llaneza\, 8\, Mieres\, Asturias\, 33600\, España
CATEGORIES:Homenaje
ATTACH;FMTTYPE=image/jpeg:https://www.mieres.es/wp-content/uploads/2024/09/Gala-50-aniversario-GREIM.jpg
GEO:43.2502294;-5.7729571
X-APPLE-STRUCTURED-LOCATION;VALUE=URI;X-ADDRESS=Casa de Cultura Teodoro Cuesta Calle Manuel Llaneza 8 Mieres Asturias 33600 España;X-APPLE-RADIUS=500;X-TITLE=Calle Manuel Llaneza\, 8:geo:-5.7729571,43.2502294
END:VEVENT
END:VCALENDAR