BEGIN:VCALENDAR
VERSION:2.0
PRODID:-//Ayuntamiento de Mieres - ECPv5.16.1.1//NONSGML v1.0//EN
CALSCALE:GREGORIAN
METHOD:PUBLISH
X-WR-CALNAME:Ayuntamiento de Mieres
X-ORIGINAL-URL:https://www.mieres.es
X-WR-CALDESC:Eventos para Ayuntamiento de Mieres
BEGIN:VTIMEZONE
TZID:Europe/Madrid
BEGIN:DAYLIGHT
TZOFFSETFROM:+0100
TZOFFSETTO:+0200
TZNAME:CEST
DTSTART:20210328T010000
END:DAYLIGHT
BEGIN:STANDARD
TZOFFSETFROM:+0200
TZOFFSETTO:+0100
TZNAME:CET
DTSTART:20211031T010000
END:STANDARD
END:VTIMEZONE
BEGIN:VEVENT
DTSTART;TZID=Europe/Madrid:20211120T163000
DTEND;TZID=Europe/Madrid:20211120T203000
DTSTAMP:20260423T034206
CREATED:20211110T095812Z
LAST-MODIFIED:20211110T095812Z
UID:50374-1637425800-1637440200@www.mieres.es
SUMMARY:XX Simposio Renta Básica Universal e Incondicional (RBUI). Asturies\, 19 y 20 noviembre 2021
DESCRIPTION:XX SIMPOSIO Renta Básica Universal e Incondicional (RBUI)\nAsturies\, 19 y 20 noviembre 2021 \n  \n(Mieres – Casa Cultura Teodoro Cuesta) \n  \n16:30 h.- Mesa 6 \n18:20 h.- Pausa \n18:30 h.- Conferencia del Embajador Representante Permanente de España ante las Naciones Unidas (telemática) \n19:00 h.- Proyección de documental: Renta Básica Universal\, nuestro derecho a vivir \n19:35 h.- Cierre del acto \n19:45 h.- Asamblea Red Renta Básica \n  \n  \n\n  \nMesa 6.- El papel de la RBUI en el cambio de modelo productivo: Transición ecológica; digitalización y robotización; reparto del empleo; la RBUI en la lucha contra el despoblamiento del medio rural: \n\nÁngeles Ceinos Suárez – Prof. Titular de Derecho del Trabajo y Seguridad Social. Coordinadora de Prácticas externas del Máster sobre protección jurídica de colectivos vulnerables (Universidad de Oviedo).\nLaura López Santamatina – Diplomada en Educación Social y Técnica en Integración Social. Responsable Programa Empleo y Formación en Fundación Edes.\nJulen Bollain Urbieta – Profesor e Investigador en Mondragon Unibertsitatea. Miembro de la Red Renta Básica.\nVerónica Sánchez Martino – Antropóloga y Master en Agroecología. Socia de Kikiricoop Sociedad Cooperativa.\n\n  \n  \n\n 
URL:https://www.mieres.es/evento/xx-simposio-renta-basica-universal-e-incondicional-rbui-asturies-19-y-20-noviembre-2021/
LOCATION:Casa de Cultura Teodoro Cuesta\, Calle Manuel Llaneza\, 8\, Mieres\, Asturias\, 33600\, España
CATEGORIES:Jornadas
ATTACH;FMTTYPE=image/jpeg:https://www.mieres.es/wp-content/uploads/2021/11/cartel-Simposio-RENTA-BASICA.jpg
GEO:43.2502294;-5.7729571
X-APPLE-STRUCTURED-LOCATION;VALUE=URI;X-ADDRESS=Casa de Cultura Teodoro Cuesta Calle Manuel Llaneza 8 Mieres Asturias 33600 España;X-APPLE-RADIUS=500;X-TITLE=Calle Manuel Llaneza\, 8:geo:-5.7729571,43.2502294
END:VEVENT
END:VCALENDAR