BEGIN:VCALENDAR
VERSION:2.0
PRODID:-//Ayuntamiento de Mieres - ECPv5.16.1.1//NONSGML v1.0//EN
CALSCALE:GREGORIAN
METHOD:PUBLISH
X-WR-CALNAME:Ayuntamiento de Mieres
X-ORIGINAL-URL:https://www.mieres.es
X-WR-CALDESC:Eventos para Ayuntamiento de Mieres
BEGIN:VTIMEZONE
TZID:Europe/Madrid
BEGIN:DAYLIGHT
TZOFFSETFROM:+0100
TZOFFSETTO:+0200
TZNAME:CEST
DTSTART:20220327T010000
END:DAYLIGHT
BEGIN:STANDARD
TZOFFSETFROM:+0200
TZOFFSETTO:+0100
TZNAME:CET
DTSTART:20221030T010000
END:STANDARD
END:VTIMEZONE
BEGIN:VEVENT
DTSTART;TZID=Europe/Madrid:20220507T113000
DTEND;TZID=Europe/Madrid:20220507T113000
DTSTAMP:20260422T183130
CREATED:20220504T112409Z
LAST-MODIFIED:20220504T114429Z
UID:53472-1651923000-1651923000@www.mieres.es
SUMMARY:Jornadas informativas sobre fondos europeos 'Día de Europa': "El gran juego de Europa"
DESCRIPTION:Con motivo de la conmemoración del Día Europa\, el próximo sábado 7 de mayo\, a partir de las 11.30 horas: “El Gran Juego de Europa”\, con taller de chapas y juegos\, en la calle lateral de la Plaza de Abastos. Además\, se repartirán material informativo y merchandising sobre proyectos y fondos europeos. \nAdemás\, el 9 de mayo\, Día de Europa\, habrá un acto con alumnado de distintos centros educativos del concejo en la Plaza del Ayuntamiento. \n\n 
URL:https://www.mieres.es/evento/jornadas-informativas-sobre-fondos-europeos-dia-de-europa-el-gran-juego-de-europa/
LOCATION:Plaza del Mercado\, Mieres\, Asturias\, 33600
CATEGORIES:Jornadas,Juventud e Infancia
ATTACH;FMTTYPE=image/jpeg:https://www.mieres.es/wp-content/uploads/2022/05/Cartel-web-DIA-DE-EUROPA-2022.jpg
ORGANIZER;CN="Concejal%C3%ADa%20de%20Infancia%20y%20Juventud":MAILTO:oij@ayto-mieres.es
END:VEVENT
END:VCALENDAR