BEGIN:VCALENDAR
VERSION:2.0
PRODID:-//Ayuntamiento de Mieres - ECPv5.16.1.1//NONSGML v1.0//EN
CALSCALE:GREGORIAN
METHOD:PUBLISH
X-WR-CALNAME:Ayuntamiento de Mieres
X-ORIGINAL-URL:https://www.mieres.es
X-WR-CALDESC:Eventos para Ayuntamiento de Mieres
BEGIN:VTIMEZONE
TZID:Europe/Madrid
BEGIN:DAYLIGHT
TZOFFSETFROM:+0100
TZOFFSETTO:+0200
TZNAME:CEST
DTSTART:20220327T010000
END:DAYLIGHT
BEGIN:STANDARD
TZOFFSETFROM:+0200
TZOFFSETTO:+0100
TZNAME:CET
DTSTART:20221030T010000
END:STANDARD
END:VTIMEZONE
BEGIN:VEVENT
DTSTART;TZID=Europe/Madrid:20220609T090000
DTEND;TZID=Europe/Madrid:20220609T190000
DTSTAMP:20260422T170758
CREATED:20220603T084714Z
LAST-MODIFIED:20220606T082931Z
UID:53976-1654765200-1654801200@www.mieres.es
SUMMARY:II Jornadas formativas para profesionales: 'No a las agresiones sexuales' (09-10JUN)
DESCRIPTION:CONCEJALÍA DE IGUALDAD Y FEMINISMO – ILMO. AYTO. DE MIERES \nII JORNADAS FORMATIVAS PARA PROFESIONALES\nNO A LAS AGRESIONES SEXUALES\n9 y 10 de junio de 2022\nCasa de la Cultura Teodoro Cuesta \nInscripciones gratuitas y abiertas para todo el público en general\, a través del formulario que encontrarán más abajo\, en esta misma página\, y a través del siguiente enlace: https://forms.gle/ggmYAyWATT4qXR7P8 \n\n  \nPrograma jueves\, 09 \n  \n9.00. Intervención institucional: \n\nNuria Varela\, Directora General de Igualdad del Principado de Asturias.\nNuria Ordóñez\, Concejala de Igualdad y Feminismo del Ayuntamiento de Mieres.\n\n9.15 a 10.15. Charla. “Centro de Crisis para víctimas de agresiones sexuales del Principado de Asturias”\, a cargo de Manuela Suárez Granda (Coordinadora contra la Violencia de Género del IAM) y M.ª Victoria Carbajal Fernández (Coordinadora del Centro de Crisis para víctimas de agresiones sexuales del Principado de Asturias) \n10.15 a 11.15. Charla. “Pornografía y límites difusos del consentimiento sexual”\, por María Rodríguez Suárez (Sexóloga y Doctora en Género y Diversidad). \n11.15 a 11.45  Pausa café \n11.45 a 12.45. ”Testimonio de una superviviente”\, por Anna Currilla de la Caja de Pandora ASI. \n12.45 a 13.45. Charla. “Principales novedades en materia de delitos sexuales derivadas de la L.O. de Garantía Integral de la Libertad Sexual.”\, a cargo de Javier G. Fernández Teruelo (Catedrático de Derecho Penal de la Universidad de Oviedo). \nPausa comida \n16.30 a 17.30. Charla. “Intervención con menores víctimas de abusos sexuales”\, por Carolina Aguilera Tamargo (Psicóloga experta en Psicología Infanto-Juvenil) \n17.30 a 18.30. Charla. “La detección y valoración de los patrones de la violencia sexual. El control coercitivo”\, impartida por M.ª Yolanda Martín Higarza (Psicóloga de la Unidad de Valoración Forense Integral de Violencia de Género IML Asturias) \n  \n  \nFormulario de inscripción (válida para las dos jornadas): \n\nCargando…  \n \n  \n 
URL:https://www.mieres.es/evento/ii-jornadas-formativas-para-profesionales-no-a-las-agresiones-sexuales-09-10jun/
LOCATION:Casa de Cultura Teodoro Cuesta\, Calle Manuel Llaneza\, 8\, Mieres\, Asturias\, 33600\, España
CATEGORIES:Igualdad,Jornadas
ATTACH;FMTTYPE=image/jpeg:https://www.mieres.es/wp-content/uploads/2022/06/Cartel.jpeg
GEO:43.2502294;-5.7729571
X-APPLE-STRUCTURED-LOCATION;VALUE=URI;X-ADDRESS=Casa de Cultura Teodoro Cuesta Calle Manuel Llaneza 8 Mieres Asturias 33600 España;X-APPLE-RADIUS=500;X-TITLE=Calle Manuel Llaneza\, 8:geo:-5.7729571,43.2502294
END:VEVENT
END:VCALENDAR