BEGIN:VCALENDAR
VERSION:2.0
PRODID:-//Ayuntamiento de Mieres - ECPv5.16.1.1//NONSGML v1.0//EN
CALSCALE:GREGORIAN
METHOD:PUBLISH
X-WR-CALNAME:Ayuntamiento de Mieres
X-ORIGINAL-URL:https://www.mieres.es
X-WR-CALDESC:Eventos para Ayuntamiento de Mieres
BEGIN:VTIMEZONE
TZID:Europe/Madrid
BEGIN:DAYLIGHT
TZOFFSETFROM:+0100
TZOFFSETTO:+0200
TZNAME:CEST
DTSTART:20220327T010000
END:DAYLIGHT
BEGIN:STANDARD
TZOFFSETFROM:+0200
TZOFFSETTO:+0100
TZNAME:CET
DTSTART:20221030T010000
END:STANDARD
END:VTIMEZONE
BEGIN:VEVENT
DTSTART;TZID=Europe/Madrid:20220610T090000
DTEND;TZID=Europe/Madrid:20220610T190000
DTSTAMP:20260422T170659
CREATED:20220603T085351Z
LAST-MODIFIED:20220606T083115Z
UID:53980-1654851600-1654887600@www.mieres.es
SUMMARY:II Jornadas formativas para profesionales: 'No a las agresiones sexuales' (09-10JUN)
DESCRIPTION:CONCEJALÍA DE IGUALDAD Y FEMINISMO – ILMO. AYTO. DE MIERES \nII JORNADAS FORMATIVAS PARA PROFESIONALES\nNO A LAS AGRESIONES SEXUALES\n9 y 10 de junio de 2022\nCasa de la Cultura Teodoro Cuesta \nInscripciones gratuitas y abiertas para todo el público en general\, a través del formulario que encontrarán más abajo\, en esta misma página\, y a través del siguiente enlace: https://forms.gle/ggmYAyWATT4qXR7P8. \n\n  \nPrograma viernes\, 10 \n  \n9.30 A 10.30. Charla. “Trabajando con las víctimas de agresiones sexuales”\, a cargo de M.ª Argentina Pereira Álvarez (Coordinadora del Centro de Atención a Víctimas de Violencia Sexual y Malos Tratos CAVASYM). \n10.30 A 11.30. Charla. “Los medios y las violencias sexuales: una asignatura pendiente”\, impartida por Marisa Kohan (periodista de Público). \n11.30 a 12.00  Pausa café \n12.00 a 13.00. Charla. “Fenómeno de la sumisión química: una realidad en los delitos sexuales”\, por Elisabeth Ortega Suárez (Psicóloga y Directora del Centro R.E.D. de Mieres) \n13.00 a 14.00. Proyección del cortometraje “Lucía: No es No”\, de Marino Franco\, y charla a cargo de Sonia Díaz (Abogada del Centro Asesor de la Mujer de Mieres). \nPausa comida \n16.30 a 17.30. Charla. “La declaración de la víctima como única prueba de cargo en los delitos sexuales\, y la relevancia de la prueba indiciaria”\, impartida por Myriam Castaño González (Abogada) \n17.30 a 18.30. Charla. “La cultura de la violación”\, por Raquel Presumido (Escritora) \n18.30. Clausura. Intervención de Aníbal Vázquez\, Alcalde del Ayuntamiento de Mieres. \n  \n  \nFormulario de inscripción (válida para las dos jornadas): \n\nCargando…  \n \n  \n 
URL:https://www.mieres.es/evento/ii-jornadas-formativas-para-profesionales-no-a-las-agresiones-sexuales-09-10jun-2/
LOCATION:Casa de Cultura Teodoro Cuesta\, Calle Manuel Llaneza\, 8\, Mieres\, Asturias\, 33600\, España
CATEGORIES:Igualdad,Jornadas
ATTACH;FMTTYPE=image/jpeg:https://www.mieres.es/wp-content/uploads/2022/06/Cartel.jpeg
GEO:43.2502294;-5.7729571
X-APPLE-STRUCTURED-LOCATION;VALUE=URI;X-ADDRESS=Casa de Cultura Teodoro Cuesta Calle Manuel Llaneza 8 Mieres Asturias 33600 España;X-APPLE-RADIUS=500;X-TITLE=Calle Manuel Llaneza\, 8:geo:-5.7729571,43.2502294
END:VEVENT
END:VCALENDAR