BEGIN:VCALENDAR
VERSION:2.0
PRODID:-//Ayuntamiento de Mieres - ECPv5.16.1.1//NONSGML v1.0//EN
CALSCALE:GREGORIAN
METHOD:PUBLISH
X-WR-CALNAME:Ayuntamiento de Mieres
X-ORIGINAL-URL:https://www.mieres.es
X-WR-CALDESC:Eventos para Ayuntamiento de Mieres
BEGIN:VTIMEZONE
TZID:Europe/Madrid
BEGIN:DAYLIGHT
TZOFFSETFROM:+0100
TZOFFSETTO:+0200
TZNAME:CEST
DTSTART:20220327T010000
END:DAYLIGHT
BEGIN:STANDARD
TZOFFSETFROM:+0200
TZOFFSETTO:+0100
TZNAME:CET
DTSTART:20221030T010000
END:STANDARD
END:VTIMEZONE
BEGIN:VEVENT
DTSTART;TZID=Europe/Madrid:20220617T090000
DTEND;TZID=Europe/Madrid:20220617T193000
DTSTAMP:20260422T170706
CREATED:20220614T103013Z
LAST-MODIFIED:20220614T103219Z
UID:54229-1655456400-1655494200@www.mieres.es
SUMMARY:II Jornadas CIRES en España: "Mieres. Rehabilitación urbana vs contracción territorial"  (15 a 17 de junio de 2022)
DESCRIPTION:  \n \n\nJornadas CIRES en España: \nMieres. Rehabilitación urbana vs contracción territorial\n15 a 17 de junio de 2022\nEdificio de Investigación\, campus de Mieres. \nDirigido al público en general \, directivos locales\, estudiantes y técnicos. \n\n  \nEl concejo de Mieres es paradigma de las ciudades mineras españolas en contracción \, y comparte con otras del canto noroeste ibérico una íntima relación. Por todo ello la Red Cires plantea\, a través de su socio adscrito\, el CeCodet de la Universidad de Oviedo\, la realización de su jornada en España en 2022\, en continuidad de la realizada en Barcelona en 2016. Para ello cuenta con la el Ayuntamiento de Mieres\, con quien CeCodet colabora desde hace años en el proceso de transformación urbana\, cuyos hitos más recientes (EDUSI\, Mayacina y M-Movydus) serán expuestos\, siguiendo la metodología utilizada por Cires\, de casos ejemplares y a través del reconocimiento territorial \, tomando como referencia dentro del elenco de temas Cires los señalados como “A”\, “D” y “G”. La Jornada facilitará el encuentro con los concejos portugueses adscritos a Cires de la Região Norte. Complementariamente la sede del encuentro\, (Edificio de Investigación del Campus de Mieres) acogerá la reunión de la comisión directiva de la red Cires. \n  \nPrograma viernes\, 17 de junio \n\n9:30-10:15 Ponencia II. La ciudad y la cultura. Universitas et civitas. Braga y la Universidade do Minho. Miguel Bandeira\, presidente del Consejo Cultural de la Universidade do Minho y de la Fundación\nBracara Augusta. Presenta: Juan Ponte\, concejal de Cultura del Ayuntamiento de Mieres\n10:15 Panel de casos “Universitas et civitas” . (La necesidad; el proyecto; el método; los recursos; los retos). Modera: Angel Martín Rodríguez\, director de la EPM\, Universidad de Oviedo.\nAdemás del ponente intervendrán:\n10:15-10:30 Cristina Engel (UFES\, Brasil) “UFES en Vitoria”.\n10:30-10:45 Alfredo Hidalgo (ITM). (El esquema multicampus del ITM y su inserción urbana)\n10:45-11:00 “Ponferrada y la Universidad de León”. Ayuntamiento de Ponferrada\,\n11:00-11:15 “Almadén y la Universidad de Castilla la Mancha”. Ayuntamiento de Almadén\,\n11:15-11:30 “Mieres y la Universidad de Oviedo”. Angel Martín Rodríguez\, director de la EPM. Universidad de Oviedo\n11:30-12:00 Pausa\n12:00-12:30 Coloquio “Universitas et civitas”. Modera: Jorge Marquínez\, coordinador del Plan Estratégico del campus de Mieres. Intervienen los ponentes anteriores y el público.\n12:30-13:10 Conferencia de clausura: Innovación urbana y territorialización del Instituto Tecnológico y de\nEstudios Superiores de Monterrey: Alfredo Hidalgo (ITM) . Presenta José Angel Fernández Prieto. CeCodet\n13:15-13:45 Acto de clausura: Fermín Rodríguez\, coordinador Jornadas; Cristina Engel\, coordinadora general red Cires; Anibal Vázquez\, alcalde de Mieres; Sandra Velarde\, vicerrectora de Sostenibilidad\, Movilidad y Medio Ambiente\, Universidad de Oviedo\n14:00-16:30 Pausa\n16:30-19:30 Reconocimiento territorial guiado por el concejo y visita al centro cultural PZSB (Cristina Pulgar\, Ayuntamiento de Caravia y CeCodet\, Gaspar Fernández Domínguez \, arquitecto HUUS y CeCodet\, y María Fernanda Fernández\, Pozu Espinos)\n\n  \nOrganiza: CeCodet Universidad de Oviedo\nInformación: garciahcristina@uniovi.es \n  \nLa Red Cires está formada por 21 equipos compuesto por 124 profesionales universitarios y directivos locales de siete países (Argentina\, Brasil\, Chile\, Costa Rica\, Ecuador\, España y Portugal). La financia CYTED (Programa Ibero-Americano de Ciencia y Tecnología para el Desarrollo)\nCómo surgió Cires\nA partir del éxito obtenido por el proyecto Urbenere (Urbes Energéticamente Eficientes) se plantea incentivar acciones que mejoren la calidad de vida de los urbanos y acrecienten la satisfacción de vivir en su lugar.\nQué busca Cires\nProyectos de gestión que concreten la política urbana a partir de la colaboración de tres tipos de actores: las corporaciones locales\, los profesionales vinculados a la ordenación del territorio y el público general\, con ello encuentra casos de experiencias “exitosas” replicables; estrategias de acción; actividades formativas\, material didáctico\, e indicadores para certificar el progreso.\nQué se espera de Cires\n– La actualización de los conocimientos de los equipos técnicos municipales; y profesionales universitarios y libres.\n– El intercambio de información y la creación de asociaciones entre municipalidades.\n– La producción de nuevos conocimientos.\n– La interacción con las empresas del sector para la aplicación de soluciones locales y la creación de nuevas oportunidades de negocio.\nCómo lo hace\nCon actividades de campo (visitas técnicas) Con la movilidad entre los consorciados\, estudiantes\, profesionales\, técnicos y directivos.\nOrganizando encuentros sobre los siguientes asuntos:\nA. Planeamiento urbano\, gestión territorial y resiliencia urbana\nB. Conflictos ambientales y sociales locales\nC. Indicadores y certificación de la sustentabilidad urbana\nD. Movilidad y rehabilitación urbana y de la construcción\, NZEB\nE. Ambientes naturales: preservación y restauración\nF. Materiales eficientes e infraestructuras resilientes\nG. Gestión sustentable del agua\, de la energía y de los residuos \nEn 2022\, están previstos los siguientes encuentros: España -Mieres-  (U. de Oviedo) junio; Ecuador (U. de Cuenca) julio; Chile (U.\nBio Bio) agosto; y Brasil (UFES) diciembre.
URL:https://www.mieres.es/evento/ii-jornadas-cires-en-espana-mieres-rehabilitacion-urbana-vs-contraccion-territorial-15-a-17-de-junio-de-2022-2/
LOCATION:Campus Universitario de Mieres\, Calle Gonzalo Gutiérrez Quirós\, Mieres\, Asturias\, 33600
CATEGORIES:Jornadas
ATTACH;FMTTYPE=image/jpeg:https://www.mieres.es/wp-content/uploads/2022/06/Cartel-jornadas-CIRES-mieres-2022.jpg
GEO:43.2415825;-5.7771595
X-APPLE-STRUCTURED-LOCATION;VALUE=URI;X-ADDRESS=Campus Universitario de Mieres Calle Gonzalo Gutiérrez Quirós Mieres Asturias 33600;X-APPLE-RADIUS=500;X-TITLE=Calle Gonzalo Gutiérrez Quirós:geo:-5.7771595,43.2415825
END:VEVENT
END:VCALENDAR