BEGIN:VCALENDAR
VERSION:2.0
PRODID:-//Ayuntamiento de Mieres - ECPv5.16.1.1//NONSGML v1.0//EN
CALSCALE:GREGORIAN
METHOD:PUBLISH
X-WR-CALNAME:Ayuntamiento de Mieres
X-ORIGINAL-URL:https://www.mieres.es
X-WR-CALDESC:Eventos para Ayuntamiento de Mieres
BEGIN:VTIMEZONE
TZID:Europe/Madrid
BEGIN:DAYLIGHT
TZOFFSETFROM:+0100
TZOFFSETTO:+0200
TZNAME:CEST
DTSTART:20220327T010000
END:DAYLIGHT
BEGIN:STANDARD
TZOFFSETFROM:+0200
TZOFFSETTO:+0100
TZNAME:CET
DTSTART:20221030T010000
END:STANDARD
END:VTIMEZONE
BEGIN:VEVENT
DTSTART;TZID=Europe/Madrid:20220923T180000
DTEND;TZID=Europe/Madrid:20220923T180000
DTSTAMP:20260422T124553
CREATED:20220916T071111Z
LAST-MODIFIED:20220916T072539Z
UID:58898-1663956000-1663956000@www.mieres.es
SUMMARY:Ruta guiada: "Personajes y curiosidades de las calles de Mieres"\, por Ernesto Burgos
DESCRIPTION:SEMANA EUROPEA DE LA MOVILIDAD 2022 \n  \nRuta guiada: \nPERSONAJES Y CURIOSIDADES EN LAS CALLES DE MIERES\nitinerario urbano guiado por el historiador Ernesto Burgos\nUn recorrido histórico y social de Mieres a través de los personajes que dan nombre a las calles de Mieres \nSalida desde C/Manuel Llaneza (frente Colegio Aniceto Sela)\nInscripciones gratuitas y limitadas a 25 plazas\, en el formulario ofrecido en esta misma página\, más abajo. \n\n  \nLa Semana Europea de la Movilidad es la principal campaña de sensibilización de la Comisión Europea sobre movilidad urbana sostenible. Fomenta el cambio de comportamiento a favor de la movilidad activa\, el transporte público y otras soluciones de transporte limpias e inteligentes. El tema anual para este año 2022 es ‘Mejores conexiones‘ y tiene como objetivo difundir los beneficios del uso de modos de transporte sostenibles. Con más pueblos y ciudades uniéndose cada año\, la campaña continúa impulsando a Europa\, hacia la movilidad urbana sostenible. \nEn esta semana\, organizada alrededor del Día sin coches\, que se celebra el día 22 de septiembre\, se organizan diferentes actividades para fomentar el transporte público y la recuperación de espacios para peatones y ciclistas. Nuestro concejo se ha sumado a esta iniciativa con dos interesantes rutas guiadas por nuestro casco urbano\, una mesa redonda sobre el importante papel del transporte público en la actualidad\, toda una serie de actividades de educación vial y contacto con la calle vacía de coches en ese día y con la iniciativa de EMUTSA\, que permitirá el uso gratuito de todos sus autobuses a lo largo de ese día 22. \n  \n\n  \nFORMULARIO DE INSCRIPCIÓN:\nCargando…
URL:https://www.mieres.es/evento/ruta-guiada-personajes-y-curiosidades-de-las-calles-de-mieres-por-ernesto-burgos/
LOCATION:Casa de Cultura Teodoro Cuesta\, Calle Manuel Llaneza\, 8\, Mieres\, Asturias\, 33600\, España
CATEGORIES:Jornadas,Medio Ambiente,Visita guiada
ATTACH;FMTTYPE=image/jpeg:https://www.mieres.es/wp-content/uploads/2022/09/Dia-internacional-sin-coche-2022-web.jpg
GEO:43.2502294;-5.7729571
X-APPLE-STRUCTURED-LOCATION;VALUE=URI;X-ADDRESS=Casa de Cultura Teodoro Cuesta Calle Manuel Llaneza 8 Mieres Asturias 33600 España;X-APPLE-RADIUS=500;X-TITLE=Calle Manuel Llaneza\, 8:geo:-5.7729571,43.2502294
END:VEVENT
END:VCALENDAR