BEGIN:VCALENDAR
VERSION:2.0
PRODID:-//Ayuntamiento de Mieres - ECPv5.16.1.1//NONSGML v1.0//EN
CALSCALE:GREGORIAN
METHOD:PUBLISH
X-WR-CALNAME:Ayuntamiento de Mieres
X-ORIGINAL-URL:https://www.mieres.es
X-WR-CALDESC:Eventos para Ayuntamiento de Mieres
BEGIN:VTIMEZONE
TZID:Europe/Madrid
BEGIN:DAYLIGHT
TZOFFSETFROM:+0100
TZOFFSETTO:+0200
TZNAME:CEST
DTSTART:20230326T010000
END:DAYLIGHT
BEGIN:STANDARD
TZOFFSETFROM:+0200
TZOFFSETTO:+0100
TZNAME:CET
DTSTART:20231029T010000
END:STANDARD
END:VTIMEZONE
BEGIN:VEVENT
DTSTART;TZID=Europe/Madrid:20230503T120000
DTEND;TZID=Europe/Madrid:20230503T120000
DTSTAMP:20260422T001544
CREATED:20230426T101552Z
LAST-MODIFIED:20230426T103859Z
UID:62586-1683115200-1683115200@www.mieres.es
SUMMARY:Selmana de les Lletres Asturianes 2023. "Autores nel camín"\, alcuentru lliterariu con Guillermo Menéndez Quirós
DESCRIPTION:Selmana de les Lletres Asturianes 2023\nMIÉRCOLES\, 3 DE MAYO\n12:00h. \nLliteratura \nAlcuentru lliterariu con Guillermo Menéndez Quirós\nPremio Alfonso Iglesias de cómic en asturiano 2022 con la obra Ana María. La Llobera d’Asturies \nSala Juvenil de la Biblioteca Pública de Mieres \nCon la participación de alumnos/as de IES del Conceyu \n\n  \nCICLO AUTORES NEL CAMÍN \n  \nGuillermo Menéndez Quirós (La Felguera\, 1994) es autor de cómic y novela gráfica. Se formó en la Escuela de Arte de Oviedo y en las facultades de Bellas Artes de Salamanca y del País Vasco. En Bilbao comenzó a desarrollar su interés por el cartelismo y la historieta\, lo que le llevó a colaborar en diversos fanzines y revistas\, para acabar desarrollando su propia obra. Es autor de Galdós. Un escritor en Madrid (2020)\, Milicias vascas antifascistas (2021); Herederos de Euskalduna (2º puesto en el concurso de cómic del Museo Marítimo de Bilbao) y Desindustrialización y resistencia (accésit en el concurso Art Nalón). En la actualidad trabaja en su próxima novela gráfica: Cumbres en pie de guerra. La batalla del Mazucu\, sobre el episodio más representativo de la resistencia republicana durante la caída del Frente Norte. \nGanador del Premio Alfonso Iglesias de cómic en asturiano 2022 con la obra Ana María. La Llobera d’Asturies. En el acta\, el jurado destaca “la recuperación de la figura de una mujer silenciada en la historia oficial\, la notable calidad gráfica y el inteligente uso del color del proyecto\, realizado con una técnica narrativa contemporánea\, así como su apuesta por la riqueza lingüística de Asturias\, al reflejar las variantes orientales de la lengua”.
URL:https://www.mieres.es/evento/selmana-de-les-lletres-asturianes-2023-autores-nel-camin-alcuentru-lliterariu-con-guillermo-menendez-quiros-2/
LOCATION:Biblioteca Pública de Mieres\, Calle Manuel Llaneza\, 8\, Mieres\, Asturias\, 33600 \, España
CATEGORIES:Jornadas,Letras,Llingua
ATTACH;FMTTYPE=image/jpeg:https://www.mieres.es/wp-content/uploads/2023/04/selmana-lletres-Mieres-2023.jpeg
GEO:43.2502294;-5.7729571
X-APPLE-STRUCTURED-LOCATION;VALUE=URI;X-ADDRESS=Biblioteca Pública de Mieres Calle Manuel Llaneza 8 Mieres Asturias 33600  España;X-APPLE-RADIUS=500;X-TITLE=Calle Manuel Llaneza\, 8:geo:-5.7729571,43.2502294
END:VEVENT
BEGIN:VEVENT
DTSTART;TZID=Europe/Madrid:20230503T190000
DTEND;TZID=Europe/Madrid:20230503T190000
DTSTAMP:20260422T001544
CREATED:20230426T102649Z
LAST-MODIFIED:20230426T103045Z
UID:62590-1683140400-1683140400@www.mieres.es
SUMMARY:Selmana de les Lletres Asturianes 2023. Actu d'entrega del XXXI Premiu Teodoro Cuesta de Poesía
DESCRIPTION:Selmana de les Lletres Asturianes 2023\nMIÉRCOLES\, 3 DE MAYO\n19:00h. \nLliteratura \nActu d’entrega del XXXI Premiu Teodoro Cuesta de Poesía\nAlcuentru col ganador\, Gonzalo González Barreñada\nActuación musical de “Vulgar Lengua” \nSalón d’actos de la Casa Cultura Teodoro Cuesta \nEntrada llibre \n\n  \nL’escritor Gonzalo González Barreñada\, cola obra ‘Cartes de treslluz’\, ye’l ganador del XXXI Premiu Teodoro Cuesta de Poesía qu’entama’l Conceyu de Mieres. \nEl xuráu tuvo integráu por Pilar Fidalgo\, Montserrat Garnacho\, Milio Ureta Soto\, Pablo Rodríguez Medina y Esther Prieto\, actuando como presidenta la conceyala d’Educación Ana Belén Losa y como secretaria la responsable del Serviciu de Normalización\, Luis Suárez. A esta edición presentáronse doce poemarios y el premiu pa González Barreñada foi por mayoría. El Premiu Teodoro Cuesta ta dotáu con 4.000 euros. \nGonzalo González Barreñada (Sotrondio\, 1973)\, llicenciáu en Xeografía y Historia\, ye poeta y narrador en llingua asturiana que se recueye na revista Campo de los Patos y nes obres titulaes: Biografíes\, La casa de Xuan Buelga\, Hestories de Burgundu y El pesu de la lluz. \n  \nActuación musical: \n“Vulgar lengua” nace de la unión de dos amantes de la música\, procedentes de muy diferentes estilos\, que se encuentran para homenajear a la voz del pueblo\, la misma que con tanta vehemencia defendió Pasolini. \nEva Rodríguez\, formada en el mundo de la percusión tradicional con Javier y Eva Tejedor\, y en el del canto con Mapi Quintana y Ruth Suárez\, debuta oficialmente con un repertorio que incluye reinterpretaciones de piezas musicadas por Mercedes Sosa\, Sílvia Pérez Cruz\, Caetano Veloso o Chicho Sánchez Ferlosio. \nMiguel Rodrígez «Distor»\, graduado en el Conservatorio Superior de Oviedo\, es una referencia en el panorama rockero asturiano; ha transitado un amplio arco\, desde el sonido más extremo (formó la mítica banda Repugnance) hasta los grandes clásicos de la guitarra.
URL:https://www.mieres.es/evento/selmana-de-les-lletres-asturianes-2023-actu-dentrega-del-xxxi-premiu-teodoro-cuesta-de-poesia/
LOCATION:Casa de Cultura Teodoro Cuesta\, Calle Manuel Llaneza\, 8\, Mieres\, Asturias\, 33600\, España
CATEGORIES:Jornadas,Letras,Llingua
ATTACH;FMTTYPE=image/jpeg:https://www.mieres.es/wp-content/uploads/2023/04/selmana-lletres-Mieres-2023.jpeg
GEO:43.2502294;-5.7729571
X-APPLE-STRUCTURED-LOCATION;VALUE=URI;X-ADDRESS=Casa de Cultura Teodoro Cuesta Calle Manuel Llaneza 8 Mieres Asturias 33600 España;X-APPLE-RADIUS=500;X-TITLE=Calle Manuel Llaneza\, 8:geo:-5.7729571,43.2502294
END:VEVENT
END:VCALENDAR