BEGIN:VCALENDAR
VERSION:2.0
PRODID:-//Ayuntamiento de Mieres - ECPv5.16.1.1//NONSGML v1.0//EN
CALSCALE:GREGORIAN
METHOD:PUBLISH
X-WR-CALNAME:Ayuntamiento de Mieres
X-ORIGINAL-URL:https://www.mieres.es
X-WR-CALDESC:Eventos para Ayuntamiento de Mieres
BEGIN:VTIMEZONE
TZID:Europe/Madrid
BEGIN:DAYLIGHT
TZOFFSETFROM:+0100
TZOFFSETTO:+0200
TZNAME:CEST
DTSTART:20230326T010000
END:DAYLIGHT
BEGIN:STANDARD
TZOFFSETFROM:+0200
TZOFFSETTO:+0100
TZNAME:CET
DTSTART:20231029T010000
END:STANDARD
END:VTIMEZONE
BEGIN:VEVENT
DTSTART;TZID=Europe/Madrid:20231105T110000
DTEND;TZID=Europe/Madrid:20231105T210000
DTSTAMP:20260421T120447
CREATED:20231024T113459Z
LAST-MODIFIED:20231024T113459Z
UID:65272-1699182000-1699218000@www.mieres.es
SUMMARY:XXXI Jornadas micológicas de Mieres 2023. Exposición micológica y conferencia
DESCRIPTION:  \nXXXI Jornadas micológicas de Mieres 2023\nAsociación micológica La Pardina \n  \nDel 3 al 6 de noviembre\nMieres Centru Cultural (MCC) \nEntrada libre \n\nEl otoño es tiempo de setas y son muchos los mierenses los que aprovechan para su recogida. La asociación micológica La Pardina vuelve a coger el testigo para la celebración de las XXXI Jornadas Micológicas de Mieres\, que se celebrarán del 3 al 6 de noviembre en el Mieres Centru Cultural (MCC). Se trata de una cita arraigada en el calendario municipal y que esperan cada año con interés muchos vecinos que participan en las mismas. \nLas jornadas de este año contarán con dos salidas libres para la recolección de setas\, para su posterior clasificación y exposición. Una actividad abierta al público en general . También habrá una interesante conferencia y\, como viene siendo habitual\, interesantes ofertas gastronómicas en las que participarán diferentes establecimientos del concejo que aportarán su buen hacer en la cocina. \nLas salidas para la recolección pueden llevarse a cabo a lo largo de toda la jornada del viernes y el sábado por la mañana\, reservando esta última tarde para la clasificación de los ejemplares recolectados y su posterior exposición. En ediciones anteriores se llegaron a recolectar hasta 250 especies de setas en los bosques del concejo. La exposición realizada con los ejemplares recogidos y clasificados podrá visitarse el domingo en horario de mañana y tarde\, y en la mañana del lunes\, en Mieres Centru Cultural. \nEn este mismo espacio\, en la tarde del domingo día 5 tendrá lugar la conferencia “Un rincón micológico en el Botánico de Gijón”\, a cargo de Alberto Román Vargas. A su vez\, las jornadas abren la posibilidad de que el sector hostelero local oferte a los comensales diferentes platos donde el protagonismo sea para las setas silvestres de los montes asturianos. \n  \n\n 
URL:https://www.mieres.es/evento/xxxi-jornadas-micologicas-de-mieres-2023-exposicion-micologica-y-conferencia/
LOCATION:Mieres Centru Cultural\, Calle Jerónimo Ibrán\, 10\, Mieres\, Asturias\, 33600
CATEGORIES:Jornadas
ATTACH;FMTTYPE=image/jpeg:https://www.mieres.es/wp-content/uploads/2023/10/jornadas-La-Pardina-2023.jpg
END:VEVENT
END:VCALENDAR