BEGIN:VCALENDAR
VERSION:2.0
PRODID:-//Ayuntamiento de Mieres - ECPv5.16.1.1//NONSGML v1.0//EN
CALSCALE:GREGORIAN
METHOD:PUBLISH
X-WR-CALNAME:Ayuntamiento de Mieres
X-ORIGINAL-URL:https://www.mieres.es
X-WR-CALDESC:Eventos para Ayuntamiento de Mieres
BEGIN:VTIMEZONE
TZID:Europe/Madrid
BEGIN:DAYLIGHT
TZOFFSETFROM:+0100
TZOFFSETTO:+0200
TZNAME:CEST
DTSTART:20230326T010000
END:DAYLIGHT
BEGIN:STANDARD
TZOFFSETFROM:+0200
TZOFFSETTO:+0100
TZNAME:CET
DTSTART:20231029T010000
END:STANDARD
END:VTIMEZONE
BEGIN:VEVENT
DTSTART;TZID=Europe/Madrid:20231109T180000
DTEND;TZID=Europe/Madrid:20231109T180000
DTSTAMP:20260421T121238
CREATED:20231018T121416Z
LAST-MODIFIED:20231023T100414Z
UID:65107-1699552800-1699552800@www.mieres.es
SUMMARY:IV Jornadas Municipales sobre infancia y necesidades específicas de apoyo educativo 'En Positivo'. Charla: “Factores de Riesgo y Protección en la Salud Mental de Niños y Adolescentes"
DESCRIPTION:EN POSITIVO\nIV Jornadas Municipales sobre infancia y necesidades específicas de apoyo educativo.\nMieres\, 8 al 11 de noviembre de 2023\nÁrea de Salud del Ayuntamiento de Mieres \nSalón de actos de la Casa de Cultura Teodoro Cuesta (Charlas)\nAula grande Casa de Cultura Teodoro Cuesta (Talleres) \n\n  \nPROGRAMA. Jueves\, 9 de noviembre\n18:00 h. Charla: “Factores de Riesgo y Protección en la Salud Mental de Niños y Adolescentes: Un Análisis desde la Psiquiatría Infanto-Juvenil” \n\nElisa Seijo Zazo. Psiquiatra infantil y de la adolescencia. Doctora en Medicina\n\nElisa Seijo Zazo es licenciada en Medicina en el año 2000\, especialista en Psiquiatría en el 2006 y Psiquiatra Infantil y de la Adolescencia desde 2021. Doctora en Medicina por la Universidad de Oviedo (2015). Autora de artículos publicados en revistas de impacto\, así como capítulos de libros y manuales de psiquiatría\, principalmente centrados en la salud mental de la infancia y la adolescencia. Ha dedicado la mayor parte de su trayectoria profesional a la atención psiquiátrica de los niños y adolescentes\, tanto en la parte asistencial como vinculada a diferentes proyectos de investigación. Miembro investigador del Instituto de Neurociencias Principado de Asturias (INEUROPA) y del Instituto de Investigación Sanitaria del Principado de Asturias (ISA). \nEs vicepresidenta Primera del Ilustre Colegio Oficial de Médicos de Asturias. Pertenece también a la Junta Directiva de la Asociación Española de Psiquiatría de la Infancia y Adolescencia. Es miembro de la Comisión Nacional de Psiquiatría infantil y de la Adolescencia y Académica Correspondiente de la Real Academia de Medicina y Cirugía del Principado de Asturias. \nEn esta charla\, se exploran varios factores de riesgo que pueden contribuir a los problemas de salud mental en la juventud\, incluyendo entre otros el estrés\, el trauma\, abuso\, los problemas familiares y escolares\, y las condiciones médicas subyacentes. \nAdemás\, se analizan los factores de protección que pueden ayudar a mitigar estos riesgos y promover una salud mental positiva. Estos pueden ser propios del individuo y/o del entorno\, incluyendo por tanto el fomento de habilidades sociales\, estrategias de afrontamiento adecuadas\, alta resiliencia y autoestima como tanto un sólido apoyo familiar\, relaciones positivas con los compañeros y el acceso a servicios de salud mental. \nFinalmente\, se destaca el papel crucial de la psiquiatría infanto-juvenil en la identificación temprana\, el diagnóstico y el tratamiento de los problemas de salud mental en niños y adolescentes. Se enfatiza la importancia de un enfoque integral que incluya a la familia\, la escuela y la comunidad en general para apoyar el bienestar mental de los jóvenes. \n  \n18:00 h. Taller: “La cámara de niebla. A la caza de partículas subatómicas” \n\nA cargo de: Departamento de Física de la Universidad de Oviedo\nPlazas limitadas\, inscripciones a través del correo  info@pozuespinos.com a partir del 23 de octubre a las 00:00 h.\n\nEl mundo de las partículas elementales se presenta como algo irreal\, al no poder verse ni tocarse\, con lo que muchas veces despierta el escepticismo. Con esta actividad pretendemos acercar el mundo subatómico y despertar en l@s niñ@s una curiosidad que les lleve a tener una actitud crítica basada en la verificación experimental. Para ello construiremos\, a partir de materiales simples\, un detector en el que veremos con nuestros propios ojos las estelas que dejan las partículas cargadas a su paso. Fabricaremos lo que se conoce como “cámara de niebla”. La versión original fue desarrollada por Charles Thomson Rees Wilson en 1894\, aunque la que nosotros vamos a construir\, conocida como cámara de niebla de difusión\, fue desarrollada por Alexander Langsdorf en 1936 \n  \n\nDesde el área de Salud del Ayuntamiento de Mieres\, siguiendo el camino emprendido a fines de 2018\, se programan las IV Jornadas Municipales que avanzan en la dinámica propositiva sobre infancia y adolescencia con necesidades específicas de apoyo educativo. \nDe este modo\, durante el mes de noviembre del presente 2023 y teniendo como marco la Casa de la Cultura Teodoro Cuesta de Mieres\, se prevén 4 jornadas para los días 8\, 9\, 10 y 11 de dicho mes y en las que se reitera el binomio de charla orientada para padres\, madres\, tutores y docentes (es decir\, para público adulto) y un taller en paralelo\, para niñas\, niños y adolescentes (ver en cada caso el rango de edad)\, todos ellos en manos de profesionales de prestigio que hacen una propuesta específica para esta ocasión. \nSe abarcan así a nivel divulgativo cuestiones relevantes y que provocan no poco debate y en ocasiones\, dudas\, en familiares y educadores: este año nos ocuparemos de los problemas que afrontan alumn@s que lidian con trastornos del espectro autista (TEA) y sus familias\, de aquellos que presentan trastornos de la conducta\, del día a día de los servicios hospitalarios de psiquiatría infantojuvenil o de una cuestión tan común como poco conocida\,  la dislexia. En cuanto a las actividades para los chavales\, se trata de promover un aprendizaje experiencial y diferente\, intentando proponer modos diversos de comprensión y afianzamiento del conocimiento en distintos ámbitos: geología\, biología\, física… \nComo cuestiones prácticas de orden general\, conviene recordar que las charlas no requieren inscripción previa (el acceso es libre y gratuito hasta completar aforo) y en cuanto a los talleres\, todos precisan de una inscripción previa en los correos electrónicos que se indican en cada caso\, por cuyo orden se determinará rigurosamente la admisión\, dado que el número de participantes está necesariamente limitado. El periodo de inscripción en los talleres se abrirá el próximo 23 de octubre\, lunes\, a las 00:00 h.
URL:https://www.mieres.es/evento/iv-jornadas-municipales-sobre-infancia-y-necesidades-especificas-de-apoyo-educativo-en-positivo-charla-factores-de-riesgo-y-proteccion-en-la-salud-mental-de-ninos-y-adolescentes/
LOCATION:Casa de Cultura Teodoro Cuesta\, Calle Manuel Llaneza\, 8\, Mieres\, Asturias\, 33600\, España
CATEGORIES:Educación,Jornadas,Salud
ATTACH;FMTTYPE=image/jpeg:https://www.mieres.es/wp-content/uploads/2023/10/CARTEL-GENERAL-IV-Jornadas_rectificado.jpg
GEO:43.2502294;-5.7729571
X-APPLE-STRUCTURED-LOCATION;VALUE=URI;X-ADDRESS=Casa de Cultura Teodoro Cuesta Calle Manuel Llaneza 8 Mieres Asturias 33600 España;X-APPLE-RADIUS=500;X-TITLE=Calle Manuel Llaneza\, 8:geo:-5.7729571,43.2502294
END:VEVENT
END:VCALENDAR