BEGIN:VCALENDAR
VERSION:2.0
PRODID:-//Ayuntamiento de Mieres - ECPv5.16.1.1//NONSGML v1.0//EN
CALSCALE:GREGORIAN
METHOD:PUBLISH
X-WR-CALNAME:Ayuntamiento de Mieres
X-ORIGINAL-URL:https://www.mieres.es
X-WR-CALDESC:Eventos para Ayuntamiento de Mieres
BEGIN:VTIMEZONE
TZID:Europe/Madrid
BEGIN:DAYLIGHT
TZOFFSETFROM:+0100
TZOFFSETTO:+0200
TZNAME:CEST
DTSTART:20210328T010000
END:DAYLIGHT
BEGIN:STANDARD
TZOFFSETFROM:+0200
TZOFFSETTO:+0100
TZNAME:CET
DTSTART:20211031T010000
END:STANDARD
END:VTIMEZONE
BEGIN:VEVENT
DTSTART;TZID=Europe/Madrid:20211216T190000
DTEND;TZID=Europe/Madrid:20211216T190000
DTSTAMP:20260423T092837
CREATED:20211210T130714Z
LAST-MODIFIED:20211210T130714Z
UID:50981-1639681200-1639681200@www.mieres.es
SUMMARY:Presentación del libro: "¡No pasarán! Biografía de Dolores Ibarruri\, Pasionaria"\, de Mario Amorós
DESCRIPTION:Presentación del libro: \n\n¡No pasarán! Biografía de Dolores Ibarruri\, Pasionaria\nde Mario Amorós\nEditorial Akal \n\n  \n\nSala de exposiciones de la Casa de Cultura Teodoro Cuesta\n(con retransmisión online a través del canal de Youtube Ayuntamiento de Mieres) \nEntrada gratuita hasta completar aforo. \n\n\n\n  \n\n\n«Todo el país vibra de indignación ante esos desalmados que quieren\, por el fuego y el terror\, sumir a la España democrática y popular en un infierno de terror. Pero no pasarán…» Aquel legendario llamamiento por radio del 19 de julio de 1936 convirtió a Dolores Ibárruri\, a la sazón diputada del Frente Popular por Asturias\, en el símbolo universal de la resistencia republicana frente al fascismo. Nacida en el corazón de la cuenca minera vizcaína y militante del Partido Comunista de España desde su fundación –ahora hace justo un siglo–\, es en el crisol y la tragedia de la guerra civil cuando se forja el mito de Pasionaria. \nTras la amarga derrota de 1939 conocerá un largo exilio de cuatro décadas\, principalmente en la Unión Soviética. Asume la secretaría general del PCE en plena guerra mundial\, en la que su hijo Rubén\, oficial del Ejército Rojo\, muere en la batalla de Stalingrado. Retornada a España en 1977\, la imagen de Dolores Ibárruri del brazo de Rafael Alberti\, en el Congreso de los Diputados\, constituye una de las estampas más icónicas de la Transición. Fallecida en Madrid el 12 de noviembre de 1989 –apenas tres días después de la caída del Muro de Berlín–\, su vida es un hilo rojo que atraviesa todo el siglo XX. \nA partir de una documentación excepcional y en buena parte inédita (como es el caso del archivo personal de Dolores Ibárruri)\, Mario Amorós ha escrito un relato biográfico riguroso y sobre todo necesario de una de las grandes figuras del movimiento obrero y comunista internacional\, de una personalidad esencial para comprender la historia de la España contemporánea. \n  \nMario Amorós (Alicante\, 1973) es doctor en Historia y periodista. Ha sido profesor invitado en la Universidad de Chile y entre sus obras destacan las biografías consagradas a Salvador Allende\, Pablo Neruda y Augusto Pinochet. En su faceta de periodista escribe en medios de comunicación relevantes\, tanto españoles como chilenos. \n  \n\n\n\n\n 
URL:https://www.mieres.es/evento/presentacion-del-libro-no-pasaran-biografia-de-dolores-ibarruri-pasionaria-de-mario-amoros/
LOCATION:Casa de Cultura Teodoro Cuesta\, Calle Manuel Llaneza\, 8\, Mieres\, Asturias\, 33600\, España
CATEGORIES:Letras
ATTACH;FMTTYPE=image/jpeg:https://www.mieres.es/wp-content/uploads/2021/12/pasionaria-no-pasaran.jpeg
GEO:43.2502294;-5.7729571
X-APPLE-STRUCTURED-LOCATION;VALUE=URI;X-ADDRESS=Casa de Cultura Teodoro Cuesta Calle Manuel Llaneza 8 Mieres Asturias 33600 España;X-APPLE-RADIUS=500;X-TITLE=Calle Manuel Llaneza\, 8:geo:-5.7729571,43.2502294
END:VEVENT
END:VCALENDAR