BEGIN:VCALENDAR
VERSION:2.0
PRODID:-//Ayuntamiento de Mieres - ECPv5.16.1.1//NONSGML v1.0//EN
CALSCALE:GREGORIAN
METHOD:PUBLISH
X-WR-CALNAME:Ayuntamiento de Mieres
X-ORIGINAL-URL:https://www.mieres.es
X-WR-CALDESC:Eventos para Ayuntamiento de Mieres
BEGIN:VTIMEZONE
TZID:Europe/Madrid
BEGIN:DAYLIGHT
TZOFFSETFROM:+0100
TZOFFSETTO:+0200
TZNAME:CEST
DTSTART:20210328T010000
END:DAYLIGHT
BEGIN:STANDARD
TZOFFSETFROM:+0200
TZOFFSETTO:+0100
TZNAME:CET
DTSTART:20211031T010000
END:STANDARD
END:VTIMEZONE
BEGIN:VEVENT
DTSTART;TZID=Europe/Madrid:20211219T193000
DTEND;TZID=Europe/Madrid:20211219T193000
DTSTAMP:20260423T093609
CREATED:20211210T111235Z
LAST-MODIFIED:20211218T121921Z
UID:50960-1639942200-1639942200@www.mieres.es
SUMMARY:Gala de entrega de los Premios Serondaya a la Innovación Cultural 2021 (APLAZADO)
DESCRIPTION:COMUNICADO OFICIAL DE LA ORGANIZACIÓN \nComo sabéis\, mañana domingo\, teníamos previsto celebrar la GALA DE ENTREGA DE LOS PREMIOS SERONDAYA en el Auditorio de Mieres. Ante el agravamiento de la situación pandémica en Asturias\, y especialmente en Mieres\, hemos decidido aplazar la Ceremonia.  Son muchas personas\, afectadas directa o indirectamente\, por la infección las que no podrían asistir\, incluyendo algunos premiados. El momento\, una vez más\, nos exige responsabilidad y prudencia. Esta Fiesta de la Cultura es un homenaje a los premiados y ellos se merecen un acto excelente y pleno de garantías\, como todos los celebrados hasta el momento. Confiamos en que durante los meses de febrero o marzo la situación sanitaria se haya normalizado y podamos encontrar una fecha para una celebración digna y segura. \n\n  \nLa Asociación Cultural Serondaya organiza la gala de entrega de los PREMIOS SERONDAYA A LA INNOVACIÓN CULTURAL 2021\, en sus secciones de Artes\, Letras\, Ciencias de la Cultura Humana y Gastronomía\, que en esta ocasión contará con la actuación especial del Cuarteto hispanoamericano de guitarras ENTREQUATRE. \nUn año más\, la asociación acude a la cita con la cultura y con la innovación con una nueva convocatoria de estos premios que ya son una referencia en el mundo de la cultura\, no sólo en Asturias\, sino en todo el ámbito nacional. \nLos premios cuentan con el patrocinio del Ayuntamiento de Mieres\, de la Fundación Caja Rural y del Diario El Comercio. Las y los galardonados en esta edición han sido: \nPremio Gastronomía: Fundación Vivanco \nPremio Artes: Rodrigo Cuevas \nPremio Ciencias de la Cultura: Asociación La Mediana (Cármenes) \nPremio de las Letras: POEX-Poesía en Xixón \n\n 
URL:https://www.mieres.es/evento/gala-de-entrega-de-los-premios-serondaya-a-la-innovacion-cultural-2021/
LOCATION:Casa de Cultura Teodoro Cuesta\, Calle Manuel Llaneza\, 8\, Mieres\, Asturias\, 33600\, España
CATEGORIES:Arte,Jornadas,Letras,Premios
ATTACH;FMTTYPE=image/jpeg:https://www.mieres.es/wp-content/uploads/2021/12/Serondaya-cartel-Gala-Entrega-Premios-2021.jpg
ORGANIZER;CN="Asoc.%20Cultural%20Serondaya":MAILTO:acserondaya@gmail.com
GEO:43.2502294;-5.7729571
X-APPLE-STRUCTURED-LOCATION;VALUE=URI;X-ADDRESS=Casa de Cultura Teodoro Cuesta Calle Manuel Llaneza 8 Mieres Asturias 33600 España;X-APPLE-RADIUS=500;X-TITLE=Calle Manuel Llaneza\, 8:geo:-5.7729571,43.2502294
END:VEVENT
END:VCALENDAR