BEGIN:VCALENDAR
VERSION:2.0
PRODID:-//Ayuntamiento de Mieres - ECPv5.16.1.1//NONSGML v1.0//EN
CALSCALE:GREGORIAN
METHOD:PUBLISH
X-WR-CALNAME:Ayuntamiento de Mieres
X-ORIGINAL-URL:https://www.mieres.es
X-WR-CALDESC:Eventos para Ayuntamiento de Mieres
BEGIN:VTIMEZONE
TZID:Europe/Madrid
BEGIN:DAYLIGHT
TZOFFSETFROM:+0100
TZOFFSETTO:+0200
TZNAME:CEST
DTSTART:20210328T010000
END:DAYLIGHT
BEGIN:STANDARD
TZOFFSETFROM:+0200
TZOFFSETTO:+0100
TZNAME:CET
DTSTART:20211031T010000
END:STANDARD
END:VTIMEZONE
BEGIN:VEVENT
DTSTART;TZID=Europe/Madrid:20211221T200000
DTEND;TZID=Europe/Madrid:20211221T200000
DTSTAMP:20260423T092714
CREATED:20211210T113450Z
LAST-MODIFIED:20211220T101025Z
UID:50963-1640116800-1640116800@www.mieres.es
SUMMARY:Presentación del libro: "Pasionaria: La vida inesperada de Dolores Ibarruri"\, de Diego Díaz (APLAZADO)
DESCRIPTION:Presentación del libro: \n\nLa Pasionaria: La vida inesperada de Dolores Ibarruri\nde Diego Díaz\nEditorial Hoja de Lata \n\n  \n\nAuditoriu Teodoro Cuesta\n(con retransmisión online a través del canal de Youtube Ayuntamiento de Mieres) \nEntrada gratuita hasta completar aforo. \n\n\n\n  \n\n\n¿Cómo una mujer nacida en 1895 en el seno de una familia minera\, tradicionalista y católica de la Bizkaia profunda llegó a convertirse en Pasionaria\, icono mundial del movimiento obrero y de la resistencia antisfascista? Este error en el sistema\, este giro inesperado en la biografía de una muchacha religiosa de Gallarta\, a la que su madre pronosticó una vida “parir\, hilar\, llorar”\, y cuyo sueño de ser maestra se vio truncado por el machismo familiar\, es el hilo conductor de este ensayo del historiador y periodista Diego Díaz. \nCon sus luces y sus sombras\, la figura de Dolores Ibárruri resulta apasionante\, testigo y protagonista de algunos de los principales hitos del siglo xx. Ibárruri pasó de fregar la sede de la agrupación socialista de Somorrostro a ser la secretaria general de uno de los principales partidos comunistas de Europa occidental\, la única mujer miembro del buró de la Komintern\, y una dirigente política que despachaba con Indalecio Prieto\, Azaña\, Negrín\, Togliatti\, Stalin\, Mao\, Jrushchov\, Tito o Fidel Castro. La pionera de un cierto feminismo socialista en los años 30\, la madre de la patria durante la Guerra Civil que antepuso la revolución a la maternidad\, la mujer tradicional que se arriesgó a dejar a su marido y vivir una historia de amor con un camarada 14 años más joven que ella\, la dirigente estalinista que purgó sin titubear a sus camaradas caídos en desgracia\, la admiradora de la URSS que sin embargo condenó la invasión de Praga por el Pacto de Varsovia o la bolchevique de primera hora que se convirtió en la abuela de la Transición española. Hay muchas vidas posibles en la vida inesperada de Dolores Ibárruri. \n  \n«Narración rigurosa y honesta\, muy comprensible para las jóvenes generaciones. Más que una revisión del mito\, este libro propone un mejor entendimiento del personaje. Este libro no se rinde a la leyenda.» \nEnric Juliana\, del prólogo \nDiego Díaz Alonso (Oviedo/Uviéu\, 1981) Es licenciado y doctor en Historia por la Universidad de Oviedo/Uviéu\, y miembro del grupo de investigación de la Universitat Autònoma de Barcelona “Estado y dinámicas nacionales en España (1931-1978)” dirigido por Xavier Domènech y Francesc Vilanova.  Ha colaborado con capítulos en las obras colectivas “Les raons dels indignats”\, “El antifranquismo asturiano en (la) Transición”\, “El movimiento obrero en Asturias durante el franquismo” y “El proceso separatista en Cataluña. Análisis de un pasado reciente”. En solitario ha publicado “Disputar las banderas. Los comunistas\, España y las cuestiones nacionales (1921-1982)” (Gijón/Xixón\, Trea\, 2019). Compagina la investigación en campos como la historia de las izquierdas\, los movimientos sociales\, la cultura y las identidades nacionales\, con el periodismo. Es colaborador habitual del diario El Salto y director del digital asturiano Nortes. \n  \n\n\n  \n\n\n\n\n 
URL:https://www.mieres.es/evento/presentacion-del-libro-pasionaria-la-vida-inesperada-de-dolores-ibarruri-de-diego-diaz/
LOCATION:Casa de Cultura Teodoro Cuesta\, Calle Manuel Llaneza\, 8\, Mieres\, Asturias\, 33600\, España
CATEGORIES:Letras
ATTACH;FMTTYPE=image/jpeg:https://www.mieres.es/wp-content/uploads/2021/12/portada_libro-pasionaria.jpg
GEO:43.2502294;-5.7729571
X-APPLE-STRUCTURED-LOCATION;VALUE=URI;X-ADDRESS=Casa de Cultura Teodoro Cuesta Calle Manuel Llaneza 8 Mieres Asturias 33600 España;X-APPLE-RADIUS=500;X-TITLE=Calle Manuel Llaneza\, 8:geo:-5.7729571,43.2502294
END:VEVENT
END:VCALENDAR