BEGIN:VCALENDAR
VERSION:2.0
PRODID:-//Ayuntamiento de Mieres - ECPv5.16.1.1//NONSGML v1.0//EN
CALSCALE:GREGORIAN
METHOD:PUBLISH
X-WR-CALNAME:Ayuntamiento de Mieres
X-ORIGINAL-URL:https://www.mieres.es
X-WR-CALDESC:Eventos para Ayuntamiento de Mieres
BEGIN:VTIMEZONE
TZID:Europe/Madrid
BEGIN:DAYLIGHT
TZOFFSETFROM:+0100
TZOFFSETTO:+0200
TZNAME:CEST
DTSTART:20220327T010000
END:DAYLIGHT
BEGIN:STANDARD
TZOFFSETFROM:+0200
TZOFFSETTO:+0100
TZNAME:CET
DTSTART:20221030T010000
END:STANDARD
END:VTIMEZONE
BEGIN:VEVENT
DTSTART;TZID=Europe/Madrid:20220118T200000
DTEND;TZID=Europe/Madrid:20220118T200000
DTSTAMP:20260423T081006
CREATED:20220112T095832Z
LAST-MODIFIED:20220112T095832Z
UID:51708-1642536000-1642536000@www.mieres.es
SUMMARY:Presentación del libro: "Madrid será la tumba"\, de Elizabeth Duval
DESCRIPTION:Presentación del libro: \n\nMadrid será la tumba\nde Elizabeth Duval\nEditorial Lengua de Trapo \n\n  \n\nAuditoriu Teodoro Cuesta\nEntrada libre hasta completar aforo. \n\n\n\n  \n\n\nMadrid\, 2016. Dos edificios ocupados\, entre Goya y Lavapiés\, contemplan la ciudad con ánimo expansionista: la antigua sede del NO-DO\, conquistada por un grupúsculo fascista\, y las ruinas de unos estudios de cine abandonados\, convertidas en cuartel de una célula marxista-leninista. Entre los dos espacios\, el Castillo y la Comuna\, aparecen Santiago y Ramiro\, hijos de una ciudad desquiciada y misántropa. Como todo el mundo sabe\, cualquier madrileño de bien piensa siempre en el exterminio de la clase social a la cual no pertenece. \nBengalas contra mezquitas\, manifestaciones enfrentadas y los foros de internet como armas de destrucción masiva. El futuro de la villa y corte\, donde la ingenuidad ha sido erradicada y el amor se ha vuelto un privilegio\, estará ligado al destino de estas dos organizaciones en la periferia de lo político. \nLa primera novela de Elizabeth Duval\, a la vez discursiva y devastadora\, está impregnada de los mismos rasgos que la época que retrata. Es triste\, apasionada y viene cargada de indicios funestos; un retrato de la violencia\, las imágenes y las palabras. \n  \nElizabeth Duval (Alcalá de Henares\, 2000) vive en París y es licenciada en Filosofía por la Universidad París I Panteón-Sorbona y Filología francesa por la Sorbona Nueva. Es autora de libros como el poemario Poserótica (Letraversal\, 2021)\, el ensayo Después de lo trans (La Caja Books\, 2021)\, Reina (Caballo de Troya\, 2020) y Excepción (Letraversal\, 2020). Forma parte del Consejo de Redacción de CTXT y escribe en Público. \n  \n\n\n\n\n 
URL:https://www.mieres.es/evento/presentacion-del-libro-madrid-sera-la-tumba-de-elizabeth-duval/
LOCATION:Casa de Cultura Teodoro Cuesta\, Calle Manuel Llaneza\, 8\, Mieres\, Asturias\, 33600\, España
CATEGORIES:Letras
ATTACH;FMTTYPE=image/jpeg:https://www.mieres.es/wp-content/uploads/2022/01/madrid-seras-la-tumba-presentacion-duval-mieres.jpeg
GEO:43.2502294;-5.7729571
X-APPLE-STRUCTURED-LOCATION;VALUE=URI;X-ADDRESS=Casa de Cultura Teodoro Cuesta Calle Manuel Llaneza 8 Mieres Asturias 33600 España;X-APPLE-RADIUS=500;X-TITLE=Calle Manuel Llaneza\, 8:geo:-5.7729571,43.2502294
END:VEVENT
END:VCALENDAR