BEGIN:VCALENDAR
VERSION:2.0
PRODID:-//Ayuntamiento de Mieres - ECPv5.16.1.1//NONSGML v1.0//EN
CALSCALE:GREGORIAN
METHOD:PUBLISH
X-WR-CALNAME:Ayuntamiento de Mieres
X-ORIGINAL-URL:https://www.mieres.es
X-WR-CALDESC:Eventos para Ayuntamiento de Mieres
BEGIN:VTIMEZONE
TZID:Europe/Madrid
BEGIN:DAYLIGHT
TZOFFSETFROM:+0100
TZOFFSETTO:+0200
TZNAME:CEST
DTSTART:20220327T010000
END:DAYLIGHT
BEGIN:STANDARD
TZOFFSETFROM:+0200
TZOFFSETTO:+0100
TZNAME:CET
DTSTART:20221030T010000
END:STANDARD
END:VTIMEZONE
BEGIN:VEVENT
DTSTART;TZID=Europe/Madrid:20220209T200000
DTEND;TZID=Europe/Madrid:20220209T200000
DTSTAMP:20260423T063628
CREATED:20220118T093827Z
LAST-MODIFIED:20220203T123828Z
UID:51827-1644436800-1644436800@www.mieres.es
SUMMARY:Presentación del libro: "Julio León Costales. Fotógrafo de la Güeria de San Xuan (1956-1969)"\, de José Luis Argüelles
DESCRIPTION:Presentación del libro: \n\nJulio León Costales. Fotógrafo de la Güeria de San Xuan (1956-1969)\nde José Luis Argüelles\nIntervienen: \n\nJuaco López\, director del Muséu del Pueblu d’Asturies.\nCarlos González Espina\, responsable de la Fototeca del Muséu.\nPilar Guerra León\, sobrina de Julio León Costales.\nJosé Luis Argüelles\, autor del libro y periodista.\n\n\nMuséu del Pueblu d’Asturies. KRK Ediciones \n\n  \n\nSala de exposiciones de la Casa de Cultura Teodoro Cuesta\nEntrada libre hasta completar aforo. \n\n\n\n  \nJulio León Costales. Fotógrafo de la Güeria de San Xuan (1956-1969) es el último título de la colección de libros de fotografía que hace el Muséu del Pueblu d’Asturies en colaboración con KRK Ediciones. La edición y el estudio es de José Luis Argüelles. El libro ofrece la vida entera de esta parroquia del concejo de Mieres en los años cincuenta y sesenta del pasado siglo. Una vida de campesinos y mineros que Julio León (Mieres\, 1930 – Gijón\, 2010) retrató desde dentro con una “mirada humanista”. \n  \n\n\nUna pareja bailando el twist en Mieres en 1964. Fotografia Julio León Costales. \nJulio León Costales (Mieres\, 1930-Gijón\, 2010) fotografió desde 1956 y hasta 1969 a sus vecinos y parientes de la Güeria de San Xuan\, el singular valle mierense en el que la fuerte industrialización minera convivió hasta ayer mismo con los tradicionales modos de vida campesina. Un territorio en el que nació el moderno sindicalismo de clase y al que se acogieron los llamados fugaos\, la resistencia antifranquista. Este archivo de más de cuatro mil fotos\, ahora en el Muséu del Pueblu d’Asturies\, contiene imágenes de gran valor artístico y documental en las que su autor despliega una mirada humanista\, cordial. \nAutodidacta y reservado —un tímido con una Leica—\, responsable durante años del Archivo Municipal de Mieres y enamorado de la cultura asturiana\, el apenas conocido trabajo fotográfico de León Costales muestra que su obra merece un lugar propio entre las de aquellos que de manera discreta\, sin página aún en las historias académicas\, contribuyeron a la renovación de la fotografía en España al poner el foco en su realidad social. \n  \n\n  \n  \n\n  \n\n\n\n\n 
URL:https://www.mieres.es/evento/presentacion-del-libro-julio-leon-costales-fotografo-de-la-gueria-de-san-xuan-1956-1969-de-jose-luis-arguelles/
LOCATION:Casa de Cultura Teodoro Cuesta\, Calle Manuel Llaneza\, 8\, Mieres\, Asturias\, 33600\, España
CATEGORIES:Letras
ATTACH;FMTTYPE=image/jpeg:https://www.mieres.es/wp-content/uploads/2022/01/presentacion-libro-Julio-Leon-costales-mieres2022.jpeg
GEO:43.2502294;-5.7729571
X-APPLE-STRUCTURED-LOCATION;VALUE=URI;X-ADDRESS=Casa de Cultura Teodoro Cuesta Calle Manuel Llaneza 8 Mieres Asturias 33600 España;X-APPLE-RADIUS=500;X-TITLE=Calle Manuel Llaneza\, 8:geo:-5.7729571,43.2502294
END:VEVENT
END:VCALENDAR