BEGIN:VCALENDAR
VERSION:2.0
PRODID:-//Ayuntamiento de Mieres - ECPv5.16.1.1//NONSGML v1.0//EN
CALSCALE:GREGORIAN
METHOD:PUBLISH
X-WR-CALNAME:Ayuntamiento de Mieres
X-ORIGINAL-URL:https://www.mieres.es
X-WR-CALDESC:Eventos para Ayuntamiento de Mieres
BEGIN:VTIMEZONE
TZID:Europe/Madrid
BEGIN:DAYLIGHT
TZOFFSETFROM:+0100
TZOFFSETTO:+0200
TZNAME:CEST
DTSTART:20220327T010000
END:DAYLIGHT
BEGIN:STANDARD
TZOFFSETFROM:+0200
TZOFFSETTO:+0100
TZNAME:CET
DTSTART:20221030T010000
END:STANDARD
END:VTIMEZONE
BEGIN:VEVENT
DTSTART;TZID=Europe/Madrid:20220210T200000
DTEND;TZID=Europe/Madrid:20220210T200000
DTSTAMP:20260423T063612
CREATED:20220118T073336Z
LAST-MODIFIED:20220118T073541Z
UID:51818-1644523200-1644523200@www.mieres.es
SUMMARY:Presentación del libro: "Los nuevos odres del nacionalismo español"\, de Pablo Batalla Cueto
DESCRIPTION:Presentación del libro: \n\nLos nuevos odres del nacionalismo español\nde Pablo Batalla Cueto\n\nTrea Editorial \n\n  \n\nSala de exposiciones de la Casa de Cultura Teodoro Cuesta\nEntrada libre hasta completar aforo. \n\n\n\n  \n\n\nDurante los últimos años\, España asiste a un vigoroso rearme simbólico de su nacionalismo. Pablo Batalla acuña una metáfora religiosa para referirse a las vertientes de dicho resurgimiento: el nacionalismo español es presentado acá como una religión laica cuya expansión se alimenta de la «triple fertilidad» que cualquier credo necesita para volverse exitoso; fertilidad teológica\, catequética y misional. Hace prosélitos alumbrando desde tratados filosóficos (como la apologética hispanista de Gustavo Bueno y sus discípulos) hasta lemas y cánticos procedentes del deporte («soy español\, ¿a qué quieres que te gane?»)\, pero que contienen y pregonan en su simplicidad el mismo mensaje sobre la excepcionalidad hispana\, pasando por los cuadros de temática militar de Augusto Ferrer-Dalmau\, las novelas históricas de Álber Vázquez o Isabel San Sebastián o la eclosión de la veneración al marino dieciochesco Blas de Lezo. \n\nBatalla parte del gol de Iniesta que dio la victoria a la selección española de fútbol en la final del Mundial de Fútbol de 2010 para inventariar un conjunto variopinto de manifestaciones culturales de la idea nacionalista española\, que incluye las citadas y otras de apariencia más banal\, pero no menos eficaces como herramientas de construcción nacional\, como los anuncios televisivos de la chacinera Campofrío\, las tiendas de merchandising de los Tercios de Flandes\, el auge de la recreación histórica o teleseries como El Ministerio del Tiempo o Isabel. Se pasa revista asimismo a la explosión de ventas de la enseña rojigualda\, la proliferación de juras de bandera o la celebración de rituales de afirmación patriótica en la plaza de Colón de Madrid. Y todo ello se entrevera de largos apuntes comparativos y contextualizadores sobre otros nacionalismos del mundo y de la propia España y otros momentos de la historia del nacionalismo español\, con la ambición máxima de constituir\, en conjunto\, un libro sobre el fenómeno nacionalista y la construcción nacional en general. \n\nPablo Batalla Cueto (Gijón\, 1987) es licenciado en Historia y máster en Gestión del Patrimonio Histórico-Artístico por la Universidad de Salamanca\, pero ha venido desempeñándose como periodista y corrector de estilo. Ha sido o es colaborador de los periódicos y revistas Asturias24\, La Voz de Asturias\, Atlántica XXII\, Neville\, Crítica.cl\, La Soga\, Nortes y LaU; dirige\, desde 2013\, A Quemarropa\, periódico oficial de la Semana Negra de Gijón\, y desde 2018 es coordinador de la revista cultural El Cuaderno. Hasta la fecha ha publicado los libros Si cantara el gallo rojo: biografía social de Jesús Montes Estrada\, «Churruca» (2017) y La virtud en la montaña: vindicación de un alpinismo lento\, ilustrado y anticapitalista(2019)\, ambos en Ediciones Trea. \n\n\n\n\n 
URL:https://www.mieres.es/evento/presentacion-del-libro-los-nuevos-odres-del-nacionalismo-espanol-de-pablo-batalla-cueto/
LOCATION:Casa de Cultura Teodoro Cuesta\, Calle Manuel Llaneza\, 8\, Mieres\, Asturias\, 33600\, España
CATEGORIES:Letras
ATTACH;FMTTYPE=image/jpeg:https://www.mieres.es/wp-content/uploads/2022/01/Los_nuevos_odres_del_nacionalismo.jpg
GEO:43.2502294;-5.7729571
X-APPLE-STRUCTURED-LOCATION;VALUE=URI;X-ADDRESS=Casa de Cultura Teodoro Cuesta Calle Manuel Llaneza 8 Mieres Asturias 33600 España;X-APPLE-RADIUS=500;X-TITLE=Calle Manuel Llaneza\, 8:geo:-5.7729571,43.2502294
END:VEVENT
END:VCALENDAR