BEGIN:VCALENDAR
VERSION:2.0
PRODID:-//Ayuntamiento de Mieres - ECPv5.16.1.1//NONSGML v1.0//EN
CALSCALE:GREGORIAN
METHOD:PUBLISH
X-WR-CALNAME:Ayuntamiento de Mieres
X-ORIGINAL-URL:https://www.mieres.es
X-WR-CALDESC:Eventos para Ayuntamiento de Mieres
BEGIN:VTIMEZONE
TZID:Europe/Madrid
BEGIN:DAYLIGHT
TZOFFSETFROM:+0100
TZOFFSETTO:+0200
TZNAME:CEST
DTSTART:20220327T010000
END:DAYLIGHT
BEGIN:STANDARD
TZOFFSETFROM:+0200
TZOFFSETTO:+0100
TZNAME:CET
DTSTART:20221030T010000
END:STANDARD
END:VTIMEZONE
BEGIN:VEVENT
DTSTART;TZID=Europe/Madrid:20220319T200000
DTEND;TZID=Europe/Madrid:20220319T200000
DTSTAMP:20260423T051508
CREATED:20220311T091550Z
LAST-MODIFIED:20220311T091550Z
UID:52587-1647720000-1647720000@www.mieres.es
SUMMARY:Día Mundial de la Poesía 2022: III Gran Poemada Asturiana
DESCRIPTION:  \n \n\nDÍA MUNDIAL DE LA POESÍA 2022\nRecital:\nIII Gran Poemada Asturiana\n\nCon la participación de:\n– José Luis Argüelles\n– Fernando Menéndez\n– Esther Prieto\n– Laura Marcos\n– Samuel Isaac \nAmeniza: Hueco Seísmo \nSala de exposiciones de la Casa de Cultura Teodoro Cuesta\nSábado\, 19 de marzo\, 20:00 h. \n\n  \nJosé Luis Argüelles (Mieres\, 1960)\, poeta y periodista\, trabajó durante más de tres décadas en el diario asturiano La Nueva España. Es colaborador habitual de publicaciones como Clarín\, Anáfora y El Cuaderno Digital. Es autor\, entre otras publicaciones\, de los poemarios Cuelmo de sombras (Versus\, 1988)\, Pasaje (Trea\, 2008)\, Las erosiones (Trea\, 2013\, Premio de la Crítica de la Asociación de Escritores de Asturias)\, Gran desconcierto (Trea\, 2018)\, Mar sin fin (Heracles y nosotros\, 2020) y Protesta y alabanza (Impronta\, 2020).  Preparó y prologó la antología de poetas en lengua asturiana Toma de tierra (2010). Sus aforismos han sido incluidos en el volumen Pensar por lo breve. Aforística española de entresiglos (Trea\, 2013)\, de José Ramón González. Una selección de sus artículos ha sido reunida bajo el título El callejón de las fieras (Impronta\, 2021) y suya es la edición e introducción de Julio León Costales\, fotógrafo de la Güeria de San Xuan (Krk\, 2021). \n  \nFernando Menéndez Menéndez (Oviedo\, 1966) ha publicado\, entre otros\, los siguientes libros de poesía: Un hombre por venir (Icaria\, 2008)\, Porque no poseemos (Escuela de Arte de Mérida\, 2008)\, Penúltimo danzante (Los Libros de la Baragaña\, 2013)\, Perro ladrador (Los Libros de la Baragaña\, 2015) y Las formas de mundo (Varasek\, 2020). Es autor de los siguientes libros de prosa: Historias somalíes (KRK\, 1998)\, El habitante de las fotografías (KRK\, 2003) y Víctimas de la espera (Malasangre\, 2015). Desde 1993 ejerce como profesor de escritura creativa y coordinador de diferentes clubes de lectura y talleres de escritura en la Red de Bibliotecas Públicas de Asturias. Además es columnista y reseñista del diario La Nueva España. \n  \nEsther Prieto (Arenas de Cabrales\, 1960) ye llicenciada en Filoloxía Hispánica y directora editorial n’Ediciones Trabe.  Diose a conocer como poeta en 1992 col poemariu Edá de la memoria. Nel 1998 foi a ganar el Premiu Teodoro Cuesta de Poesía que convoca l’Ayuntamientu de Mieres con La mala suerte (2000). Estos dos poemarios y dalgunos inéditos tán recoyíos na obra bilingüe editada nel 2016\, Tres de la quema / Después de la quema. Obtuvo ex aequo el Premiu Xosefa Xovellanos de Novela 2001 con Güelu Ismail (2002)\, traducida al gallegu como Avó Ismail (2011). De la so xera de correctora en llingua asturiana nació Gramática d’asturianu. Guía de consulta rápida (2005). En Chicolate espeso (2015) reunió una parte de les columnes d’opinión que foi publicando nel selmanariu Les Noticies. Ye coautora de los llibros infantiles El curiador d’estrelles (1987)\, Cómo soi (2010)\, Pasiando per Xixón (2013)\, Pasiando per Uviéu (2014)\, Los tresportes (2017) y Unes vacaciones bien rares (2022). \n  \nLaura Marcos Domínguez (Mieres\, 1982) ye llicenciada en Filoloxía Inglesa y especialista en Filoloxía Asturiana. Escribe dende neña y mayormente n’asturianu.  Como poeta\, depués de participar n’abondes timbes poétikes (eventos de poesía oral n’entornos informales)\, ta presente na antoloxía La prueba del once. Poesía Asturiana del Sieglu XXI  editada por Antón García (Saltadera\, 2015)\, onde se da cuenta de los poetes asturianos nacíos depués de 1980. En 2019 gana’l premiu Fernán Coronas col poemariu Díes otros (Ediciones Trabe\, 2021).  Depués d’algamar dellos premios en concursos de narrativa curtia publica’l volume Cuentos de ser y de tar (Trabe\, 2017)\, del que se publicó una segunda edición.  Na páxina web www.escritoraintempestiva.es pue accedese a la so actividá lliteraria. \n  \nSamuel Isaac RR (Asturias\, 1996)\, graduado en Filosofía por la Universidad de Oviedo (durante 2017 en Nottingham)\, con el máster de Filosofía para los Retos Contemporáneos de la UOC\, es un joven escritor y artista multidisciplinar que ha ganado los premios Alberto Vega de poesía en dos ocasiones (2012\, 2014)\, el II concurso de Literatura Experimental del Sporting Russafa de Valencia (2015) y el XV Premio nacional de poesía Félix Grande (2019)\, donde sale a la luz el poemario “Islas a la deriva”; co-fundador del Colectivo BAU–BAU\, ha colaborado en eventos artísticos con el colectivo Vitalismo de Madrid\, además de participar en las revistas Oculta Lit\, Maremágnum y La Espigadora\, entre otros. \n  \nHueco Seísmo es un proyecto del músico asturiano Fernando Huerga García (Fantástico Mundo de Mierda\, E-330)que nace con la idea de poner música a poesía asturiana contemporánea. El nombre del proyecto está extraído de un poema de Ángel Huerga García\, y alude a dos características comunes entre poesía y música\, el silencio y el estruendo\, la calma y la tempestad. Hueco seísmo es un nexo de unión entre poesía y música\, una búsqueda del ritmo ideal que esconde un poema. \n  \n  \n  \n\n 
URL:https://www.mieres.es/evento/dia-mundial-de-la-poesia-2022-iii-gran-poemada-asturiana/
LOCATION:Casa de Cultura Teodoro Cuesta\, Calle Manuel Llaneza\, 8\, Mieres\, Asturias\, 33600\, España
CATEGORIES:Letras
ATTACH;FMTTYPE=image/jpeg:https://www.mieres.es/wp-content/uploads/2022/03/Dia-de-la-poesia-2022-Mieres.jpeg
GEO:43.2502294;-5.7729571
X-APPLE-STRUCTURED-LOCATION;VALUE=URI;X-ADDRESS=Casa de Cultura Teodoro Cuesta Calle Manuel Llaneza 8 Mieres Asturias 33600 España;X-APPLE-RADIUS=500;X-TITLE=Calle Manuel Llaneza\, 8:geo:-5.7729571,43.2502294
END:VEVENT
BEGIN:VEVENT
DTSTART;TZID=Europe/Madrid:20220319T213000
DTEND;TZID=Europe/Madrid:20220319T213000
DTSTAMP:20260423T051508
CREATED:20220311T092129Z
LAST-MODIFIED:20220311T092129Z
UID:52595-1647725400-1647725400@www.mieres.es
SUMMARY:Día Mundial de la Poesía 2022: Concierto de Rita Ojanguren con Macavera
DESCRIPTION:DÍA MUNDIAL DE LA POESÍA 2022\nConcierto:\nRita Ojanguren con Macavera\n\n  \nPlaza del Ayuntamiento\nSábado\, 19 de marzo\, 21:30 h. \n\n  \nRita Ojanguren\nCantante y compositora\, nacida y crecida en Asturias\, donde actualmente reside\, tras varios años en el extranjero. Rita ha actuado en escenarios de Berlín (Karneval der Kulturen)\, Brasil (Pró-Saber)\, Túnez (Sofar Sounds Tunis) y Londres (Rich Mix\, King’s College)\, de donde ha traído distintas influencias a su propio registro y manera de tocar. Aunque su instrumento principal es la voz\, se acompaño de guitarra española y percusión menor\, introduciendo elementos rítmicos\, acordes y melodías de influencia brasileña y jazz en un tono cálido e íntimo. Entre sus referentes se encuentran mujeres como Fiona Apple\, Silvia Pérez Cruz o Laura Marling. \nEn 2014 publicó su primer álbum\, autoproducido\, como parte del dúo Limes & Walnuts\, con temas indie-naive. En 2015 grabó un disco en solitario\, prácticamente en directo\, con voz y guitarra\, que sería masterizado y publicado en el invierno de 2018-2019 bajo el título de “Back and Forth“. Desde entonces ha estado componiendo en español\, y a principios de 2021 grabó el EP “Donde Ya Estás” acompañada del trío Macavera\, que ya se pueden escuchar en Spotify. \nTambién ha colaborado en las producciones de otros artistas asturianos\, desde Tigra a Gethere\, Rafa Tarsicio\, Gente Terrible\, Vaudí\, Héctor Tuya… y fue preseleccionada a Mejor Canción Original para los Premios Goya de 2017 por la banda sonora del documental “100 Días de Soledad” (Netflix). \nEstudió Música y Desarrollo en SOAS\, Universidad de Londres (2017-2018) y canto moderno en la Escuela de Música Creativa de Madrid (2019-2020). Entre 2019 y 2021 trabajó como compositora\, melodista y letrista para Canciona\, y recientemente ha actuado en distintos eventos culturales para la Cátedra Leonard Cohen y el Ayuntamiento de Oviedo. \n  \n\n 
URL:https://www.mieres.es/evento/dia-mundial-de-la-poesia-2022-concierto-de-rita-ojanguren-con-macavera/
LOCATION:Plaza del Ayuntamiento\, Plaza de la Constitución s/n\, Mieres\, 33600
CATEGORIES:Letras,Música
ATTACH;FMTTYPE=image/jpeg:https://www.mieres.es/wp-content/uploads/2022/03/concierto-Rita-Ojanguren.jpeg
GEO:43.2489616;-5.7726903
X-APPLE-STRUCTURED-LOCATION;VALUE=URI;X-ADDRESS=Plaza del Ayuntamiento Plaza de la Constitución s/n Mieres 33600;X-APPLE-RADIUS=500;X-TITLE=Plaza de la Constitución s/n:geo:-5.7726903,43.2489616
END:VEVENT
BEGIN:VEVENT
DTSTART;TZID=Europe/Madrid:20220319T230000
DTEND;TZID=Europe/Madrid:20220319T230000
DTSTAMP:20260423T051508
CREATED:20220311T092630Z
LAST-MODIFIED:20220311T092630Z
UID:52598-1647730800-1647730800@www.mieres.es
SUMMARY:Día Mundial de la Poesía 2022: Histeria Micro Abierto de José Yebra y Nayar Crespo + invitados
DESCRIPTION:  \n \n\nDÍA MUNDIAL DE LA POESÍA 2022\nRecital:\nHisteria Micro Abierto\nJosé Yebra y Nayar Crespo + invitados\n\n  \nCafé Habana\nSábado\, 19 de marzo\, 23:00 h. \n\n  \n  \n\n 
URL:https://www.mieres.es/evento/dia-mundial-de-la-poesia-2022-histeria-micro-abierto-de-jose-yebra-y-nayar-crespo-invitados/
LOCATION:Café Habana\, Calle de Jerónimo Ibran\, 18\, 33600 Mieres\, Asturias\, Mieres\, Asturias\, 33600 
CATEGORIES:Letras,Recital
ATTACH;FMTTYPE=image/jpeg:https://www.mieres.es/wp-content/uploads/2022/03/Dia-de-la-poesia-2022-Mieres.jpeg
GEO:43.251573;-5.7729542
X-APPLE-STRUCTURED-LOCATION;VALUE=URI;X-ADDRESS=Café Habana Calle de Jerónimo Ibran 18 33600 Mieres Asturias Mieres Asturias 33600;X-APPLE-RADIUS=500;X-TITLE=Calle de Jerónimo Ibran\, 18\, 33600 Mieres\, Asturias:geo:-5.7729542,43.251573
END:VEVENT
END:VCALENDAR