BEGIN:VCALENDAR
VERSION:2.0
PRODID:-//Ayuntamiento de Mieres - ECPv5.16.1.1//NONSGML v1.0//EN
CALSCALE:GREGORIAN
METHOD:PUBLISH
X-WR-CALNAME:Ayuntamiento de Mieres
X-ORIGINAL-URL:https://www.mieres.es
X-WR-CALDESC:Eventos para Ayuntamiento de Mieres
BEGIN:VTIMEZONE
TZID:Europe/Madrid
BEGIN:DAYLIGHT
TZOFFSETFROM:+0100
TZOFFSETTO:+0200
TZNAME:CEST
DTSTART:20220327T010000
END:DAYLIGHT
BEGIN:STANDARD
TZOFFSETFROM:+0200
TZOFFSETTO:+0100
TZNAME:CET
DTSTART:20221030T010000
END:STANDARD
END:VTIMEZONE
BEGIN:VEVENT
DTSTART;TZID=Europe/Madrid:20220421T190000
DTEND;TZID=Europe/Madrid:20220421T190000
DTSTAMP:20260423T035719
CREATED:20210415T124614Z
LAST-MODIFIED:20220408T083132Z
UID:46474-1650567600-1650567600@www.mieres.es
SUMMARY:Acto de entrega del XIX Certamen de Relato Corto 'Eugenio Carbajal'
DESCRIPTION:Acto de entrega de la XIX edición del Certamen de Relato Corto Eugenio Carbajal\n\nCon la participación de su ganador:\nALEX LASA LAMARCA\npor el relato ‘Amapola’ \nY las actuaciones de:\nGRUPO ALGAIRE\nASOC. ‘ACTUACIÓN IMPROVISADA’ \nAl finalizar el acto tendrá lugar un vino español \n\n\nAuditoriu Teodoro Cuesta\nEntrada libre hasta completar aforo. \n\n\n\n  \n\nEl Eugenio Carbajal de Relato Corto es uno de los pocos premios literarios convocados en Asturias dirigidos expresamente a jóvenes menores de 30 años. A esta edición se han presentado 186 trabajos\, una cifra que confirma una vez más el prestigio y la importancia de esta convocatoria que\, destinada a jóvenes entre 18 y 30 años\, ha adquirido una gran proyección nacional e internacional recibiendo originales desde distintos puntos del mundo. \nEl relato elegido en esta 19 edición ha sido Amapola\, de Alex Lasa Lamarca\, un joven donostiarra de 25 años\, graduado en Periodismo en la Universidad del País Vasco y con un Máster en Escritura Creativa en la Universidad de Sevilla. En su obra\, el autor mezcla dos historias\, una ficticia\, que sirve al protagonista de escudo para evadirse\, y otra real con toda su dureza y crudeza. “Una historia escondida detrás de una historia”\, como explica el autor\, que convenció con ella a los miembros del jurado\, que la han elegido ganadora de esta edición del que es uno de los pocos premios literarios reservados a jóvenes menores de 30 años convocados en Asturias. \nEl certamen\, organizado por la concejalía de Juventud de Mieres –dirigida por Vanesa García– a través de su Oficina Joven\, está dotado de un premio de 1.500 euros y la publicación del relato en una publicación conjunta que se hace cada cuatro años con los trabajos premiados en las correspondientes ediciones del certamen. \n  \nGrupo ALGAIRE \nEl grupo Algaire nace en el verano de 2019 después de la participación de sus integrantes en el Festival Interceltique de Lorient con distintas agrupaciones. Está formado por las pandereteras Iratxe Espina\, Carla Miranda y Loreto Suárez\, además del guitarrista Juan Yagüe. Algaire ofrece un repertorio que va desde la música tradicional del norte de la península hasta arreglos de temas con letras reivindicativas. \nComponentes: \n\nIratxe Espina (voz\, percusiones tradicionales)\nCarla Miranda (voz\, percusiones tradicionales)\nLoreto Suárez (voz\, percusiones tradicionales)\nJuan Yagüe (guitarras)\n\nEl motivo de su elección es para ilustrar con su canción Rondó FEM\, cuyo videoclip ha sido rodado íntegramente en el municipio de Mieres y aborda temas relacionados con el contenido del relato Amapola\, utilizando un ritmo muy pegadizo y tradicional en nuestra localidad. \n  \nAsociación Cultual Actuaciones Improvisadas de Gijón \nLas experiencias que ofrece están diseñadas para que los integrantes se desarrollen dentro y fuera de las aulas. Desde su fundación en 2014 en Gijón\, siempre ha sido un reflejo de la energía dinámica y vibrante de la zona. Su dedicado equipo está para ayudar a los interesados a tener un impacto en el mundo teatral. Cuentan con diversos proyectos: \n\nApasionArte: Grupo de teatro. Creado para ayudar en el desarrollo creativo y artístico de los integrantes del grupo.\nXDance: Grupo de baile sin estilo definido que busca bailar sin barreras y divertirse.\nEscuchado teatral: Podcast.\nRetro Films Estudio: Productora Audiovisual.\n\nLlevarán a cabo una breve representación teatral con tema alusivo a la historia de amor entre dos jóvenes\, dejándonos en el aire si se tratará o no de un amor correspondido. \n  \n\n 
URL:https://www.mieres.es/evento/acto-de-entrega-del-xviii-certamen-de-relato-corto-eugenio-carbajal/
LOCATION:Casa de Cultura Teodoro Cuesta\, Calle Manuel Llaneza\, 8\, Mieres\, Asturias\, 33600\, España
CATEGORIES:Juventud e Infancia,Letras
ATTACH;FMTTYPE=image/jpeg:https://www.mieres.es/wp-content/uploads/2021/04/Cartel-acto-entrega-Premio-Eugenio-Carbajal-2022-1200.jpg
ORGANIZER;CN="Concejal%C3%ADa%20de%20Infancia%20y%20Juventud":MAILTO:oij@ayto-mieres.es
GEO:43.2502294;-5.7729571
X-APPLE-STRUCTURED-LOCATION;VALUE=URI;X-ADDRESS=Casa de Cultura Teodoro Cuesta Calle Manuel Llaneza 8 Mieres Asturias 33600 España;X-APPLE-RADIUS=500;X-TITLE=Calle Manuel Llaneza\, 8:geo:-5.7729571,43.2502294
END:VEVENT
END:VCALENDAR