BEGIN:VCALENDAR
VERSION:2.0
PRODID:-//Ayuntamiento de Mieres - ECPv5.16.1.1//NONSGML v1.0//EN
CALSCALE:GREGORIAN
METHOD:PUBLISH
X-WR-CALNAME:Ayuntamiento de Mieres
X-ORIGINAL-URL:https://www.mieres.es
X-WR-CALDESC:Eventos para Ayuntamiento de Mieres
BEGIN:VTIMEZONE
TZID:Europe/Madrid
BEGIN:DAYLIGHT
TZOFFSETFROM:+0100
TZOFFSETTO:+0200
TZNAME:CEST
DTSTART:20220327T010000
END:DAYLIGHT
BEGIN:STANDARD
TZOFFSETFROM:+0200
TZOFFSETTO:+0100
TZNAME:CET
DTSTART:20221030T010000
END:STANDARD
END:VTIMEZONE
BEGIN:VEVENT
DTSTART;TZID=Europe/Madrid:20220504T110000
DTEND;TZID=Europe/Madrid:20220504T110000
DTSTAMP:20260423T022942
CREATED:20220427T110510Z
LAST-MODIFIED:20220428T124430Z
UID:53316-1651662000-1651662000@www.mieres.es
SUMMARY:Selmana de les Lletres Asturianes 2022. Alcuentru lliterariu con Blanca Fdez. Quintana
DESCRIPTION:Selmana de les Lletres Asturianes 2022\nMIÉRCOLES\, 4 DE MAYO\n11:00h. \nLliteratura \nAlcuentru lliterariu con Blanca Fdez. Quintana\nSala Juvenil de la Biblioteca pública de Mieres \nCon la participación de alumnos/as del IES Bernaldo de Quirós \n\n  \nCICLO AUTORES NEL CAMÍN \nBlanca Fernández Quintana recibió en 2021 el Premio Enriqueta González Rubín de narrativa moza con la obra No que cinca los seres de lleenda. \nBlanca Fernández Quintana (Bimenes\, 1994) es graduada en Estudios Clásicos y Románicos con Minor de asturiano. Actualmente es profesora en el IES Concejo de Tineo. Además de diversos relatos publicados en la revista Formientu\, en 2021 publica la novela L’home les caparines y logra el I Premio de Novela de Fantasía\, Ciencia Ficción y Terror de la Editorial Radagast con la novela Trovadoresca. \n  \n  \n 
URL:https://www.mieres.es/evento/selmana-de-les-lletres-asturianes-2022-alcuentru-lliterariu-con-blanca-fdez-quintana/
LOCATION:Biblioteca Pública de Mieres\, Calle Manuel Llaneza\, 8\, Mieres\, Asturias\, 33600 \, España
CATEGORIES:Jornadas,Letras
ATTACH;FMTTYPE=image/jpeg:https://www.mieres.es/wp-content/uploads/2022/04/Selmana-lletres-asturianes-Mieres-2022.jpeg
GEO:43.2502294;-5.7729571
X-APPLE-STRUCTURED-LOCATION;VALUE=URI;X-ADDRESS=Biblioteca Pública de Mieres Calle Manuel Llaneza 8 Mieres Asturias 33600  España;X-APPLE-RADIUS=500;X-TITLE=Calle Manuel Llaneza\, 8:geo:-5.7729571,43.2502294
END:VEVENT
END:VCALENDAR