BEGIN:VCALENDAR
VERSION:2.0
PRODID:-//Ayuntamiento de Mieres - ECPv5.16.1.1//NONSGML v1.0//EN
CALSCALE:GREGORIAN
METHOD:PUBLISH
X-WR-CALNAME:Ayuntamiento de Mieres
X-ORIGINAL-URL:https://www.mieres.es
X-WR-CALDESC:Eventos para Ayuntamiento de Mieres
BEGIN:VTIMEZONE
TZID:Europe/Madrid
BEGIN:DAYLIGHT
TZOFFSETFROM:+0100
TZOFFSETTO:+0200
TZNAME:CEST
DTSTART:20220327T010000
END:DAYLIGHT
BEGIN:STANDARD
TZOFFSETFROM:+0200
TZOFFSETTO:+0100
TZNAME:CET
DTSTART:20221030T010000
END:STANDARD
END:VTIMEZONE
BEGIN:VEVENT
DTSTART;TZID=Europe/Madrid:20220511T200000
DTEND;TZID=Europe/Madrid:20220511T200000
DTSTAMP:20260423T023051
CREATED:20220503T111316Z
LAST-MODIFIED:20220503T111640Z
UID:53432-1652299200-1652299200@www.mieres.es
SUMMARY:Presentación del libro: "La Secreta de Franco"\, de Pablo Alcántara
DESCRIPTION:Presentación del libro: \n\nLa Secreta de Franco.\nLa Brigada Político-Social durante la dictadura\nde Pablo Alcántara\nEditorial Espasa \n\n  \n\nSala de exposiciones de la Casa de Cultura Teodoro Cuesta\nEntrada gratuita hasta completar aforo. \n\n\n\n  \n\n\nTras el brutal golpe de Estado de 1936\, la represión franquista puso en marcha todos los mecanismos a su alcance para la construcción de un «Nuevo Estado». Entre ellos\, destacó la creación de la Brigada Político-Social (BPS)\, o Policía política\, que\, en palabras del escritor Manuel Vázquez Montalbán\, era la «verdadera guardia pretoriana» de la dictadura. \nPablo Alcántara\, en un riguroso y exhaustivo trabajo de investiga­ción\, demuestra la evidencia de esas palabras a partir del estudio y la recopilación de información inédita de los expedientes personales de sus principales agentes\, de sus boletines de investigación\, de la documentación de los tribunales militares y civiles\, así como de di­versas entrevistas. \nEn esta obra\, la primera que trata la historia de esta institución en todas sus dimensiones\, se desvelan asimismo sus relaciones con la Gestapo\, la CIA y el FBI\, o sus técnicas de tortura contra los militan­tes antifranquistas. Y analiza qué fue de los agentes de la BPS tras la muerte del dictador\, cuando\, de la noche a la mañana\, se convir­tieron en policías «demócratas»\, sin ser juzgados por su actuación durante los años de la dictadura. \n  \nPablo Alcántara Pérez (Avilés\, 1992) es graduado en Historia por la Universidad de Oviedo y doctor cum laude en Historia Contemporánea por la Uni­versidad Autónoma de Madrid con la tesis doctoral El águila gris: la policía política durante la dicta­dura franquista en Asturias y Madrid (1956-1976). Experto en la represión franquista\, la violencia policial y la Transición\, ha escrito artículos tanto para periódicos como para revistas de divulga­ción\, como elDiario.es\, Público\, El Salto\, Nortes\, El Militante\, Atlántica XXII\, Hispania Nova\, Historia Actual Online o Nuestra Historia. Ha participado en diversos congresos sobre franquismo\, así como en el podcast #RecuperandoMemoria. Es autor del libro La lucha contra el franquismo en Asturias. \n  \n\n\n\n\n 
URL:https://www.mieres.es/evento/presentacion-del-libro-la-secreta-de-franco-de-pablo-alcantara/
LOCATION:Casa de Cultura Teodoro Cuesta\, Calle Manuel Llaneza\, 8\, Mieres\, Asturias\, 33600\, España
CATEGORIES:Letras
ATTACH;FMTTYPE=image/jpeg:https://www.mieres.es/wp-content/uploads/2022/05/la-secreta-franco-psntcion-libro-mieres.jpeg
GEO:43.2502294;-5.7729571
X-APPLE-STRUCTURED-LOCATION;VALUE=URI;X-ADDRESS=Casa de Cultura Teodoro Cuesta Calle Manuel Llaneza 8 Mieres Asturias 33600 España;X-APPLE-RADIUS=500;X-TITLE=Calle Manuel Llaneza\, 8:geo:-5.7729571,43.2502294
END:VEVENT
END:VCALENDAR