BEGIN:VCALENDAR
VERSION:2.0
PRODID:-//Ayuntamiento de Mieres - ECPv5.16.1.1//NONSGML v1.0//EN
CALSCALE:GREGORIAN
METHOD:PUBLISH
X-WR-CALNAME:Ayuntamiento de Mieres
X-ORIGINAL-URL:https://www.mieres.es
X-WR-CALDESC:Eventos para Ayuntamiento de Mieres
BEGIN:VTIMEZONE
TZID:Europe/Madrid
BEGIN:DAYLIGHT
TZOFFSETFROM:+0100
TZOFFSETTO:+0200
TZNAME:CEST
DTSTART:20220327T010000
END:DAYLIGHT
BEGIN:STANDARD
TZOFFSETFROM:+0200
TZOFFSETTO:+0100
TZNAME:CET
DTSTART:20221030T010000
END:STANDARD
END:VTIMEZONE
BEGIN:VEVENT
DTSTART;TZID=Europe/Madrid:20220722T190000
DTEND;TZID=Europe/Madrid:20220722T190000
DTSTAMP:20260422T234219
CREATED:20220705T135907Z
LAST-MODIFIED:20220705T140100Z
UID:58234-1658516400-1658516400@www.mieres.es
SUMMARY:Presentación del libro: "Silenciadas\, pero no olvidadas. Mujeres y represión franquista en Asturies"\, de Mónica García Fdez.
DESCRIPTION:Presentación del libro: \n\nSilenciadas\, pero no olvidadas. Mujeres y represión franquista en Asturies\nde Mónica García Fdez.\n\nCon la participación de su autora\, presentada por Ana Solís Rozas\, de la Federación Asturiana de Memoria y República (FAMYR). \nEditorial FAMYR \n\nSala de exposiciones de la Casa de Cultura Teodoro Cuesta\nEntrada gratuita hasta completar aforo. \n\n\n\n\n\nLa Federación Asturiana Memoria y República (FAMYR) acaba de concluir la primera parte del proyecto Silenciadas\, pero no olvidadas. Mujeres y represión franquista en Asturies\, que ha sido recogida en un libro cuya autora es la historiadora Mónica García Fernández en el que\, precisamente\, se trata de sacar a la luz los casos de mujeres anónimas cuya libertad\, autonomía y\, en muchos casos\, vida fue cercenada por el aparato represivo del franquismo. Una represión que no solo fue directa\, de tipo político\, sino que también se desarrolló de manera doméstica\, en el día a día\, institucionalizada. \n\nEl libro que hoy os presentamos analiza las consecuencias que el golpe de estado de julio de 1936 y la victoria franquista tuvieron para las mujeres asturianas\, a través de distintos ejemplos representativos que sirvan para ilustrar las características y tipologías de la violencia política que se desató\ncontra la población femenina.\n\n\n\nCon ello\, se pretende contribuir a construir y divulgar una memoria histórica que incluya a las mujeres\, teniendo en cuenta que sus experiencias fueron doblemente invisibilizadas. Primero\, por la dictadura\, que aspiró a anularlas y silenciarlas\, lo que ha dificultado\, aunque en absoluto impedido\, su investigación. Después\, por los propios movimientos antifranquistas y la investigación histórica\, que han tendido a enfocarse y valorar más las luchas de los hombres. Por tanto\, este proyecto busca la visibilización de las mujeres\, resaltando su presencia y experiencias en esta etapa de nuestra historia.\n\n\n\n 
URL:https://www.mieres.es/evento/presentacion-del-libro-silenciadas-pero-no-olvidadas-mujeres-y-represion-franquista-en-asturies-de-monica-garcia-fdez/
LOCATION:Casa de Cultura Teodoro Cuesta\, Calle Manuel Llaneza\, 8\, Mieres\, Asturias\, 33600\, España
CATEGORIES:Letras
ATTACH;FMTTYPE=image/jpeg:https://www.mieres.es/wp-content/uploads/2022/07/presentacion-silenciadas-no-olvidadas.jpeg
GEO:43.2502294;-5.7729571
X-APPLE-STRUCTURED-LOCATION;VALUE=URI;X-ADDRESS=Casa de Cultura Teodoro Cuesta Calle Manuel Llaneza 8 Mieres Asturias 33600 España;X-APPLE-RADIUS=500;X-TITLE=Calle Manuel Llaneza\, 8:geo:-5.7729571,43.2502294
END:VEVENT
END:VCALENDAR