BEGIN:VCALENDAR
VERSION:2.0
PRODID:-//Ayuntamiento de Mieres - ECPv5.16.1.1//NONSGML v1.0//EN
CALSCALE:GREGORIAN
METHOD:PUBLISH
X-WR-CALNAME:Ayuntamiento de Mieres
X-ORIGINAL-URL:https://www.mieres.es
X-WR-CALDESC:Eventos para Ayuntamiento de Mieres
BEGIN:VTIMEZONE
TZID:Europe/Madrid
BEGIN:DAYLIGHT
TZOFFSETFROM:+0100
TZOFFSETTO:+0200
TZNAME:CEST
DTSTART:20220327T010000
END:DAYLIGHT
BEGIN:STANDARD
TZOFFSETFROM:+0200
TZOFFSETTO:+0100
TZNAME:CET
DTSTART:20221030T010000
END:STANDARD
END:VTIMEZONE
BEGIN:VEVENT
DTSTART;TZID=Europe/Madrid:20221020T193000
DTEND;TZID=Europe/Madrid:20221020T193000
DTSTAMP:20260422T190310
CREATED:20221007T103337Z
LAST-MODIFIED:20221018T095427Z
UID:59268-1666294200-1666294200@www.mieres.es
SUMMARY:Presentación del libro: "Escuela de capataces\, facultativos y facultativos de minas. Una historia de 150 años (Tomo III)"\, de Luis Jesús Llaneza
DESCRIPTION:Presentación del libro: \n\nEscuela de capataces\, facultativos y facultativos de minas y fábricas mineralúrgicas y metalúrgicas. Mieres del Camino. Una historia de 150 años (Tomo III)\nde Luis Jesús Llaneza González\n  \nCon la participación de:\nJosé Augusto Suárez García\, Decano-Presidente del Colegio Oficial de Graduados e Ingenieros Técnicos de Minas y Energía del Principado de Asturias \nPresenta: Juan Antonio González Ponte\, Concejal Delegado de Servicios a la Ciudadanía del Ayuntamiento de Mieres \n\n  \n\nSala Juvenil de la Biblioteca Pública de Mieres\nEntrada gratuita hasta completar aforo. \n\n\n\n\n\n 
URL:https://www.mieres.es/evento/presentacion-del-libro-escuela-de-capataces-facultativos-y-facultativos-de-minas-una-historia-de-150-anos-tomo-iii-de-luis-jesus-llaneza/
LOCATION:Biblioteca Pública de Mieres\, Calle Manuel Llaneza\, 8\, Mieres\, Asturias\, 33600 \, España
CATEGORIES:Letras
ATTACH;FMTTYPE=image/jpeg:https://www.mieres.es/wp-content/uploads/2022/10/libro-luis-jesus-llaneza-2022.jpeg
GEO:43.2502294;-5.7729571
X-APPLE-STRUCTURED-LOCATION;VALUE=URI;X-ADDRESS=Biblioteca Pública de Mieres Calle Manuel Llaneza 8 Mieres Asturias 33600  España;X-APPLE-RADIUS=500;X-TITLE=Calle Manuel Llaneza\, 8:geo:-5.7729571,43.2502294
END:VEVENT
END:VCALENDAR