BEGIN:VCALENDAR
VERSION:2.0
PRODID:-//Ayuntamiento de Mieres - ECPv5.16.1.1//NONSGML v1.0//EN
CALSCALE:GREGORIAN
METHOD:PUBLISH
X-WR-CALNAME:Ayuntamiento de Mieres
X-ORIGINAL-URL:https://www.mieres.es
X-WR-CALDESC:Eventos para Ayuntamiento de Mieres
BEGIN:VTIMEZONE
TZID:Europe/Madrid
BEGIN:DAYLIGHT
TZOFFSETFROM:+0100
TZOFFSETTO:+0200
TZNAME:CEST
DTSTART:20230326T010000
END:DAYLIGHT
BEGIN:STANDARD
TZOFFSETFROM:+0200
TZOFFSETTO:+0100
TZNAME:CET
DTSTART:20231029T010000
END:STANDARD
END:VTIMEZONE
BEGIN:VEVENT
DTSTART;TZID=Europe/Madrid:20230125T200000
DTEND;TZID=Europe/Madrid:20230125T200000
DTSTAMP:20260422T143202
CREATED:20230111T091459Z
LAST-MODIFIED:20230117T124843Z
UID:60771-1674676800-1674676800@www.mieres.es
SUMMARY:Presentación del libro: "No hay país. Crónica política (y sentimental) de Asturias (1975-2022)"\, de Xuan Cándano
DESCRIPTION:Presentación del libro: \n\nNo hay país. Crónica política (y sentimental) de Asturias (1975-2022)\nde Xuan Cándano\n\nEditorial Hoja de Lata \n  \n\n\nSalón de actos de la casa de Cultura Teodoro Cuesta\nEntrada gratuita hasta completar aforo. \n\n\n\n\n  \nEntre Rafael Fernández\, el primer presidente del gobierno preautonómico asturiano\, y Rodrigo Cuevas\, el músico y agitador cultural de liguero y montera\, se concentra la historia reciente de Asturias. A su llegada del exilio\, Fernández se encontró una tierra con una industria pesada aún relevante y una leyenda de resistencia bajo el franquismo. En 2018 cerraron los últimos pozos mineros y las principales leyendas son las urbanas\, abocadas a la emigración.  \nEl periodista Xuan Cándano se propuso llenar un incomprensible vacío ensayístico acerca del devenir de este pequeño rincón del Atlántico y el resultado es No hay país\, un riguroso acercamiento al pasado inmediato de nuestra tierra para el que ha entrevistado a más de un centenar de sus protagonistas. \n\n  \nXuan Cándano (San Esteban de Bocamar\, 1959) es periodista. Trabajó en periódicos (Unidad\, de San Sebastián\, La Voz de Avilés\, La Voz de Asturias\, Hoja del Lunes\, de Oviedo\, Diario 16)\, radio (Radio Asturias SER)\, televisiones (RTVE) y agencias informativas (EFE\, OTR Press). También fue jefe de Prensa de la Universidad de Oviedo y puso en marcha en los años noventa la productora televisiva de informativos Bocamar. Fundó y dirigió durante diez años la revista de investigación periodística y pensamiento Atlántica XXII. Desde sus inicios profesionales hasta la actualidad colabora en otros muchos medios. \nAntes de este libro publicó otros tres. El primero de historia\, El Pacto de Santoña (1937)\, la rendición del nacionalismo vasco al fascismo (La Esfera de los Libros 2006)\, La extraña tribu de las manos limpias (La Última Canana de Pancho Villa\, 2020) —un diario sobre el confinamiento de la pandemia de la covid— y Mas bien del revés (Más Madera\, 2022) —un volumen de relatos. \n  \n\n\n  \n 
URL:https://www.mieres.es/evento/presentacion-del-libro-no-hay-pais-cronica-politica-y-sentimental-de-asturias-1975-2022-de-xuan-candano/
LOCATION:Casa de Cultura Teodoro Cuesta\, Calle Manuel Llaneza\, 8\, Mieres\, Asturias\, 33600\, España
CATEGORIES:Letras
ATTACH;FMTTYPE=image/jpeg:https://www.mieres.es/wp-content/uploads/2023/01/presentacion-no-hay-pais-mieres.jpeg
GEO:43.2502294;-5.7729571
X-APPLE-STRUCTURED-LOCATION;VALUE=URI;X-ADDRESS=Casa de Cultura Teodoro Cuesta Calle Manuel Llaneza 8 Mieres Asturias 33600 España;X-APPLE-RADIUS=500;X-TITLE=Calle Manuel Llaneza\, 8:geo:-5.7729571,43.2502294
END:VEVENT
END:VCALENDAR