BEGIN:VCALENDAR
VERSION:2.0
PRODID:-//Ayuntamiento de Mieres - ECPv5.16.1.1//NONSGML v1.0//EN
CALSCALE:GREGORIAN
METHOD:PUBLISH
X-WR-CALNAME:Ayuntamiento de Mieres
X-ORIGINAL-URL:https://www.mieres.es
X-WR-CALDESC:Eventos para Ayuntamiento de Mieres
BEGIN:VTIMEZONE
TZID:Europe/Madrid
BEGIN:DAYLIGHT
TZOFFSETFROM:+0100
TZOFFSETTO:+0200
TZNAME:CEST
DTSTART:20230326T010000
END:DAYLIGHT
BEGIN:STANDARD
TZOFFSETFROM:+0200
TZOFFSETTO:+0100
TZNAME:CET
DTSTART:20231029T010000
END:STANDARD
END:VTIMEZONE
BEGIN:VEVENT
DTSTART;TZID=Europe/Madrid:20230309T130000
DTEND;TZID=Europe/Madrid:20230309T130000
DTSTAMP:20260422T112603
CREATED:20230224T140618Z
LAST-MODIFIED:20230301T095920Z
UID:61541-1678366800-1678366800@www.mieres.es
SUMMARY:Jornadas 8M: Presentación del libro “Asturianes. Veinte mujeres y colectivos inspiradores”\, de Alicia Álvarez
DESCRIPTION:JORNADAS 8M 2023\nPresentación del libro:\n“Asturianes. Veinte mujeres y colectivos inspiradores”\nde Alicia Álvarez\nCon ilustraciones de María Ortiz \nEd. La Fabriquina \n  \nJueves\, 9 de marzo. 19:00h.\nSalón de actos de la Casa de Cultura Teodoro Cuesta\n \nEntrada libre hasta completar aforo \n\nNo es necesario irse muy lejos para buscar referentes femeninos.\nAida Lafuente\, Margarita Salas\, Corín Tellado\, les cigarreres\, Xosefa Jovellanos\, la Busdonga o Rosa Fernández son algunos de los nombres que forman esta selección de mujeres y colectivos que en Asturias\, desde diversas áreas y en diferentes momentos históricos\, contribuyeron con sus logros a allanar el camino de la igualdad.\nSin su inconformismo y su valentía no habría sido posible recuperar el papel activo que durante siglos se les negó a las mujeres en la sociedad.\nLos textos de Alicia Álvarez y las ilustraciones de María Ortiz nos acercan de forma única a las vidas\, profesiones\, conquistas y momentos determinantes de estas asturianas que participaron de manera fundamental en la construcción de nuestra historia. \n\n \n \n  \n\n  \nActividad financiada con cargo a los créditos del Pacto de Estado contra la violencia de género\, recibidos del Ministerio de la Presidencia\, Relaciones con las Cortes e Igualdad\, a través de la Secretaría de Estado
URL:https://www.mieres.es/evento/jornadas-8m-presentacion-del-libro-asturianes-veinte-mujeres-y-colectivos-inspiradores-de-alicia-alvarez/
LOCATION:Casa de Cultura Teodoro Cuesta\, Calle Manuel Llaneza\, 8\, Mieres\, Asturias\, 33600\, España
CATEGORIES:Charlas-coloquio,Igualdad,Letras
ATTACH;FMTTYPE=image/jpeg:https://www.mieres.es/wp-content/uploads/2023/02/09M-Presentacion-libro-Asturianes.jpeg
GEO:43.2502294;-5.7729571
X-APPLE-STRUCTURED-LOCATION;VALUE=URI;X-ADDRESS=Casa de Cultura Teodoro Cuesta Calle Manuel Llaneza 8 Mieres Asturias 33600 España;X-APPLE-RADIUS=500;X-TITLE=Calle Manuel Llaneza\, 8:geo:-5.7729571,43.2502294
END:VEVENT
END:VCALENDAR