BEGIN:VCALENDAR
VERSION:2.0
PRODID:-//Ayuntamiento de Mieres - ECPv5.16.1.1//NONSGML v1.0//EN
CALSCALE:GREGORIAN
METHOD:PUBLISH
X-WR-CALNAME:Ayuntamiento de Mieres
X-ORIGINAL-URL:https://www.mieres.es
X-WR-CALDESC:Eventos para Ayuntamiento de Mieres
BEGIN:VTIMEZONE
TZID:Europe/Madrid
BEGIN:DAYLIGHT
TZOFFSETFROM:+0100
TZOFFSETTO:+0200
TZNAME:CEST
DTSTART:20230326T010000
END:DAYLIGHT
BEGIN:STANDARD
TZOFFSETFROM:+0200
TZOFFSETTO:+0100
TZNAME:CET
DTSTART:20231029T010000
END:STANDARD
END:VTIMEZONE
BEGIN:VEVENT
DTSTART;TZID=Europe/Madrid:20230320T190000
DTEND;TZID=Europe/Madrid:20230320T190000
DTSTAMP:20260422T112538
CREATED:20230308T114957Z
LAST-MODIFIED:20230315T101608Z
UID:61764-1679338800-1679338800@www.mieres.es
SUMMARY:Día Mundial de la Poesía 2023: Lectura encadenada de poemas en la Biblioteca de Mieres
DESCRIPTION:  \n \n\nDÍA MUNDIAL DE LA POESÍA 2023\n\nLectura encadenada de poemas\n\nBiblioteca Pública de Mieres\nLunes\, 20 de marzo\, 19:00 h. \n  \nA cargo de concejales\, Unión de Comerciantes\, escritores\, bibliotecarias y cualquier persona interesada. \nLas personas interesadas en participar en este acto puede llamar al 985 456 294 o inscribirse de forma presencial en la Biblioteca Pública de Mieres. \n\n 
URL:https://www.mieres.es/evento/dia-mundial-de-la-poesia-2023-lectura-encadenada-de-poemas-en-la-biblioteca-de-mieres/
LOCATION:Biblioteca Pública de Mieres\, Calle Manuel Llaneza\, 8\, Mieres\, Asturias\, 33600 \, España
CATEGORIES:Letras,Recital
ATTACH;FMTTYPE=image/jpeg:https://www.mieres.es/wp-content/uploads/2023/03/cartel-lectura-poemas-dia-poesia-2023.jpg
GEO:43.2502294;-5.7729571
X-APPLE-STRUCTURED-LOCATION;VALUE=URI;X-ADDRESS=Biblioteca Pública de Mieres Calle Manuel Llaneza 8 Mieres Asturias 33600  España;X-APPLE-RADIUS=500;X-TITLE=Calle Manuel Llaneza\, 8:geo:-5.7729571,43.2502294
END:VEVENT
END:VCALENDAR