BEGIN:VCALENDAR
VERSION:2.0
PRODID:-//Ayuntamiento de Mieres - ECPv5.16.1.1//NONSGML v1.0//EN
CALSCALE:GREGORIAN
METHOD:PUBLISH
X-WR-CALNAME:Ayuntamiento de Mieres
X-ORIGINAL-URL:https://www.mieres.es
X-WR-CALDESC:Eventos para Ayuntamiento de Mieres
BEGIN:VTIMEZONE
TZID:Europe/Madrid
BEGIN:DAYLIGHT
TZOFFSETFROM:+0100
TZOFFSETTO:+0200
TZNAME:CEST
DTSTART:20230326T010000
END:DAYLIGHT
BEGIN:STANDARD
TZOFFSETFROM:+0200
TZOFFSETTO:+0100
TZNAME:CET
DTSTART:20231029T010000
END:STANDARD
END:VTIMEZONE
BEGIN:VEVENT
DTSTART;TZID=Europe/Madrid:20230323T200000
DTEND;TZID=Europe/Madrid:20230323T200000
DTSTAMP:20260422T112559
CREATED:20230315T101335Z
LAST-MODIFIED:20230315T101335Z
UID:61889-1679601600-1679601600@www.mieres.es
SUMMARY:Presentación del libro: "Voces del ayer"\, de Inés Iglesias
DESCRIPTION:Presentación del libro: \n\nVoces del ayer\nde Inés Iglesias\n  \nEditorial Universo de Letras \nOrganizado por Asociación Amigos de Mieres \n\n\nSalón de actos de la casa de Cultura Teodoro Cuesta\nEntrada gratuita hasta completar aforo. \n\n\n\n\n  \nVoces del Ayer es un viaje a la Asturias de nuestra posguerra y dictadura que nos hace testigos de unas condiciones de vida extremadamente duras\, de historias personales y anhelos frustrados por la represión que conviene\, ahora más que nunca\, dar a conocer. Echarse al monte o esconderse en un refugio antiaéreo lo vive el lector a través de su particular estilo narrativo. Inherente a esos tiempos convulsos es protagonista el hambre\, en su concepción más brutal\, reina de los comedores sociales e inductora del papel fundamental de la mujer en el estraperlo. \nLa temática central\, abordada con fuerza y destreza\, sumerge al lector en la movilización obrera y lo conduce a encarcelamientos que declinan en palizas. A partir de ese trance\, la autora te lleva a un tren con destino “exilio”\, en un escenario de relaciones familiares y sentimientos. \nVíctor y Luis\, bisabuelo y abuelo de la autora\, son los protagonistas masculinos de Voces del ayer y se encuentran entre los cientos de mineros que antes\, durante y después de nuestra guerra civil (1936-1939) batallaron sin descanso no sólo en Asturias\, sino también en el resto de las cuencas mineras españolas con el objetivo de mejorar unas condiciones laborales penosas. \nSi el subsuelo se convirtió en un caballo de Troya del que no dejaron de surgir luchadores comprometidos\, las mujeres dieron unas muestras de resistencia y de fidelidad irrepetibles en la superficie. De esta forma\, Soledad\, en torno a la que gira la parte femenina del relato\, es otro ejemplo de asturiana irreductible y el exponente de la situación de la mujer española durante buena parte del siglo XX. \n  \n\n  \n\n\n 
URL:https://www.mieres.es/evento/presentacion-del-libro-voces-del-ayer-de-ines-iglesias/
LOCATION:Casa de Cultura Teodoro Cuesta\, Calle Manuel Llaneza\, 8\, Mieres\, Asturias\, 33600\, España
CATEGORIES:Letras
ATTACH;FMTTYPE=image/jpeg:https://www.mieres.es/wp-content/uploads/2023/03/voces-del-ayer-ines-iglesias-mieres.jpeg
GEO:43.2502294;-5.7729571
X-APPLE-STRUCTURED-LOCATION;VALUE=URI;X-ADDRESS=Casa de Cultura Teodoro Cuesta Calle Manuel Llaneza 8 Mieres Asturias 33600 España;X-APPLE-RADIUS=500;X-TITLE=Calle Manuel Llaneza\, 8:geo:-5.7729571,43.2502294
END:VEVENT
END:VCALENDAR