BEGIN:VCALENDAR
VERSION:2.0
PRODID:-//Ayuntamiento de Mieres - ECPv5.16.1.1//NONSGML v1.0//EN
CALSCALE:GREGORIAN
METHOD:PUBLISH
X-WR-CALNAME:Ayuntamiento de Mieres
X-ORIGINAL-URL:https://www.mieres.es
X-WR-CALDESC:Eventos para Ayuntamiento de Mieres
BEGIN:VTIMEZONE
TZID:Europe/Madrid
BEGIN:DAYLIGHT
TZOFFSETFROM:+0100
TZOFFSETTO:+0200
TZNAME:CEST
DTSTART:20230326T010000
END:DAYLIGHT
BEGIN:STANDARD
TZOFFSETFROM:+0200
TZOFFSETTO:+0100
TZNAME:CET
DTSTART:20231029T010000
END:STANDARD
END:VTIMEZONE
BEGIN:VEVENT
DTSTART;TZID=Europe/Madrid:20230324T183000
DTEND;TZID=Europe/Madrid:20230324T183000
DTSTAMP:20260422T112559
CREATED:20230321T093038Z
LAST-MODIFIED:20230321T093038Z
UID:62016-1679682600-1679682600@www.mieres.es
SUMMARY:Presentación de la revista especial de Público: "Asturias Mina y Dignidad. Homenaje a la 'güelgona' y a la lucha minera"
DESCRIPTION:  \n \n\nPresentación de la revista especial de \n\nPúblico\nAsturias Mina y Dignidad\nHomenaje a la ‘güelgona’ y a la lucha minera\n  \nViernes\, 24 de marzo\, 18:30h. \n\n\nPozu Santa Bárbara\nEntrada gratuita hasta completar aforo. \n\n\n\n\n  \n\nTras varios meses de trabajo\, acaba de publicarse el especial sobre las cuencas mineras asturianas elaborado por el equipo de Nortes en colaboración con el diario Público. “Asturias: Mina y dignidad” es un repaso a la historia de las cuencas mineras asturianas con motivo del 60 aniversario de la Güelgona de 1962. Con este número especial\, Nortes y el diario madrileño estrechan sus vínculos poniendo el foco de atención en una de las luchas sociales y políticas más relevantes del siglo XX. \nEl especial consta de catorce piezas entre reportajes\, entrevistas y artículos de opinión. Cuenta con firmas habituales de este medio\, como los redactores Pablo Batalla\, Víctor Guillot\, Andrea Núñez\, Marta Rogía o Bernardo Álvarez. También colaboran el historiador Héctor González\, el veterano periodista Xuan Cándano o las también periodistas Patricia Simón o Aitana Castaño. Alejandro Torrús\, responsable de opinión y números especiales de Público\, y Diego Díaz\, director de Nortes\, coordinan este monográfico. \nEntre los entrevistados para el número especial están Juan Ponte\, Anita Sirgo\, Vicente Gutiérrez Solís y José Manuel Zapico. \nPor último\, el especial incluye un artículo de Virginia P. Alonso\, directora de Público\, en el que narra cómo se gestó este número especial en el transcurso de su visita a Asturias con motivo de la asamblea de socios de Nortes. \n\n\n 
URL:https://www.mieres.es/evento/presentacion-de-la-revista-especial-de-publico-asturias-mina-y-dignidad-homenaje-a-la-guelgona-y-a-la-lucha-minera/
LOCATION:Pozu Santa Bárbara\, La Rebaldana AS-337\, 19
CATEGORIES:Letras
ATTACH;FMTTYPE=image/jpeg:https://www.mieres.es/wp-content/uploads/2023/03/Asturias-Mina-y-dignidad-cartel-mieres-recorte.jpeg
END:VEVENT
BEGIN:VEVENT
DTSTART;TZID=Europe/Madrid:20230324T200000
DTEND;TZID=Europe/Madrid:20230324T200000
DTSTAMP:20260422T112559
CREATED:20230222T124731Z
LAST-MODIFIED:20230303T100432Z
UID:61472-1679688000-1679688000@www.mieres.es
SUMMARY:Recital poético-musical con la Charanga Ventolín: "La Nueve y más... Música y poesía en homenaje a la 2ª República española"
DESCRIPTION:Recital poético-musical\nVelada Republicana con Charanga Ventolín: “La Nueve y más…” \n  \n24 de marzo\, 20:00h.\nAuditorio Teodoro Cuesta\nEntrada libre hasta completar aforo. \n  \n(Este evento recupera esta nueva fecha de celebración\, que en su momento tuvo que ser aplazada) \n\n  \nRecital poético-musical\, que homenajea a los republicanos españoles que tuvieron que irse del país debido al golpe de estado de Franco. En concreto\, el acto recuerda a la unidad de los 150 brigadistas republicanos que formaron parte de la 9ª compañía de la División Leclerc\, del ejército de Francia\, liderada por De Gaulle y que desde Londres desembarcaron en Normandía y entraron en el Ayuntamiento de Paris el 24 de Agosto de 1944. Fueron los primeros en liberar Francia de los nazis. El acto consistirá en tocar\, cantar y recitar poemas y canciones que ellos cantaban\, junto con el público asistente. \nLos carros de combate de La “Nueve”\, que era como se conocía a la 9ª compañía\, llevaban escritos los nombres de batallas de España: Ebro \, Guadalajara\, Belchite\, Teruel y uno de Don Quijote. \n  \n  \n\n \n 
URL:https://www.mieres.es/evento/recital-poetico-musical-con-la-charanga-ventolin-la-nueve-y-mas-musica-y-poesia-en-homenaje-a-la-2a-republica-espanola/
LOCATION:Casa de Cultura Teodoro Cuesta\, Calle Manuel Llaneza\, 8\, Mieres\, Asturias\, 33600\, España
CATEGORIES:Letras,Música
ATTACH;FMTTYPE=image/png:https://www.mieres.es/wp-content/uploads/2023/02/Velada-Repubicana-7.png
GEO:43.2502294;-5.7729571
X-APPLE-STRUCTURED-LOCATION;VALUE=URI;X-ADDRESS=Casa de Cultura Teodoro Cuesta Calle Manuel Llaneza 8 Mieres Asturias 33600 España;X-APPLE-RADIUS=500;X-TITLE=Calle Manuel Llaneza\, 8:geo:-5.7729571,43.2502294
END:VEVENT
END:VCALENDAR