BEGIN:VCALENDAR
VERSION:2.0
PRODID:-//Ayuntamiento de Mieres - ECPv5.16.1.1//NONSGML v1.0//EN
CALSCALE:GREGORIAN
METHOD:PUBLISH
X-WR-CALNAME:Ayuntamiento de Mieres
X-ORIGINAL-URL:https://www.mieres.es
X-WR-CALDESC:Eventos para Ayuntamiento de Mieres
BEGIN:VTIMEZONE
TZID:Europe/Madrid
BEGIN:DAYLIGHT
TZOFFSETFROM:+0100
TZOFFSETTO:+0200
TZNAME:CEST
DTSTART:20230326T010000
END:DAYLIGHT
BEGIN:STANDARD
TZOFFSETFROM:+0200
TZOFFSETTO:+0100
TZNAME:CET
DTSTART:20231029T010000
END:STANDARD
END:VTIMEZONE
BEGIN:VEVENT
DTSTART;TZID=Europe/Madrid:20230510T190000
DTEND;TZID=Europe/Madrid:20230510T190000
DTSTAMP:20260422T082743
CREATED:20230502T110201Z
LAST-MODIFIED:20230503T084825Z
UID:62680-1683745200-1683745200@www.mieres.es
SUMMARY:Presentación del libro: De la lucha antifranquista a los nuevos movimientos sociales Vol.1 "Una historia del Movimiento Comunista de Asturias"\, de Carlos Gordón
DESCRIPTION:  \n \nPresentación del libro \nDe la lucha antifranquista a los nuevos movimientos sociales Vol.1 “Una historia del Movimiento Comunista de Asturias”\nde Carlos Gordón\n \nCon la participación\, junto con el autor\, de: \n\nCharo Rodríguez\nMiguel Rodríguez\nJosé Luis Argüelles\n\nKRK Ediciones \nMiércoles\, 10 de mayo de 2023. 19:00h. \nSalón de actos de la Casa de Cultura Teodoro Cuesta\nEntrada libre hasta completar aforo \n\n  \nAl margen de las instituciones y sin ningún tipo de participación en el poder político\, el Movimiento Comunista de Asturies (MCA) tuvo una importante influencia en la vida social asturiana durante las dos décadas que abarcan desde comienzos de los años setenta del pasado siglo hasta principios de los noventa. \nPrimero en la lucha clandestina contra la dictadura franquista\, luego en el complejo juego político de la Transición y finalmente en el desarrollo de nuevos movimientos sociales como el feminismo\, el ecologismo\, los derechos lingüísticos o el antimilitarismo\, el MCA desplegó una intensa actividad y grandes dotes de creatividad\, adelantándose muchas veces a su tiempo\, al proponer y defender iniciativas que acabarían siendo asumidas por otras fuerzas políticas y por el conjunto de la sociedad. \nA lo largo de su trayectoria\, el MCA fue experimentando una profunda evolución política e ideológica\, fruto de la reflexión interna\, que le llevaría a transformarse\, a comienzos de los años noventa\, en una nueva entidad socio-cultural denominada Lliberación. \n  \nCarlos Gordon es licenciado en Geografía e Historia por la Universidad de Oviedo. Sus investigaciones se han centrado fundamentalmente en el período franquista\, sobre todo en lo relacionado a prensa política y sindical\, siendo autor de algunos artículos sobre esta materia. Ha colaborado en obras colectivas dedicadas a las huelgas de 1962 y es coautor de la biografía de Juan Muñiz Zapico (2007). \n\n 
URL:https://www.mieres.es/evento/presentacion-del-libro-de-la-lucha-antifranquista-a-los-nuevos-movimientos-sociales-vol-1-una-historia-del-movimiento-comunista-de-asturias-de-carlos-gordon/
LOCATION:Casa de Cultura Teodoro Cuesta\, Calle Manuel Llaneza\, 8\, Mieres\, Asturias\, 33600\, España
CATEGORIES:Letras,Memoria Democrática
ATTACH;FMTTYPE=image/jpeg:https://www.mieres.es/wp-content/uploads/2023/05/carlos-gordon-libro-mieres.jpg
GEO:43.2502294;-5.7729571
X-APPLE-STRUCTURED-LOCATION;VALUE=URI;X-ADDRESS=Casa de Cultura Teodoro Cuesta Calle Manuel Llaneza 8 Mieres Asturias 33600 España;X-APPLE-RADIUS=500;X-TITLE=Calle Manuel Llaneza\, 8:geo:-5.7729571,43.2502294
END:VEVENT
END:VCALENDAR