BEGIN:VCALENDAR
VERSION:2.0
PRODID:-//Ayuntamiento de Mieres - ECPv5.16.1.1//NONSGML v1.0//EN
CALSCALE:GREGORIAN
METHOD:PUBLISH
X-WR-CALNAME:Ayuntamiento de Mieres
X-ORIGINAL-URL:https://www.mieres.es
X-WR-CALDESC:Eventos para Ayuntamiento de Mieres
BEGIN:VTIMEZONE
TZID:Europe/Madrid
BEGIN:DAYLIGHT
TZOFFSETFROM:+0100
TZOFFSETTO:+0200
TZNAME:CEST
DTSTART:20230326T010000
END:DAYLIGHT
BEGIN:STANDARD
TZOFFSETFROM:+0200
TZOFFSETTO:+0100
TZNAME:CET
DTSTART:20231029T010000
END:STANDARD
END:VTIMEZONE
BEGIN:VEVENT
DTSTART;TZID=Europe/Madrid:20230518T200000
DTEND;TZID=Europe/Madrid:20230518T200000
DTSTAMP:20260422T082742
CREATED:20230503T091123Z
LAST-MODIFIED:20230506T184844Z
UID:62711-1684440000-1684440000@www.mieres.es
SUMMARY:Presentación del libro: "Utopías digitales. Imaginar el fin del capitalismo"\, de Ekaitz Cancela
DESCRIPTION:  \n \nPresentación del libro \nUtopías digitales. Imaginar el fin del capitalismo\nde Ekaitz Cancela\n \nEditorial Verso Libros \nJueves\, 18 de mayo de 2023. 20:00h. \nSalón de actos de la Casa de Cultura Teodoro Cuesta\nEntrada libre hasta completar aforo \n\n  \nEl autor trata de dibujar los contornos del sistema que a día de hoy reina en cada esfera de nuestra vida al tiempo que presenta toda una serie de experiencia históricas para pensar en las alternativas. Cada uno de los ensayos que componen este libro se adentran en las infraestructuras que nos subyacen\, la urgencia climática y la manera en que los territorios han sido roturados por la tecnología. Mediante estas constelaciones\, el autor plantea utopías digitales que han quedado desterradas de nuestro recuerdo tras la Guerra Fría. Son experiencias históricas ocurridas en el Sur\, en América Latina\, India\, Asia o África\, que fueron capaces de imaginar mundos distintos al capitalista. \n  \nEkaitz Cancela es un periodista que investiga las transformaciones estructurales del capitalismo\, sus expresiones culturales y la posición de Europa en el mundo\, y cuyos artículos aparecen regularmente en medios como La Marea o El Salto y milita en su nodo vasco\, Hordago. Actualmente trabaja como editor en la plataforma de curación de contenido The Syllabus y forma parte del Consejo de Director de su institución hermana\, Center for the Advancement of Infrastructural Imagination. Está terminando un doctorado sobre la transformación del Estado en la era digital en el grupo Tecnopolítica del CNSC/IN3 de la Universidad Oberta de Catalunya (UOC). \n\n 
URL:https://www.mieres.es/evento/presentacion-del-libro-utopias-digitales-imaginar-el-fin-del-capitalismo-de-ekaitz-cancela/
LOCATION:Casa de Cultura Teodoro Cuesta\, Calle Manuel Llaneza\, 8\, Mieres\, Asturias\, 33600\, España
CATEGORIES:Letras
ATTACH;FMTTYPE=image/jpeg:https://www.mieres.es/wp-content/uploads/2023/05/utopias-digitales-txalaparta-presentacion-mieres.jpg
GEO:43.2502294;-5.7729571
X-APPLE-STRUCTURED-LOCATION;VALUE=URI;X-ADDRESS=Casa de Cultura Teodoro Cuesta Calle Manuel Llaneza 8 Mieres Asturias 33600 España;X-APPLE-RADIUS=500;X-TITLE=Calle Manuel Llaneza\, 8:geo:-5.7729571,43.2502294
END:VEVENT
END:VCALENDAR