BEGIN:VCALENDAR
VERSION:2.0
PRODID:-//Ayuntamiento de Mieres - ECPv5.16.1.1//NONSGML v1.0//EN
CALSCALE:GREGORIAN
METHOD:PUBLISH
X-WR-CALNAME:Ayuntamiento de Mieres
X-ORIGINAL-URL:https://www.mieres.es
X-WR-CALDESC:Eventos para Ayuntamiento de Mieres
BEGIN:VTIMEZONE
TZID:Europe/Madrid
BEGIN:DAYLIGHT
TZOFFSETFROM:+0100
TZOFFSETTO:+0200
TZNAME:CEST
DTSTART:20230326T010000
END:DAYLIGHT
BEGIN:STANDARD
TZOFFSETFROM:+0200
TZOFFSETTO:+0100
TZNAME:CET
DTSTART:20231029T010000
END:STANDARD
END:VTIMEZONE
BEGIN:VEVENT
DTSTART;TZID=Europe/Madrid:20230913T190000
DTEND;TZID=Europe/Madrid:20230913T190000
DTSTAMP:20260422T021940
CREATED:20230907T113815Z
LAST-MODIFIED:20230911T073340Z
UID:64334-1694631600-1694631600@www.mieres.es
SUMMARY:Presentación de los libros: "Salvador Allende. Biografía política\, semblanza humana" y "La vida es eterna. Biografía de Víctor Jara"\, de Mario Amorós
DESCRIPTION:CHILE\nEN LOS 50 AÑOS DEL GOLPE DE ESTADO\n50 aniversario de la muerte de Allende (1973-2023) \nPresentación de los libros: \n\n– Salvador Allende. Biografía política\, semblanza humana\n– La vida es eterna. Biografía de Víctor Jara\nde Mario Amorós\nCon la participación de su autor\, presentado por Nuria Ordóñez\, concejala de Memoria Democrática del Ayto. de Mieres \n\n\nSalón de Actos de la Casa de Cultura Teodoro Cuesta\nEntrada gratuita hasta completar aforo. \n\n\n\n\n\nSalvador Allende. Biografía política\, semblanza humana (Ed. Capitán Swing)\nEl 11 de septiembre de 1973\, Salvador Allende se convirtió en un mito. El bombardeo de La Moneda\, la belleza y el dramatismo de sus últimas palabras y su inmolación en defensa del desarrollo democrático de Chile otorgaron a su nombre una dimensión universal. A cincuenta años de aquellos hechos que conmovieron al mundo\, esta biografía va más allá del mito. Con la agilidad del periodista y el rigor del historiador\, Mario Amorós relata de manera minuciosa su trayectoria política y traza una cuidada semblanza humana. En el transcurso de estas páginas descubrimos sus raíces familiares y conocemos al muchacho que\, de la mano de un carpintero anarquista\, se aproximó a las ideas emancipatorias; al médico de profunda vocación social que desde 1933 participó en la fundación y expansión del Partido Socialista; al ministro de Salud del Frente Popular; al diputado y senador que durante un cuarto de siglo promovió una legislación avanzada; al líder que a lo largo de dos décadas unió a la izquierda y al revolucionario que preconizó el socialismo «en democracia\, pluralismo y libertad». Medio siglo después\, los valores y las causas de Salvador Allende conservan plena vigencia y mantienen viva su figura. \n  \nLa vida es eterna. Biografía de Víctor Jara (Ed. B -Penguin-)\n\nA lo largo de estas páginas\, narra la infancia de Víctor Jara en el mundo rural\, cuando su madre\, Amanda\, le dio a conocer la música de los campesinos; su juventud en la humilde población Los Nogales de Santiago de Chile\, los días en un seminario católico\, el servicio militar en el ejército y su incorporación a la vanguardista Escuela de Teatro de la Universidad de Chile; la consagración como director teatral\, su relación sentimental con Joan Turner y la vida familiar. \nTambién profundiza en su intensa actividad como solista\, que alcanzó la etapa más fértil cuando apoyó a la Unidad Popular y al presidente Salvador Allende como militante comunista. Y relata el día trágico del golpe de Estado\, la posterior detención y tortura y sus últimos instantes a partir de una fuente excepcional: los miles de páginas del proceso judicial instruido para esclarecer su asesinato. \nCuando se cumplen cincuenta años de aquel crimen\, la figura de Víctor Jara y sus canciones permanecen vivas. «Canto que ha sido valiente / siempre será canción nueva»\, profetizó en «Manifiesto»\, una de sus últimas composiciones. Mario Amorós ha escrito un libro imprescindible. \n  \nMARIO AMORÓS (Alicante\, 1973) es licenciado y doctor en Historia por la Universidad de Barcelona y licenciado en Periodismo por la Universidad Complutense de Madrid (UCM). Ha sido profesor invitado en la Universidad de Chile y formó parte del comité asesor de la Cátedra de Memoria Histórica del Siglo XX de la UCM. Es autor de las biografías Allende (2013)\, Miguel Enríquez. Un nombre en las estrellas (2014)\, Neruda. El príncipe de los poetas (2015) y Pinochet. Biografía militar y política (2019)\, publicadas en Ediciones B\, al igual que su investigación Entre la araña y la flecha. La trama civil contra la Unidad Popular (2020). Escribe en medios de comunicación de Chile y España. \n  \n\n\n\n\nEl historiador y periodista Mario Amorós estará el 13 de septiembre en Mieres presentando dos nuevas obras sobre Chile en el marco de los 50 años del Golpe de estado. Una biografía sobre el cantautor popular Víctor Jara\, “la Vida es Eterna” (que apela a uno de los versos de sus cantos)\, y una renovada y actualizada edición de la biografía de Salvador Allende\, “Biografía política\, semblanza humana” que salía esta semana en las librerías españolas. \nEl golpe militar en Chile\, con el apoyo directo de EEUU\, tuvo una enorme trascendencia no solo latinoamericana sino en el ámbito internacional\, por el corte brutal de una construcción democrática popular\, y mucha influencia en nuestra tierra a donde llegaron numerosas personas al exilio político. \nMario Amorós\, valenciano\, que nacía precisamente en el año del golpe pinochetista\, había presentado en Mieres la obra sobre Pasionaria\, pero también es especialista en Chile. Entre sus obras\, destacan: \n2001: Chile\, la herida abierta . \n2004: Después de la lluvia. Chile\, la memoria herida . \n2007: Antonio Llidó\, un sacerdote revolucionario . \n2008: La memoria rebelde. Testimonios sobre el exterminio del MIR: De Pisagua a Malloco. \n2008: Compañero Presidente. Salvador Allende\, una vida por la democracia y el socialismo. \n2012: Sombras sobre Isla Negra . \n2013: Allende. La biografía . \n2014: Miguel Enríquez. Un nombre en las estrellas. \n2015: Neruda. El príncipe de los poetas . ​ \n2016: Una huella imborrable. Antonio Llidó\, el sacerdote detenido-desaparecido. ​ \n2016: Una leyenda hecha guitarra. Eulogio Dávalos. Memorias. Con prólogo de Joan Manuel Serrat. \n2017: Conversación íntima con Karen . \n2018: Rapa Nui. Una herida en el océano. ​ \n2019: Pinochet. Biografía militar y política. ​ \n2020: Entre la araña y la flecha. La trama civil contra la Unidad Popular. \n2023: La Vida es eterna. Biografía de Víctor Jara.  \n2023: Salvador Allende. Biografia política\, semblanza humana.
URL:https://www.mieres.es/evento/presentacion-libros-mario-amoros/
LOCATION:Casa de Cultura Teodoro Cuesta\, Calle Manuel Llaneza\, 8\, Mieres\, Asturias\, 33600\, España
CATEGORIES:Letras,Memoria Democrática
ATTACH;FMTTYPE=image/jpeg:https://www.mieres.es/wp-content/uploads/2023/09/Cartel-libros-Amoros-Chile-scaled.jpg
GEO:43.2502294;-5.7729571
X-APPLE-STRUCTURED-LOCATION;VALUE=URI;X-ADDRESS=Casa de Cultura Teodoro Cuesta Calle Manuel Llaneza 8 Mieres Asturias 33600 España;X-APPLE-RADIUS=500;X-TITLE=Calle Manuel Llaneza\, 8:geo:-5.7729571,43.2502294
END:VEVENT
END:VCALENDAR