BEGIN:VCALENDAR
VERSION:2.0
PRODID:-//Ayuntamiento de Mieres - ECPv5.16.1.1//NONSGML v1.0//EN
CALSCALE:GREGORIAN
METHOD:PUBLISH
X-WR-CALNAME:Ayuntamiento de Mieres
X-ORIGINAL-URL:https://www.mieres.es
X-WR-CALDESC:Eventos para Ayuntamiento de Mieres
BEGIN:VTIMEZONE
TZID:Europe/Madrid
BEGIN:DAYLIGHT
TZOFFSETFROM:+0100
TZOFFSETTO:+0200
TZNAME:CEST
DTSTART:20230326T010000
END:DAYLIGHT
BEGIN:STANDARD
TZOFFSETFROM:+0200
TZOFFSETTO:+0100
TZNAME:CET
DTSTART:20231029T010000
END:STANDARD
END:VTIMEZONE
BEGIN:VEVENT
DTSTART;TZID=Europe/Madrid:20231003T193000
DTEND;TZID=Europe/Madrid:20231003T193000
DTSTAMP:20260422T010833
CREATED:20230925T114735Z
LAST-MODIFIED:20230925T115301Z
UID:64666-1696361400-1696361400@www.mieres.es
SUMMARY:Presentación del libro: "Desindustrialización: memoria\, patrimonio y representaciones"
DESCRIPTION:  \n\nPresentación del libro: \n\nDesindustrialización: memoria\, patrimonio y representaciones\nRubén Vega [Ed.] Irene Díaz [Ed.]\nEditorial Trea \n\nLa presentación correrá a cargo del economista Darío Díaz  y contará con la presencia de Rubén Vega e Irene Díaz\, coordinadores de la monografía. \n  \nMartes\, 3 de octubre\, 19:30h. \n\nSalón de actos de la Casa de Cultura Teodoro Cuesta\nEntrada gratuita hasta completar aforo. \n\n  \n\n  \n\nLa reflexión sobre los procesos desindustrializadores que en el último medio siglo han transformado profundamente ciudades\, regiones y hasta países enteros ha de mirarse en el espejo anglosajón y centroeuropeo. De ahí provienen las obras de referencia y el bagaje conceptual que les da soporte. En comparación\, la literatura en castellano\, aparte de escasa\, adolece de una evidente desconexión respecto a los vientos dominantes en el ámbito académico. El presente libro pretende alentar aproximaciones interdisciplinares y comparadas\, con un ojo puesto en un caso concreto (el asturiano) y otro en diversos procesos más o menos dispares de desindustrialización o ya postindustriales. \nEste volumen reúne una treintena de textos concebidos desde herramientas de la historia\, la sociología\, la geografía\, la historia del arte\, la filología…\, y anclados en experiencias referidas a Asturias\, Euskadi\, Cataluña y Madrid\, así como con aportaciones desde Brasil\, Argentina\, Chile\, Italia\, Reino Unido\, Francia y Alemania. Busca relacionar las vertientes materiales con las intangibles\, explorar las narrativas y la memoria colectiva e incorporar las manifestaciones culturales y artísticas como parte del mismo proceso. Relacionar un pasado industrial con posibles futuros postindustriales y ver en qué medida constituye un activo en términos de identidades colectivas\, patrimonio cultural y recursos materiales e inmateriales o bien encierra un carácter traumático. \nEn definitiva\, la propuesta se dirige a (re)pensar la desindustrialización tratando de abarcar su complejidad y abrirse a una más cabal captación de sus múltiples facetas. Entremezcla los testimonios orales\, las identidades\, la huella de las luchas y los procesos de construcción de la memoria; combina la reutilización y resignificación de espacios industriales con los efectos territoriales del declive y las transformaciones del trabajo; atiende a las maneras de abordar el patrimonio industrial en todo el mundo y desciende a casos de musealización y patrimonialización; aborda la creación literaria\, cinematográfica\, musical\, de artes plásticas y escénicas que gira en torno a la huella del pasado industrial y las secuelas de la desindustrialización \n  \n\n\n\n\n 
URL:https://www.mieres.es/evento/presentacion-del-libro-desindustrializacion-memoria/
LOCATION:Casa de Cultura Teodoro Cuesta\, Calle Manuel Llaneza\, 8\, Mieres\, Asturias\, 33600\, España
CATEGORIES:Letras
ATTACH;FMTTYPE=image/jpeg:https://www.mieres.es/wp-content/uploads/2023/09/Desindustrializacion-memoria-patrimonio-y-representaciones.jpg
GEO:43.2502294;-5.7729571
X-APPLE-STRUCTURED-LOCATION;VALUE=URI;X-ADDRESS=Casa de Cultura Teodoro Cuesta Calle Manuel Llaneza 8 Mieres Asturias 33600 España;X-APPLE-RADIUS=500;X-TITLE=Calle Manuel Llaneza\, 8:geo:-5.7729571,43.2502294
END:VEVENT
END:VCALENDAR