BEGIN:VCALENDAR
VERSION:2.0
PRODID:-//Ayuntamiento de Mieres - ECPv5.16.1.1//NONSGML v1.0//EN
CALSCALE:GREGORIAN
METHOD:PUBLISH
X-WR-CALNAME:Ayuntamiento de Mieres
X-ORIGINAL-URL:https://www.mieres.es
X-WR-CALDESC:Eventos para Ayuntamiento de Mieres
BEGIN:VTIMEZONE
TZID:Europe/Madrid
BEGIN:DAYLIGHT
TZOFFSETFROM:+0100
TZOFFSETTO:+0200
TZNAME:CEST
DTSTART:20230326T010000
END:DAYLIGHT
BEGIN:STANDARD
TZOFFSETFROM:+0200
TZOFFSETTO:+0100
TZNAME:CET
DTSTART:20231029T010000
END:STANDARD
END:VTIMEZONE
BEGIN:VEVENT
DTSTART;TZID=Europe/Madrid:20231027T200000
DTEND;TZID=Europe/Madrid:20231027T200000
DTSTAMP:20260422T005435
CREATED:20231013T100948Z
LAST-MODIFIED:20231026T143425Z
UID:64965-1698436800-1698436800@www.mieres.es
SUMMARY:Presentación del libro: "La patria en la cartera. Pasado y presente de la corrupción en España"\, de Joaquim Bosch
DESCRIPTION:  \n\nPresentación del libro: \n\nLa patria en la cartera\nPasado y presente de la corrupción en España\nde Joaquim Bosch\nEditorial Ariel \n  \n\nViernes\, 27 de octubre\, 20:00h. \n\nSalón de actos de la Casa de Cultura Teodoro Cuesta\nEntrada gratuita hasta completar aforo. \n\n  \n  \nLa patria en la cartera es una reflexión argumentada que bucea en las singularidades del fenómeno de la corrupción en nuestro país. Para ello\, Joaquim Bosch aborda estos problemas desde una perspectiva novedosa\, a través de una visión transversal que engloba disciplinas como la historia\, el derecho\, la política criminal\, la ética o la sociología. Un estudio dinámico del problema más lacerante de la política española. \nLa tesis principal es que\, aunque la corrupción en España viene de muy antiguo\, es en la dictadura de Franco cuando adquiere dimensiones institucionales que continúan hasta la actualidad. La nueva democracia incurrió en continuidades\, pero también necesariamente en discontinuidades derivadas del nuevo sistema de partidos. La falta de desarrollo institucional impidió una ruptura completa con algunas prácticas del régimen anterior y posibilitó nuevas formas de corrupción propias de las circunstancias económicas de estas últimas décadas. \nEsta obra\, resultado de una inmensa y exhaustiva documentación bibliográfica\, se nutre asimismo del examen de cientos de sentencias de un amplio periodo\, desde antes del franquismo hasta nuestros días\, para analizar las dinámicas más habituales de la corrupción. \n  \n«La corrupción suele mencionarse como una de nuestras peculiaridades. Algo así sería impensable en otros países europeos\, más identificados con la puntualidad\, la excelencia organizativa o la precisión para fabricar relojes. Sin embargo\, en España se ha asumido con naturalidad atávica que las conductas indecentes forman parte de nuestro paisaje institucional. Los reproches ciudadanos se complementan con cierta resignación. Han ido pasando los años\, las legislaturas y los sucesivos sistemas políticos en los vaivenes de nuestra agitada historia\, pero esa vergonzosa patología se ha mantenido y nunca parece que vaya a limpiarse la mugre de nuestros establos más sucios.» \n  \n \n\nJoaquim Bosch es en la actualidad juez del Juzgado de Primera Instancia e Instrucción n.º 1 de Moncada. Colaborador habitual en diferentes publicaciones jurídicas y medios de comunicación\, es coautor de El secuestro de la justicia. Investigador y docente para la formación de magistrados\, ha llevado a cabo diversos estudios sobre aspectos procesales relativos a la prueba\, la naturaleza de las partes en el procedimiento o la problemática de los matrimonios en el ámbito del Registro Civil. También ha participado como ponente en congresos de ámbito estatal e internacional\, en el Máster de Estudios Interdisciplinares de Género de la Universidad de Salamanca\, el Máster de Prevención de la Violencia de Género de la Universitat de les Illes Balears y eli Seminario Internacional de Tegucigalpa sobre la corrupción en Centroamérica. \n\n  \n  \n\n\n\n\n 
URL:https://www.mieres.es/evento/presentacion-del-libro-la-patria-en-la-cartera-pasado-y-presente-de-la-corrupcion-en-espana-de-joaquim-bosch/
LOCATION:Casa de Cultura Teodoro Cuesta\, Calle Manuel Llaneza\, 8\, Mieres\, Asturias\, 33600\, España
CATEGORIES:Letras
ATTACH;FMTTYPE=image/jpeg:https://www.mieres.es/wp-content/uploads/2023/10/la-patria-en-la-cartera-bosch-mieres.jpg
GEO:43.2502294;-5.7729571
X-APPLE-STRUCTURED-LOCATION;VALUE=URI;X-ADDRESS=Casa de Cultura Teodoro Cuesta Calle Manuel Llaneza 8 Mieres Asturias 33600 España;X-APPLE-RADIUS=500;X-TITLE=Calle Manuel Llaneza\, 8:geo:-5.7729571,43.2502294
END:VEVENT
END:VCALENDAR