BEGIN:VCALENDAR
VERSION:2.0
PRODID:-//Ayuntamiento de Mieres - ECPv5.16.1.1//NONSGML v1.0//EN
CALSCALE:GREGORIAN
METHOD:PUBLISH
X-WR-CALNAME:Ayuntamiento de Mieres
X-ORIGINAL-URL:https://www.mieres.es
X-WR-CALDESC:Eventos para Ayuntamiento de Mieres
BEGIN:VTIMEZONE
TZID:Europe/Madrid
BEGIN:DAYLIGHT
TZOFFSETFROM:+0100
TZOFFSETTO:+0200
TZNAME:CEST
DTSTART:20230326T010000
END:DAYLIGHT
BEGIN:STANDARD
TZOFFSETFROM:+0200
TZOFFSETTO:+0100
TZNAME:CET
DTSTART:20231029T010000
END:STANDARD
END:VTIMEZONE
BEGIN:VEVENT
DTSTART;TZID=Europe/Madrid:20231101T183000
DTEND;TZID=Europe/Madrid:20231101T183000
DTSTAMP:20260421T233759
CREATED:20231023T111114Z
LAST-MODIFIED:20231023T111114Z
UID:65236-1698863400-1698863400@www.mieres.es
SUMMARY:Presentación del libro: "Melina"\, de Juan Ramón Lucas\, acompañado por Víctor Manuel
DESCRIPTION:Presentación del libro: \n\nMelina\nde Juan Ramón Lucas\nCon la participación de su autor\, acompañado por Víctor Manuel \n  \nContraluz Editorial \n\nMiércoles\, 1 de noviembre\, 18:30h. \n\nAuditoriu Teodoro Cuesta\nEntrada gratuita hasta completar aforo. \n\n  \nMelina\, hija de la Asturias minera y revolucionaria de 1934\, nace cuando no debe y donde no se la espera: en la víspera de una guerra civil y en un seno familiar atormentado por la maldición y el desafecto del padre. Los estragos de la guerra y la implacable represión que se abate sobre su familia forjan el carácter determinado de Melina\, quien\, inasequible al desaliento\, se sobrepone a todos los obstáculos. En busca de su independencia que la geografía y la época no pueden brindarle\, Melina emprende un viaje a través de épocas y mares y emigra a América. Allí será testigo sucesos dramáticos que la marcarán para siempre y que propiciarán su regreso a una España atrapada en las garras de la represión política. Con una determinación que no conoce limitaciones\, se las arreglará para progresar y alcanzar el éxito en circunstancias hostiles. \nBasada en una historia real\, Juan Ramón Lucas vuelve a poner al servicio de la literatura su gran capacidad fabuladora y su extraordinario rigor a la hora de documentar sus novelas. La historia de Melina es la de muchas mujeres que\, silenciosas y constantes\, marcaron sendas en el camino a la igualdad que nunca llegaron a disfrutar. \n  \nJuan Ramón Lucas Fernández\, es un periodista español con más de cuarenta años de trayectoria profesional en radio\, televisión y prensa. Ha recibido los premios más importantes de comunicación audiovisual en España y ha trabajado en las principales televisiones públicas y privadas. \nNacido en Madrid de padres asturianos\, de Mieres\, pasó toda su infancia en Asturias y se licenció en Periodismo en la Universidad Complutense de Madrid. Desde 1979 ha trabajado como redactor\, presentador\, director\, productor y columnista\, y es autor de los libros Hablemos sobre felicidad y Diario de vida y de las novelas La maldición de la Casa Grande y Agua de luna. \n  \n  \n\n\n\n\n 
URL:https://www.mieres.es/evento/presentacion-del-libro-melina-de-juan-ramon-lucas-acompanado-por-victor-manuel/
LOCATION:Casa de Cultura Teodoro Cuesta\, Calle Manuel Llaneza\, 8\, Mieres\, Asturias\, 33600\, España
CATEGORIES:Letras
ATTACH;FMTTYPE=image/jpeg:https://www.mieres.es/wp-content/uploads/2023/10/Cartel-LIBRO-Melina-Mieres-scaled.jpg
GEO:43.2502294;-5.7729571
X-APPLE-STRUCTURED-LOCATION;VALUE=URI;X-ADDRESS=Casa de Cultura Teodoro Cuesta Calle Manuel Llaneza 8 Mieres Asturias 33600 España;X-APPLE-RADIUS=500;X-TITLE=Calle Manuel Llaneza\, 8:geo:-5.7729571,43.2502294
END:VEVENT
END:VCALENDAR